BEGIN:VCALENDAR
VERSION:2.0
PRODID:-//NTOI - ECPv6.2.9//NONSGML v1.0//EN
CALSCALE:GREGORIAN
METHOD:PUBLISH
X-ORIGINAL-URL:https://desfin.networkvillagecafe.com
X-WR-CALDESC:Events for NTOI
REFRESH-INTERVAL;VALUE=DURATION:PT1H
X-Robots-Tag:noindex
X-PUBLISHED-TTL:PT1H
BEGIN:VTIMEZONE
TZID:Europe/Dublin
BEGIN:STANDARD
TZOFFSETFROM:+0000
TZOFFSETTO:+0100
TZNAME:IST
DTSTART:20200329T010000
END:STANDARD
BEGIN:DAYLIGHT
TZOFFSETFROM:+0100
TZOFFSETTO:+0000
TZNAME:GMT
DTSTART:20201025T010000
END:DAYLIGHT
END:VTIMEZONE
BEGIN:VEVENT
DTSTART;TZID=Europe/Dublin:20200123T080000
DTEND;TZID=Europe/Dublin:20201231T170000
DTSTAMP:20260423T183314
CREATED:20200123T143559Z
LAST-MODIFIED:20201105T163548Z
UID:11181-1579766400-1609434000@desfin.networkvillagecafe.com
SUMMARY:NUTRITIONAL GENOMICS INTERPRETATION PROGRAMME For Healthcare and Nutrition Professionals
DESCRIPTION:Nutritional Genomics Interpretation Programme for Healthcare and Nutrition Professionals \nmyDNAhealth and Qube Vision present the world’s first accredited e-learningnutritional genomics interpretation programme. \nTogether\, myDNAhealth and Qube Vision are offering Health and NutritionalProfessionals a unique opportunity to join these pioneering online courses. \nAbout the e-learning programmeThe Nutritional Genomics Interpretation programme comprises four courses coveringthe following topics:1. Molecular and Personalised Nutritional Genomics (foundation course) \n2. Carbohydrate Behaviours and Lipid Metabolism \n3. Immune Mediated Inflammatory Conditions and Nutrient Sensitivity \n4. Detoxification\, Oestrogen Balance and Methylation \n5. Clinical Application Study \nINCLUDED IN THE COURSE: Digital tutor delivering lessons with engaging audio and visual content\, glossary adn bibliography\, full script access\, applied clinical application takeaways\, online assessments and downloadable graphics. \nSpecial offer: £187.50 FOR ALL COURSES (NORMALLY £250) \n25% DISCOUNT UNTIL 31 DECEMBER 2020 (SAVE £62.50) \nSecure your place today! \nhttps://mydnahealth.co.uk/product/online-courses/ \n  \n 
URL:https://desfin.networkvillagecafe.com/event/nutritional-genomics-interpretation-programme-for-healthcare-and-nutrition-professionals/
LOCATION:Online
CATEGORIES:CPD Events
ATTACH;FMTTYPE=image/jpeg:https://desfin.networkvillagecafe.com/wp-content/uploads/2020/01/logo_top_300x300.jpg
END:VEVENT
BEGIN:VEVENT
DTSTART;TZID=Europe/Dublin:20200306T080000
DTEND;TZID=Europe/Dublin:20201231T170000
DTSTAMP:20260423T183314
CREATED:20200306T185236Z
LAST-MODIFIED:20200306T185240Z
UID:11388-1583481600-1609434000@desfin.networkvillagecafe.com
SUMMARY:Certificate in Personalised Sports Nutrition
DESCRIPTION:Certificate in Personalised Sports Nutrition\nLearn how peak performance cannot be achieved without feeding the body optimum health and addressing imbalances first\nOnline Course with IHS \nCost: €495  \nTo Book: https://learn.instituteofhealthsciences.com/course?courseid=personalised-sports-nutrition
URL:https://desfin.networkvillagecafe.com/event/certificate-in-personalised-sports-nutrition/
LOCATION:Online\, Ireland
CATEGORIES:CPD Events
ATTACH;FMTTYPE=image/jpeg:https://desfin.networkvillagecafe.com/wp-content/uploads/2019/05/IHS-logo-e1611334814169.jpg
END:VEVENT
BEGIN:VEVENT
DTSTART;TZID=Europe/Dublin:20200306T080000
DTEND;TZID=Europe/Dublin:20201231T170000
DTSTAMP:20260423T183314
CREATED:20200306T185727Z
LAST-MODIFIED:20200306T185732Z
UID:11392-1583481600-1609434000@desfin.networkvillagecafe.com
SUMMARY:Certificate in Stress Management
DESCRIPTION:Certificate in Stress Management\nFor anybody who wants to learn more about what stress really is\, how it affects the mind and body and what can be done to prevent\, manage and control stress\nOnline Course from the Institute of Health Sciences. \nCost €249 \nTo Book: https://learn.instituteofhealthsciences.com/course?courseid=stress-management 
URL:https://desfin.networkvillagecafe.com/event/certificate-in-stress-management/
LOCATION:Online\, Ireland
CATEGORIES:CPD Events
ATTACH;FMTTYPE=image/jpeg:https://desfin.networkvillagecafe.com/wp-content/uploads/2019/05/IHS-logo-e1611334814169.jpg
END:VEVENT
BEGIN:VEVENT
DTSTART;TZID=Europe/Dublin:20200306T080000
DTEND;TZID=Europe/Dublin:20201231T170000
DTSTAMP:20260423T183314
CREATED:20200306T190129Z
LAST-MODIFIED:20200306T190352Z
UID:11396-1583481600-1609434000@desfin.networkvillagecafe.com
SUMMARY:Coaching Skills for Everyday Life
DESCRIPTION:Coaching Skills for Everyday Life\nLearn how to transform your mindset and many areas of your life using key ‘coaching’ skills and techniques\nOnline course from the Institute of Health Sciences \nCost € 249 \nTo Book: https://learn.instituteofhealthsciences.com/course?courseid=csl \n 
URL:https://desfin.networkvillagecafe.com/event/coaching-skills-for-everyday-life/
LOCATION:Online\, Ireland
CATEGORIES:CPD Events
ATTACH;FMTTYPE=image/jpeg:https://desfin.networkvillagecafe.com/wp-content/uploads/2019/05/IHS-logo-e1611334814169.jpg
END:VEVENT
BEGIN:VEVENT
DTSTART;TZID=Europe/Dublin:20200306T080000
DTEND;TZID=Europe/Dublin:20201231T170000
DTSTAMP:20260423T183314
CREATED:20200306T190711Z
LAST-MODIFIED:20200306T190714Z
UID:11402-1583481600-1609434000@desfin.networkvillagecafe.com
SUMMARY:Fundamentals of Plant-Based Nutrition
DESCRIPTION:Fundamentals of Plant-Based Nutrition\nThis course offers practical\, research-based information on different models of plant-based eating and how to apply them\nOnline course from the Institute of Health Sciences \nCost € 249 \nTo Book: https://learn.instituteofhealthsciences.com/course?courseid=plant-based-nutrition
URL:https://desfin.networkvillagecafe.com/event/fundamentals-of-plant-based-nutrition/
LOCATION:Online\, Ireland
CATEGORIES:CPD Events
ATTACH;FMTTYPE=image/jpeg:https://desfin.networkvillagecafe.com/wp-content/uploads/2019/05/IHS-logo-e1611334814169.jpg
END:VEVENT
BEGIN:VEVENT
DTSTART;TZID=Europe/Dublin:20200702T090000
DTEND;TZID=Europe/Dublin:20200702T131500
DTSTAMP:20260423T183314
CREATED:20200618T174035Z
LAST-MODIFIED:20200618T174257Z
UID:11590-1593680400-1593695700@desfin.networkvillagecafe.com
SUMMARY:Cognitive Behaviour Therapy & Motivational Interviewing Techniques to Support Lifestyle and Weight Loss Changes
DESCRIPTION:Cognitive Behaviour Therapy & Motivational Interviewing Techniques to Support Lifestyle and Weight Loss Changes \nOVERVIEW: \nThis live interactive workshop is delivered over 3 half days: \nThursday 2nd July\, 9am – 1.15pm \nFriday 3rd July\, 9am – 1.15pm \nFriday 10th July\, 9am – 1.15pm \n\nWorkshop Outline: \n2nd July 9am – 1.15pm \nOverview of CBT \nNeuroscience of behaviour change \n\n3rd July. 9am – 1.15pm \nResearch overview on the effectiveness of CBT on weight management \nApplication in practice \nCBT Interventions \n\n10th July. 9am – 1.15pm \nIntroduction to Motivational Interviewing \nHow to integrate MI into CBT \nMI interventions \n\nPRESENTER PROFILE: \nSusi Lodola is a Psychotherapist with many years of study in psychology\, psychotherapy and holds a MSc Cognitive Behaviour Therapy & Motivational Interviewing. \nIn addition\, she has attended the Beck Institute in Philadelphia to further her knowledge on applying CBT for weight loss in clinical setting. \nThrough her extensive studies combined with her own incredible weight loss and fitness journey\, she has developed an interest in helping people achieve a healthy lifestyle and lose weight. \nThis has led her to develop the MIND OVER BODY weight loss programme™. \nThe MIND OVER BODY WEIGHT MANAGEMENT PROGRAMME™ is also available under license to professionals. \nTo Book: https://therapyacademy.ie/details/online/636 \nCPD 14  \nCost €230
URL:https://desfin.networkvillagecafe.com/event/cognitive-behaviour-therapy-motivational-interviewing-techniques-to-support-lifestyle-and-weight-loss-changes/
LOCATION:Online\, Ireland
CATEGORIES:CPD Events
ATTACH;FMTTYPE=image/png:https://desfin.networkvillagecafe.com/wp-content/uploads/2020/06/Copy-of-Copy-of-Copy-of-Live-Interactive-Training-Workshop-2.png
ORGANIZER;CN="Susi Lodola Counselling":MAILTO:info@susilodolacounselling.com
END:VEVENT
BEGIN:VEVENT
DTSTART;TZID=Europe/Dublin:20200702T093000
DTEND;TZID=Europe/Dublin:20200702T170000
DTSTAMP:20260423T183314
CREATED:20200703T151043Z
LAST-MODIFIED:20200703T151051Z
UID:11636-1593682200-1593709200@desfin.networkvillagecafe.com
SUMMARY:Interpreting Bloods with Marie Reilly - Part 1
DESCRIPTION:Interpreting Bloods with Marie Reilly – Part 1\n\n\n\n\nThis seminar will cover the most commonly used tests to determine pathological abnormalities in the following areas: Haematology\, Metabolism\n\n\n\n\n\n\nAbout this Event\n\n\nThis is a Health Care Practitioner only event (Naturopaths\, nutritionists\, herbalists\, osteopaths\, acupuncturist\, personal trainers\, Nutritional students\, Herbal students\, Kinesiologists). Please note those that book and are not a practitioner will not able allowed into the event. \nOn successful completion of this seminar\, practitioners will be able to: \n• Critically analyze and interpret a variety of clinical laboratory test results for their patients. \n• Critically evaluate abnormal\, borderline and inconsistent test results in order to identify abnormalities. \n• Combine the results from orthodox laboratory tests and clinical evaluation to form an integrated and holistic approach to analysis and interpretation. \n• Integrate laboratory test results with history taking and clinical examinations\, in order to formulate a diagnosis and determine the most appropriate approach to treatment. \nDate And Time\n\nThu\, 2 July 2020 \n09:30 – 17:00 IST \nAdd to Calendar \n\nLocation\n\nOnline Event \nTo Book: https://www.eventbrite.ie/e/interpreting-bloods-with-marie-reilly-part-1-tickets-107681083018 \nCost: €35
URL:https://desfin.networkvillagecafe.com/event/interpreting-bloods-with-marie-reilly-part-1/
LOCATION:Online\, Ireland
CATEGORIES:CPD Events
ATTACH;FMTTYPE=image/jpeg:https://desfin.networkvillagecafe.com/wp-content/uploads/2019/12/Nutri-Advanced.jpg
END:VEVENT
BEGIN:VEVENT
DTSTART;TZID=Europe/Dublin:20200703T080000
DTEND;TZID=Europe/Dublin:20200703T170000
DTSTAMP:20260423T183314
CREATED:20200703T151549Z
LAST-MODIFIED:20200703T151556Z
UID:11641-1593763200-1593795600@desfin.networkvillagecafe.com
SUMMARY:Interpreting Bloods with Marie Reilly Part 2
DESCRIPTION:Interpreting Bloods with Marie Reilly Part 2\n\n\nThis is a Health Care Practitioner only event (Naturopaths\, nutritionists\, herbalists\, osteopaths\, acupuncturist\, personal trainers\, Nutritional Students\, Herbal students\, Kinesiologists). Please note those that book and are not a practitioner will not able allowed into the event. \nThis seminar is a follow up to the seminar entitled Interpreting Blood Test Results. This seminar will focus on how to use blood test results to accurately diagnose a range of common health problems encountered in clinical practice\, how to differentiate between similar conditions\, and explore different approaches to treatment. \nDate And Time\n\nWed\, 8 July 2020 \n09:30 – 17:00 IST \nAdd to Calendar \n\nLocation\n\nOnline Event \nCost €37 \nCPD points 6 \nTo Book: https://www.eventbrite.ie/e/interpreting-bloods-with-marie-reilly-part-2-tickets-107220994882
URL:https://desfin.networkvillagecafe.com/event/interpreting-bloods-with-marie-reilly-part-2/
LOCATION:Online\, Ireland
CATEGORIES:CPD Events
ATTACH;FMTTYPE=image/jpeg:https://desfin.networkvillagecafe.com/wp-content/uploads/2019/12/Nutri-Advanced.jpg
END:VEVENT
BEGIN:VEVENT
DTSTART;TZID=Europe/Dublin:20200714T190000
DTEND;TZID=Europe/Dublin:20200714T203000
DTSTAMP:20260423T183314
CREATED:20200709T135343Z
LAST-MODIFIED:20200709T135347Z
UID:11648-1594753200-1594758600@desfin.networkvillagecafe.com
SUMMARY:BioCare - Menopause - A Pause For Thought
DESCRIPTION:BioCare: Menopause – A Pause For Thought \nFor many women\, the hormonal transition of middle age comes as a shock. It is a stage of life that is rarely discussed\, leaving many women unprepared and disconnected with the changes happening in their bodies. Menopause carries such negative associations\, a whole host of disruptive symptoms from hot flushes\, insomnia to complete loss of self confidence.  Jules Cattell explores the post reproductive years through a more positive ‘adaptive’ lens\, outlining ways in which we can prepare and support our female clients through their menopausal journey. \nDate: 14th July  \nTime 7 – 8.30 pm \nCPD points 1.5  \nCost: Free \nTo book: https://us02web.zoom.us/webinar/register/WN_1JkvSdffQHKeNKT6WvQqhA
URL:https://desfin.networkvillagecafe.com/event/biocare-menopause-a-pause-for-thought/
LOCATION:Online\, Ireland
CATEGORIES:CPD Events
ATTACH;FMTTYPE=image/png:https://desfin.networkvillagecafe.com/wp-content/uploads/2020/07/Screen-Shot-2020-07-09-at-14.52.38.png
END:VEVENT
BEGIN:VEVENT
DTSTART;TZID=Europe/Dublin:20200715T181500
DTEND;TZID=Europe/Dublin:20200715T203000
DTSTAMP:20260423T183314
CREATED:20200702T165550Z
LAST-MODIFIED:20200702T165557Z
UID:11620-1594836900-1594845000@desfin.networkvillagecafe.com
SUMMARY:Pharma Nord Thyroid Health with Brendan O'Brien - Athlone
DESCRIPTION:Pharma Nord Thyroid Health with Brendan O’Brien \nThe team at Pharma Nord are delighted to announce some events we will hold in person in July!Please find information below on talks in Athlone\, Dublin and Sligo with Brendan O’Brien. All hotels have assured us of the highest standards once they re open\, social distancing will be  adhered to and we will keep the talk to 2 hours in length.\n \n\n        Thyroid Health        Brendan O’Brien will speak on a popular topic – ‘Thyroid Health’ which will cover the points below\, an interactive q&a and protocols associated with the various thyroid conditions.  \nDate: Wednesday 15th July 2020Time: 6.15-8.30pmLocation: Radisson Hotel Athlone \nCPD 2 points  \nCost: Free  \nTo secure your place at the talk\, please log onto https://www.pharmanord.ie/academy \nThyroid Talk Content \n\nDetailed anatomy and physiology of thyroid gland and target receptor function including reference to genetic defects\nExplanation of physiological regulation via HPA axis in response to environmental stimuli\nNutritional regulating cofactors for each step of thyroid function\nOverview of thyroid effect on innate and adaptive immune response\nPutative aetiology and origins of auto immune thyroiditis with focus on Hypothyroidism\nNutritional interventions to support defective physiology & normal function\nStrategies for dealing with non-responsive clients\nCase review.
URL:https://desfin.networkvillagecafe.com/event/pharma-nord-thyroid-health-with-brendan-obrien-athlone/
LOCATION:Radisson Hotel\, Athlone\, Athlone
CATEGORIES:CPD Events
ATTACH;FMTTYPE=image/png:https://desfin.networkvillagecafe.com/wp-content/uploads/2019/05/Pharma-nord-cpd.png
END:VEVENT
BEGIN:VEVENT
DTSTART;TZID=Europe/Dublin:20200722T181500
DTEND;TZID=Europe/Dublin:20200722T203000
DTSTAMP:20260423T183314
CREATED:20200702T170101Z
LAST-MODIFIED:20200702T170108Z
UID:11627-1595441700-1595449800@desfin.networkvillagecafe.com
SUMMARY:Pharma Nord Thyroid Health with Brendan O'Brien - Dublin
DESCRIPTION:Pharma Nord Thyroid Health with Brendan O’Brien – Dublin \nThe team at Pharma Nord are delighted to announce some events we will hold in person in July!        Please find information below on talks in Athlone\, Dublin and Sligo with Brendan O’Brien. All hotels have assured us of the highest standards once they re open\, social distancing will be  adhered to and we will keep the talk to 2 hours in length.\n \n        Thyroid Health \n        Brendan O’Brien will speak on a popular topic – ‘Thyroid Health’ which will cover the points below\, an interactive q&a and protocols associated with the various thyroid conditions.  \nDate: Wednesday 22nd July 2020Time: 6.15-8.30pmLocation: Clayton Hotel Dublin Airport \nCPD points 2 \nCost; Free  \nTo secure your place at the talk\, please log onto https://www.pharmanord.ie/academy \nThyroid Talk Content \n\nDetailed anatomy and physiology of thyroid gland and target receptor function including reference to genetic defects\nExplanation of physiological regulation via HPA axis in response to environmental stimuli\nNutritional regulating cofactors for each step of thyroid function\nOverview of thyroid effect on innate and adaptive immune response\nPutative aetiology and origins of auto immune thyroiditis with focus on Hypothyroidism\nNutritional interventions to support defective physiology & normal function\nStrategies for dealing with non-responsive clients\nCase review.
URL:https://desfin.networkvillagecafe.com/event/pharma-nord-thyroid-health-with-brendan-obrien-dublin/
LOCATION:Clayton Hotel Dublin Airport\, Ireland
CATEGORIES:CPD Events
ATTACH;FMTTYPE=image/png:https://desfin.networkvillagecafe.com/wp-content/uploads/2019/05/Pharma-nord-cpd.png
END:VEVENT
BEGIN:VEVENT
DTSTART;TZID=Europe/Dublin:20200725T100000
DTEND;TZID=Europe/Dublin:20200725T121500
DTSTAMP:20260423T183314
CREATED:20200702T171113Z
LAST-MODIFIED:20200702T171121Z
UID:11631-1595671200-1595679300@desfin.networkvillagecafe.com
SUMMARY:Pharma Nord Thyroid Health with Brendan O'Brien - Sligo
DESCRIPTION:Pharma Nord Thyroid Health with Brendan O’Brien – Sligo \n The team at Pharma Nord are delighted to announce some events we will hold in person in July!        Please find information below on talks in Athlone\, Dublin and Sligo with Brendan O’Brien. All hotels have assured us of the highest standards once they re open\, social distancing will be  adhered to and we will keep the talk to 2 hours in length.\n \n        Thyroid Health \n        Brendan O’Brien will speak on a popular topic – ‘Thyroid Health’ which will cover the points below\, an interactive q&a and protocols associated with the various thyroid conditions.  \nDate: Saturday 25th July 2020Time: 10am – 12.15pmLocation: Clayton Hotel Sligo \nCPD points 2  \nCost: Free  \nTo secure your place at the talk\, please log onto https://www.pharmanord.ie/academy \nThyroid Talk Content \n\nDetailed anatomy and physiology of thyroid gland and target receptor function including reference to genetic defects\nExplanation of physiological regulation via HPA axis in response to environmental stimuli\nNutritional regulating cofactors for each step of thyroid function\nOverview of thyroid effect on innate and adaptive immune response\nPutative aetiology and origins of auto immune thyroiditis with focus on Hypothyroidism\nNutritional interventions to support defective physiology & normal function\nStrategies for dealing with non-responsive clients\nCase review.
URL:https://desfin.networkvillagecafe.com/event/pharma-nord-thyroid-health-with-brendan-obrien-sligo/
LOCATION:Clayon Hotel Sligo\, Sligo
CATEGORIES:CPD Events
ATTACH;FMTTYPE=image/png:https://desfin.networkvillagecafe.com/wp-content/uploads/2019/05/Pharma-nord-cpd.png
END:VEVENT
END:VCALENDAR