BEGIN:VCALENDAR
VERSION:2.0
PRODID:-//NTOI - ECPv6.2.9//NONSGML v1.0//EN
CALSCALE:GREGORIAN
METHOD:PUBLISH
X-ORIGINAL-URL:https://desfin.networkvillagecafe.com
X-WR-CALDESC:Events for NTOI
REFRESH-INTERVAL;VALUE=DURATION:PT1H
X-Robots-Tag:noindex
X-PUBLISHED-TTL:PT1H
BEGIN:VTIMEZONE
TZID:Europe/Dublin
BEGIN:STANDARD
TZOFFSETFROM:+0000
TZOFFSETTO:+0100
TZNAME:IST
DTSTART:20200329T010000
END:STANDARD
BEGIN:DAYLIGHT
TZOFFSETFROM:+0100
TZOFFSETTO:+0000
TZNAME:GMT
DTSTART:20201025T010000
END:DAYLIGHT
END:VTIMEZONE
BEGIN:VEVENT
DTSTART;TZID=Europe/Dublin:20200123T080000
DTEND;TZID=Europe/Dublin:20201231T170000
DTSTAMP:20260423T121937
CREATED:20200123T143559Z
LAST-MODIFIED:20201105T163548Z
UID:11181-1579766400-1609434000@desfin.networkvillagecafe.com
SUMMARY:NUTRITIONAL GENOMICS INTERPRETATION PROGRAMME For Healthcare and Nutrition Professionals
DESCRIPTION:Nutritional Genomics Interpretation Programme for Healthcare and Nutrition Professionals \nmyDNAhealth and Qube Vision present the world’s first accredited e-learningnutritional genomics interpretation programme. \nTogether\, myDNAhealth and Qube Vision are offering Health and NutritionalProfessionals a unique opportunity to join these pioneering online courses. \nAbout the e-learning programmeThe Nutritional Genomics Interpretation programme comprises four courses coveringthe following topics:1. Molecular and Personalised Nutritional Genomics (foundation course) \n2. Carbohydrate Behaviours and Lipid Metabolism \n3. Immune Mediated Inflammatory Conditions and Nutrient Sensitivity \n4. Detoxification\, Oestrogen Balance and Methylation \n5. Clinical Application Study \nINCLUDED IN THE COURSE: Digital tutor delivering lessons with engaging audio and visual content\, glossary adn bibliography\, full script access\, applied clinical application takeaways\, online assessments and downloadable graphics. \nSpecial offer: £187.50 FOR ALL COURSES (NORMALLY £250) \n25% DISCOUNT UNTIL 31 DECEMBER 2020 (SAVE £62.50) \nSecure your place today! \nhttps://mydnahealth.co.uk/product/online-courses/ \n  \n 
URL:https://desfin.networkvillagecafe.com/event/nutritional-genomics-interpretation-programme-for-healthcare-and-nutrition-professionals/
LOCATION:Online
CATEGORIES:CPD Events
ATTACH;FMTTYPE=image/jpeg:https://desfin.networkvillagecafe.com/wp-content/uploads/2020/01/logo_top_300x300.jpg
END:VEVENT
BEGIN:VEVENT
DTSTART;TZID=Europe/Dublin:20200306T080000
DTEND;TZID=Europe/Dublin:20201231T170000
DTSTAMP:20260423T121937
CREATED:20200306T185236Z
LAST-MODIFIED:20200306T185240Z
UID:11388-1583481600-1609434000@desfin.networkvillagecafe.com
SUMMARY:Certificate in Personalised Sports Nutrition
DESCRIPTION:Certificate in Personalised Sports Nutrition\nLearn how peak performance cannot be achieved without feeding the body optimum health and addressing imbalances first\nOnline Course with IHS \nCost: €495  \nTo Book: https://learn.instituteofhealthsciences.com/course?courseid=personalised-sports-nutrition
URL:https://desfin.networkvillagecafe.com/event/certificate-in-personalised-sports-nutrition/
LOCATION:Online\, Ireland
CATEGORIES:CPD Events
ATTACH;FMTTYPE=image/jpeg:https://desfin.networkvillagecafe.com/wp-content/uploads/2019/05/IHS-logo-e1611334814169.jpg
END:VEVENT
BEGIN:VEVENT
DTSTART;TZID=Europe/Dublin:20200306T080000
DTEND;TZID=Europe/Dublin:20201231T170000
DTSTAMP:20260423T121937
CREATED:20200306T185727Z
LAST-MODIFIED:20200306T185732Z
UID:11392-1583481600-1609434000@desfin.networkvillagecafe.com
SUMMARY:Certificate in Stress Management
DESCRIPTION:Certificate in Stress Management\nFor anybody who wants to learn more about what stress really is\, how it affects the mind and body and what can be done to prevent\, manage and control stress\nOnline Course from the Institute of Health Sciences. \nCost €249 \nTo Book: https://learn.instituteofhealthsciences.com/course?courseid=stress-management 
URL:https://desfin.networkvillagecafe.com/event/certificate-in-stress-management/
LOCATION:Online\, Ireland
CATEGORIES:CPD Events
ATTACH;FMTTYPE=image/jpeg:https://desfin.networkvillagecafe.com/wp-content/uploads/2019/05/IHS-logo-e1611334814169.jpg
END:VEVENT
BEGIN:VEVENT
DTSTART;TZID=Europe/Dublin:20200306T080000
DTEND;TZID=Europe/Dublin:20201231T170000
DTSTAMP:20260423T121937
CREATED:20200306T190129Z
LAST-MODIFIED:20200306T190352Z
UID:11396-1583481600-1609434000@desfin.networkvillagecafe.com
SUMMARY:Coaching Skills for Everyday Life
DESCRIPTION:Coaching Skills for Everyday Life\nLearn how to transform your mindset and many areas of your life using key ‘coaching’ skills and techniques\nOnline course from the Institute of Health Sciences \nCost € 249 \nTo Book: https://learn.instituteofhealthsciences.com/course?courseid=csl \n 
URL:https://desfin.networkvillagecafe.com/event/coaching-skills-for-everyday-life/
LOCATION:Online\, Ireland
CATEGORIES:CPD Events
ATTACH;FMTTYPE=image/jpeg:https://desfin.networkvillagecafe.com/wp-content/uploads/2019/05/IHS-logo-e1611334814169.jpg
END:VEVENT
BEGIN:VEVENT
DTSTART;TZID=Europe/Dublin:20200306T080000
DTEND;TZID=Europe/Dublin:20201231T170000
DTSTAMP:20260423T121937
CREATED:20200306T190711Z
LAST-MODIFIED:20200306T190714Z
UID:11402-1583481600-1609434000@desfin.networkvillagecafe.com
SUMMARY:Fundamentals of Plant-Based Nutrition
DESCRIPTION:Fundamentals of Plant-Based Nutrition\nThis course offers practical\, research-based information on different models of plant-based eating and how to apply them\nOnline course from the Institute of Health Sciences \nCost € 249 \nTo Book: https://learn.instituteofhealthsciences.com/course?courseid=plant-based-nutrition
URL:https://desfin.networkvillagecafe.com/event/fundamentals-of-plant-based-nutrition/
LOCATION:Online\, Ireland
CATEGORIES:CPD Events
ATTACH;FMTTYPE=image/jpeg:https://desfin.networkvillagecafe.com/wp-content/uploads/2019/05/IHS-logo-e1611334814169.jpg
END:VEVENT
BEGIN:VEVENT
DTSTART;TZID=Europe/Dublin:20200917T103000
DTEND;TZID=Europe/Dublin:20201012T120000
DTSTAMP:20260423T121937
CREATED:20200911T103401Z
LAST-MODIFIED:20200914T114845Z
UID:11711-1600338600-1602504000@desfin.networkvillagecafe.com
SUMMARY:Nutri Advanced Peri-menopause Programme
DESCRIPTION:Nutri Advanced Peri-menopause Programme \nNutri Advanced are delighted to be launching a brand-new programme this Autumn for supporting women through their hormonal changes during the perimenopause and menopause. The Nutri Advanced programme series are all complete packages of everything that a client needs to complete their programme including the products listed above and comprehensive information pack which gives them all of their instructions\, supplement plan\, food lists\, recipe suggestions\, menu planner\, shopping lists\, lifestyle support suggestions as well as a handy workbook with questionnaires and more to log the starting point and progress of the client. \nTo join the live programme\, simply order this Perimenopause Programme pack and you will be automatically enrolled onto the live webinars.  \nWebinar 1 17th September 10.30 – 12 \nWebinar 1 21st September 10.30 – 12 \nWebinar 3 28th September 10.30 – 12 \nWebinar 4 5th October 10.30 – 12 \nWebinar 5 12th October 10.30 -12 \nCPD points; 7.5 \nTo book: https://www.nutriadvanced.ie/perimenopause-programme.html
URL:https://desfin.networkvillagecafe.com/event/nutri-advanced-peri-menopause-programme/
LOCATION:Online\, Ireland
CATEGORIES:CPD Events
ATTACH;FMTTYPE=image/jpeg:https://desfin.networkvillagecafe.com/wp-content/uploads/2019/12/Nutri-Advanced.jpg
END:VEVENT
BEGIN:VEVENT
DTSTART;TZID=Europe/Dublin:20200923T080000
DTEND;TZID=Europe/Dublin:20201225T170000
DTSTAMP:20260423T121937
CREATED:20200904T152457Z
LAST-MODIFIED:20200904T153335Z
UID:11699-1600848000-1608915600@desfin.networkvillagecafe.com
SUMMARY:Lifecode Gx: Mastering Nutrigenomics
DESCRIPTION:Lifecode Gx: Mastering Nutrigenomics \nNew Online Training ! Kickstart or restart your Nutrigenomics In Practice with Mastering Nutrigenomics – live online on 23rd September – and recordings thereafter. \nPresenters: Emma Beswick – Founder\, LifecodeGx and Karen Harrison – MSc Nutrition & Genetics \n\nCONTENT\n\n\nPre-recording – Introduction – Genetics\, Epigenetics and Precision Medicine\n\n\nSession 1 First do no harm! Gut Health & Food In/Tolerances – intro to Autoimmunity\n\n\nSession 2. Essential nutrients. Vitamins – A\, D and K\n\n\nSession 3. Essential nutrients. B Vitamins & minerals – intro to Methylation\n\n\nSession 4. Oxidative Stress\, Glutathione & Vitamin C – Intro to Detoxification\n\n\nSession 5. Metabolic – Sugar\, Fat\, Metabolic rate & Inflammation\n\n\nSession 6. Circadian & other Rhythms – Intro to Hormones\n \n\n\n6 hours CPD\nCost: £79 until end August\nTo book: https://www.crowdcast.io/e/nutrigenomicsmaster\n 
URL:https://desfin.networkvillagecafe.com/event/lifecode-gx-mastering-nutrigenomics/
LOCATION:Online\, Ireland
CATEGORIES:CPD Events
ATTACH;FMTTYPE=image/jpeg:https://desfin.networkvillagecafe.com/wp-content/uploads/2020/09/MasteringNutrigenomicsSquare.001.jpeg
END:VEVENT
BEGIN:VEVENT
DTSTART;TZID=Europe/Dublin:20200929T100000
DTEND;TZID=Europe/Dublin:20201001T193000
DTSTAMP:20260423T121937
CREATED:20200917T173354Z
LAST-MODIFIED:20200917T173405Z
UID:11722-1601373600-1601580600@desfin.networkvillagecafe.com
SUMMARY:Pharma Nord - Supporting the Immune System\, Selenium and Zinc / D pearls
DESCRIPTION:Pharma Nord – Supporting the Immune System\, Selenium and Zinc / D pearls \nImmunity webinar with Michelle Kelly. Talking about Selenium’s and vitamin D’s role in maintaining a strong immunity. \nDuration is one hour.  \nThree different events  \nTuesday 29th Sept 10am  \nWednesday 30th Sept 1pm  \nThursday 1st October 6.30pm \nCost is free but essential to book. \nhttps://www.pharmanord.ie/academy
URL:https://desfin.networkvillagecafe.com/event/pharma-nord-supporting-the-immune-system-selenium-and-zinc-d-pearls-2/
LOCATION:Online\, Ireland
CATEGORIES:CPD Events
ATTACH;FMTTYPE=image/png:https://desfin.networkvillagecafe.com/wp-content/uploads/2019/05/Pharma-nord-cpd.png
END:VEVENT
BEGIN:VEVENT
DTSTART;TZID=Europe/Dublin:20201006T100000
DTEND;TZID=Europe/Dublin:20201006T233000
DTSTAMP:20260423T121937
CREATED:20200917T174323Z
LAST-MODIFIED:20200918T105254Z
UID:11727-1601978400-1602027000@desfin.networkvillagecafe.com
SUMMARY:From Chaos To Case Study - Making Sense of Your Client's Story!
DESCRIPTION:From Chaos To Case Study – Making Sense of Your Client’s Story! \nAre you currently looking for some answers for a current client or are seeking mentoring? Would you like to share a case with Brendan and other practitioners to gain answers and insights for free!\n \nWe are looking for case studies to review on the dates below. Please send to Brendan O’Brien asap as he will need to assess the case before the October dates. If your case is chosen then you will be mentored on the webinar without saying who it is directly.\n \nAll information will be kept private and no names used (client and practitioner if desired)\nEveryone on the webinar will be told about the case and will gain knowledge including the approach to take\, what to look for\, what supplements to consider and lots more.\n \nCase study questions to be sent by 30th September to Brendan at brendanscottage@gmail.com\n \nIf you would like to log on to talk\, learn and listen please sign up on https://www.pharmanord.ie/academy\n \nDates:\n\nTuesday 6th morning 10-11.30am \n1.5 CPD pending
URL:https://desfin.networkvillagecafe.com/event/from-chaos-to-case-study-making-sense-of-your-clients-story/
LOCATION:Online\, Ireland
CATEGORIES:CPD Events
ATTACH;FMTTYPE=image/png:https://desfin.networkvillagecafe.com/wp-content/uploads/2019/05/Pharma-nord-cpd.png
END:VEVENT
BEGIN:VEVENT
DTSTART;TZID=Europe/Dublin:20201007T183000
DTEND;TZID=Europe/Dublin:20201007T200000
DTSTAMP:20260423T121937
CREATED:20200917T174833Z
LAST-MODIFIED:20200918T105341Z
UID:11735-1602095400-1602100800@desfin.networkvillagecafe.com
SUMMARY:From Chaos To Case Study - Making Sense of Your Client's Story!
DESCRIPTION:From Chaos To Case Study – Making Sense of Your Client’s Story! \nAre you currently looking for some answers for a current client or are seeking mentoring? Would you like to share a case with Brendan and other practitioners to gain answers and insights for free!\n \nWe are looking for case studies to review on the dates below. Please send to Brendan O’Brien asap as he will need to assess the case before the October dates. If your case is chosen then you will be mentored on the webinar without saying who it is directly.\n \nAll information will be kept private and no names used (client and practitioner if desired)\nEveryone on the webinar will be told about the case and will gain knowledge including the approach to take\, what to look for\, what supplements to consider and lots more.\n \nCase study questions to be sent by 30th September to Brendan at brendanscottage@gmail.com\n \nIf you would like to log on to talk\, learn and listen please sign up on https://www.pharmanord.ie/academy\n \n\nWednesday 7th evening 6.30pm – 8pm \n\n1.5 CPD pending
URL:https://desfin.networkvillagecafe.com/event/from-chaos-to-case-study-making-sense-of-your-clients-story-2/
LOCATION:Online\, Ireland
CATEGORIES:CPD Events
ATTACH;FMTTYPE=image/png:https://desfin.networkvillagecafe.com/wp-content/uploads/2019/05/Pharma-nord-cpd.png
END:VEVENT
BEGIN:VEVENT
DTSTART;TZID=Europe/Dublin:20201014T080000
DTEND;TZID=Europe/Dublin:20201014T170000
DTSTAMP:20260423T121937
CREATED:20200911T101113Z
LAST-MODIFIED:20200911T101119Z
UID:11707-1602662400-1602694800@desfin.networkvillagecafe.com
SUMMARY:Female Health Comprehensive Webinar with Dr Shania Lee & Dr Kishan
DESCRIPTION:Female Health Comprehensive Webinar with Dr Shania Lee & Dr Kishan\nThis is a practitioner only event (Doctors\, Naturopaths\, Herbalists\, Nutritionists\, Functional Medicine practitioners\, Kinesiologists\, Acupuncturists and students studying Natural Therapies) \nThis Webinar will cover all Female Health from A-Z with Dr Shania Lee and Dr Kishan Raichura \nMeet and greet with Sandra and Shania – set the stage: 8.15-8.45AM \nSession 1 “Intro to hormones and puberty” by Dr Shania Lee – 9-10AM \nSession 2 “Genetics and oestrogen metabolism” by Dr Shania Lee – 10.15-11.15AM \nSession 3 “Reproductive years and DUTCH test” Dr Shania Lee – 11.30-12.30AM/PM \nLunch – 12.30-1.15PM \nSession 4 “Menopause/HRT/BHRT” with Dr Kishan Raichura MD – 1.15-2.15PM \nSession 5 “Supplements to support female health” With Sandra Naturopath – 2.15-3.15PM \nQ&A 3.15-4PM \nCost: €45.37  \nDate: 14th October \nTime: 8 – 5 pm \nCPD: 5 CPD \nTo Book: https://www.eventbrite.ie/e/female-health-comprehensive-webinar-with-dr-shania-lee-dr-kishan-tickets-117962806931
URL:https://desfin.networkvillagecafe.com/event/female-health-comprehensive-webinar-with-dr-shania-lee-dr-kishan/
LOCATION:Online\, Ireland
CATEGORIES:CPD Events
ATTACH;FMTTYPE=image/jpeg:https://desfin.networkvillagecafe.com/wp-content/uploads/2019/12/Nutri-Advanced.jpg
END:VEVENT
BEGIN:VEVENT
DTSTART;TZID=Europe/Dublin:20201017T090000
DTEND;TZID=Europe/Dublin:20201017T173000
DTSTAMP:20260423T121937
CREATED:20200221T160943Z
LAST-MODIFIED:20200624T120754Z
UID:11277-1602925200-1602955800@desfin.networkvillagecafe.com
SUMMARY:Low Dose Medicine in Modern Healthcare.
DESCRIPTION:Low Dose Medicine in Modern Healthcare. \nClinical application of LDM in the Management of GIT\, Resperatory and Musculoskele-tal disorders. Low Dose Collagen in pain management. \nThis full day educational event includes lectures\, real clinical case studies\, hands-on training\, group discussions and extensive Q&A session. We will be focusing on  practical aspects of Low Dose Medicine and its place in modern healthcare. All our speakers and Q&A panel members are experienced healthcare professionals. \n17th October 2020\, Marymount Hospital and Hospice\, Corraheen\, Co. Cork \nTime: 9 – 5.30 pm \nCost €150 \nNo. of Places 30 \nThe tickets can be purchased on www.ipcrm.ie \n 
URL:https://desfin.networkvillagecafe.com/event/low-dose-medicine-in-modern-healthcare/
LOCATION:Marymount University Hospital and Hospice\, Curaheen\, Co. Cork\, Ireland
CATEGORIES:CPD Events
ATTACH;FMTTYPE=image/png:https://desfin.networkvillagecafe.com/wp-content/uploads/2020/02/TRANSPARENT_IPCRM-100.png
END:VEVENT
BEGIN:VEVENT
DTSTART;TZID=Europe/Dublin:20201017T094500
DTEND;TZID=Europe/Dublin:20201017T163000
DTSTAMP:20260423T121937
CREATED:20201009T132833Z
LAST-MODIFIED:20201009T133010Z
UID:11763-1602927900-1602952200@desfin.networkvillagecafe.com
SUMMARY:IINH Low Carb Webinar
DESCRIPTION:IINH Low Carb Webinar \nAre you looking for trustworthy\, up-to-date knowledge to help yourself and others optimise metabolic health\, resolve weight issues and strengthen immunity? Learn the why and how of low-carb lifestyles. \nIINH is delighted and honoured to team up with renowned experts Dr. David Unwin\, Ivor Cummins\, Rob Verkerk PhD & Verner Wheelock PhD on Sat Oct 17\, 2020 for a Low-Carb Webinar: Defeat Diabetes\, Control Weight\, Strengthen Immune Health \nThe expert presentations will reveal how a diet based on wholesome\, low-carb foods is key to restoring and optimising health\, reversing chronic disease and ensuring robust immunity. \nIn the afternoon session\, IINH Director Richard Burton will explain why and how to prioritise quality when choosing low-carb foods\, products\, ingredients\, drinks and snacks. \nThe final presentation will be a live\, low-carb cookery demo by Maggie Lynch\, Director of Cooking at IINH. \nDate: October 17th \nTime: 09:45 – 16:30 (GMT) \nLocation: Zoom (the comfort of your own home) \nPrice: €35 \nCPD: 6 pending  \nFurther information and booking link: https://www.iinh.net/low-carb-webinar
URL:https://desfin.networkvillagecafe.com/event/iinh-low-carb-webinar/
LOCATION:Online\, Ireland
CATEGORIES:CPD Events
ATTACH;FMTTYPE=image/png:https://desfin.networkvillagecafe.com/wp-content/uploads/2020/10/IINH-LC-600_400.png
END:VEVENT
BEGIN:VEVENT
DTSTART;TZID=Europe/Dublin:20201020T100000
DTEND;TZID=Europe/Dublin:20201022T193000
DTSTAMP:20260423T121937
CREATED:20201009T130634Z
LAST-MODIFIED:20201009T130639Z
UID:11759-1603188000-1603395000@desfin.networkvillagecafe.com
SUMMARY:Pharma Nord How to use Ginkgo Biloba to support your blood circulation
DESCRIPTION:How to use Ginkgo Biloba to support your blood circulation \nGinkgo\, also known as Maidenhair Tree\, originates from Southeast Asia. The Ginkgo leaf extract has been used for therapeutic purposes for centuries. Its characteristic fan-shaped\, bi-lobed leaves contain several active ingredients\, of which ginkgo flavone glycosides and terpene lactones are believed to constitute those with the therapeutic properties. \nJoin Nutritional Therapist Michelle Kelly to learn more about: \n\n\nthe research explaining Ginkgo Biloba’s health benefits \n\n\nhow to use it to support human health \n\n\nwhat makes Ginkgo Biloba Pharma Nord preparation special \n\n\nWEBINAR DETAILS \nDuration: 1 hour \nDate and times: \nTuesday 20th October\, 10- 11am \nWednesday 21st October\, 1- 2pm \nThursday 22nd October\, 6.30- 7.30pm  \nCost: Free \nCPD: 1 pending  \nTo secure your place\, please register here www.pharmanord/academy or email ireland@pharmanord.com \nAfter registering\, you will receive a confirmation email containing information about joining the webinar. \nwww.pharmanord/academy) \nSPEAKER \nMichelle Kelly is Pharma Nord Ireland’s Training Co-Ordinator. She holds a first class honours degree in Biological Sciences along with an MSc in Human Nutrition and Metabolism. She is a qualified Nutritional Therapist and ran a clinic in Galway where nutrition advice and guidelines were provided to clients with numerous requirements including weight loss\, diabetes care and heart health.
URL:https://desfin.networkvillagecafe.com/event/pharma-nord-how-to-use-ginkgo-biloba-to-support-your-blood-circulation/
LOCATION:Online\, Ireland
CATEGORIES:CPD Events
ATTACH;FMTTYPE=image/png:https://desfin.networkvillagecafe.com/wp-content/uploads/2019/05/Pharma-nord-cpd.png
END:VEVENT
BEGIN:VEVENT
DTSTART;TZID=Europe/Dublin:20201024T093000
DTEND;TZID=Europe/Dublin:20201024T170000
DTSTAMP:20260423T121937
CREATED:20200123T141637Z
LAST-MODIFIED:20201012T132921Z
UID:11173-1603531800-1603558800@desfin.networkvillagecafe.com
SUMMARY:Nutrition & Diet for Metal Detoxification
DESCRIPTION:Micro Trace Mineral labs will run a training day on the 14th of March\, aimed at helping practitioners to become confident in testing and supporting clients who show potential symptoms of metal toxicity.\nWhat the course will cover…\n* How are we exposed to heavy metals in the environment\n* Health conditions associated with heavy metal exposure\n* Testing for heavy metal toxicity\n* What causes some people to have more issues than others\n* Nutrient and dietary intervention to help remove heavy metals from the body.\nDate & Location\nOnline | 24th October |9.30 – 4pm\nCPD Points 5 \nTickets €79\nTo Book: https://niamhburkenutrition.com/metal-detoxification/
URL:https://desfin.networkvillagecafe.com/event/nutrition-diet-for-metal-detoxification/
LOCATION:Online\, Ireland
CATEGORIES:CPD Events
ATTACH;FMTTYPE=image/png:https://desfin.networkvillagecafe.com/wp-content/uploads/2020/01/Metal-Detoxification-1024x466.png
END:VEVENT
END:VCALENDAR