BEGIN:VCALENDAR
VERSION:2.0
PRODID:-//NTOI - ECPv6.2.9//NONSGML v1.0//EN
CALSCALE:GREGORIAN
METHOD:PUBLISH
X-ORIGINAL-URL:https://desfin.networkvillagecafe.com
X-WR-CALDESC:Events for NTOI
REFRESH-INTERVAL;VALUE=DURATION:PT1H
X-Robots-Tag:noindex
X-PUBLISHED-TTL:PT1H
BEGIN:VTIMEZONE
TZID:Europe/Dublin
BEGIN:STANDARD
TZOFFSETFROM:+0000
TZOFFSETTO:+0100
TZNAME:IST
DTSTART:20210328T010000
END:STANDARD
BEGIN:DAYLIGHT
TZOFFSETFROM:+0100
TZOFFSETTO:+0000
TZNAME:GMT
DTSTART:20211031T010000
END:DAYLIGHT
END:VTIMEZONE
BEGIN:VEVENT
DTSTART;TZID=Europe/Dublin:20210111T103000
DTEND;TZID=Europe/Dublin:20210127T120000
DTSTAMP:20260423T055338
CREATED:20210115T160429Z
LAST-MODIFIED:20210115T160436Z
UID:11908-1610361000-1611748800@desfin.networkvillagecafe.com
SUMMARY:Nutri Advanced NutriClean Programme
DESCRIPTION:Nutri Advanced NutriClean Programme \nThe Nutri Advanced NutriClean Programme has been used for several years now as a complete 14-day package to help clients to reduce their exposure to toxins and support their clearance pathways. The programme offers a 14 day approach to address a vast array of health issues using the right supplements and targeted food plan. It is advocated that a targeted support plan such as this can help cleanse the body\, increase vitamin and mineral absorption\, reduce symptoms of toxicity\, clear the skin and aid weight loss while improving cellular health and mitochondrial function. This year it has received a few upgrades to improve the journey your client is on as well as some updates to the webinars to give you a much more practical approach to using this programme in your practice. \nYou’ll receive all supplements needed\, access to the live webinars with Jo Gamble\, a full information pack and workbook\, and a place on the private Facebook group. \n \nTo register https://www.nutriadvanced.co.uk/nutriclean-live-programme.html \n 
URL:https://desfin.networkvillagecafe.com/event/nutri-advanced-nutriclean-programme/
LOCATION:Online\, Ireland
CATEGORIES:CPD Events
ATTACH;FMTTYPE=image/jpeg:https://desfin.networkvillagecafe.com/wp-content/uploads/2019/12/Nutri-Advanced.jpg
END:VEVENT
BEGIN:VEVENT
DTSTART;TZID=Europe/Dublin:20210112T103000
DTEND;TZID=Europe/Dublin:20210112T113000
DTSTAMP:20260423T055338
CREATED:20210108T145608Z
LAST-MODIFIED:20210108T151644Z
UID:11893-1610447400-1610451000@desfin.networkvillagecafe.com
SUMMARY:Pharma Nord: Promote your Health with Key Nutrients
DESCRIPTION:Pharma Nord: Promote your Health with Key Nutrients \nLearn the vital role of Q10 in providing much needed energy\, the scientific research behind the essential mineral chromium and the wonder that is magnesium in keeping our body and mind healthy during the life cycle. \nJoin Pharma Nord’s Training Co-Ordinator and Nutritional Therapist Michelle Kelly (BSc\, MSc)\, to learn more about how simple changes and important supplements may provide much needed support and allow you to achieve your health goals. \nDuration: 1 hour \nDate and time: \n\nTuesday 12th January\, 10.30- 11.30am\n\nCost: Free \nTo secure your place\, please register here or email ireland@pharmanord.com. After registering\, you will receive a confirmation email containing information about joining the webinar. \nCPD points 1 (pending)
URL:https://desfin.networkvillagecafe.com/event/pharma-nord-promote-your-health-with-key-nutrients/
LOCATION:Online\, Ireland
CATEGORIES:CPD Events
ATTACH;FMTTYPE=image/png:https://desfin.networkvillagecafe.com/wp-content/uploads/2019/05/Pharma-nord-cpd.png
END:VEVENT
BEGIN:VEVENT
DTSTART;TZID=Europe/Dublin:20210120T190000
DTEND;TZID=Europe/Dublin:20210120T200000
DTSTAMP:20260423T055338
CREATED:20210108T150124Z
LAST-MODIFIED:20210108T150129Z
UID:11897-1611169200-1611172800@desfin.networkvillagecafe.com
SUMMARY:Pharma Nord: Promote your Health with Key Nutrients
DESCRIPTION:Pharma Nord: Promote your Health with Key Nutrients \nLearn the vital role of Q10 in providing much needed energy\, the scientific research behind the essential mineral chromium and the wonder that is magnesium in keeping our body and mind healthy during the life cycle.  \nJoin Pharma Nord’s Training Co-Ordinator and Nutritional Therapist Michelle Kelly (BSc\, MSc)\, to learn more about how simple changes and important supplements may provide much needed support and allow you to achieve your health goals. \nDuration: 1 hour \nDate and time: \n\n\nWednesday 20th January\, 7- 8pm \n\n\nCost: Free  \nTo secure your place\, please register here or email ireland@pharmanord.com. After registering\, you will receive a confirmation email containing information about joining the webinar. \nCPD points 1 ( pending)
URL:https://desfin.networkvillagecafe.com/event/pharma-nord-promote-your-health-with-key-nutrients-2/
LOCATION:Online\, Ireland
CATEGORIES:CPD Events
ATTACH;FMTTYPE=image/png:https://desfin.networkvillagecafe.com/wp-content/uploads/2019/05/Pharma-nord-cpd.png
END:VEVENT
BEGIN:VEVENT
DTSTART;TZID=Europe/Dublin:20210122T080000
DTEND;TZID=Europe/Dublin:20211231T170000
DTSTAMP:20260423T055338
CREATED:20210122T170045Z
LAST-MODIFIED:20210406T135401Z
UID:11919-1611302400-1640970000@desfin.networkvillagecafe.com
SUMMARY:IHS: Fundamentals of Plant-Based Nutrition 2021
DESCRIPTION:IHS: Fundamentals of Plant-Based Nutrition 2021 \nThis course offers practical\, research-based information on differ models of plant-based eating and how to apply them. \nOnline course from the Institute of Health Sciences \nCost € 149 \nCPD points 20 \nTo Book: https://learn.instituteofhealthsciences.com/course?courseid=plant-based-nutrition
URL:https://desfin.networkvillagecafe.com/event/ihs-fundamentals-of-plant-based-nutrition-2021/
LOCATION:Online\, Ireland
CATEGORIES:CPD Events
ATTACH;FMTTYPE=image/jpeg:https://desfin.networkvillagecafe.com/wp-content/uploads/2019/05/IHS-logo-e1611334814169.jpg
END:VEVENT
BEGIN:VEVENT
DTSTART;TZID=Europe/Dublin:20210122T080000
DTEND;TZID=Europe/Dublin:20211231T170000
DTSTAMP:20260423T055338
CREATED:20210122T170715Z
LAST-MODIFIED:20210122T170725Z
UID:11925-1611302400-1640970000@desfin.networkvillagecafe.com
SUMMARY:IHS: Coaching Skills for Everyday Life 2021
DESCRIPTION:IHS: Coaching Skills for Everyday Life 2021 \nLearn how to transform your mindset and many areas of your life using key ‘coaching’ skills and techniques. \nOnline course from the Institute of Health Sciences \nCost € 249 \nCPD points 20  \nTo Book: https://learn.instituteofhealthsciences.com/course?courseid=csl
URL:https://desfin.networkvillagecafe.com/event/ihs-coaching-skills-for-everyday-life-2021/
LOCATION:Online\, Ireland
CATEGORIES:CPD Events
ATTACH;FMTTYPE=image/jpeg:https://desfin.networkvillagecafe.com/wp-content/uploads/2019/05/IHS-logo-e1611334814169.jpg
END:VEVENT
BEGIN:VEVENT
DTSTART;TZID=Europe/Dublin:20210122T080000
DTEND;TZID=Europe/Dublin:20211231T170000
DTSTAMP:20260423T055338
CREATED:20210122T171516Z
LAST-MODIFIED:20210406T134236Z
UID:11930-1611302400-1640970000@desfin.networkvillagecafe.com
SUMMARY:IHS: Certificate in Stress Management 2021
DESCRIPTION:IHS: Certificate in Stress Management 2021 \nFor anyone who wants to learn more about what stress really is\, how it affects the mind and body and what can be done to prevent\, manage and control stress. \nOnline Course from the Institute of Health Sciences. \nCost €149 \nCPD points 20 \nTo Book: https://learn.instituteofhealthsciences.com/course?courseid=stress-management
URL:https://desfin.networkvillagecafe.com/event/ihs-certificate-in-stress-management-2021/
LOCATION:Galway
CATEGORIES:CPD Events
ATTACH;FMTTYPE=image/jpeg:https://desfin.networkvillagecafe.com/wp-content/uploads/2019/05/IHS-logo-e1611334814169.jpg
END:VEVENT
BEGIN:VEVENT
DTSTART;TZID=Europe/Dublin:20210122T080000
DTEND;TZID=Europe/Dublin:20211231T170000
DTSTAMP:20260423T055338
CREATED:20210122T172247Z
LAST-MODIFIED:20210406T134136Z
UID:11935-1611302400-1640970000@desfin.networkvillagecafe.com
SUMMARY:IHS: Certificate in Personalised Sports Nutrition 2021
DESCRIPTION:IHS: Certificate in Personalised Sports Nutrition 2021 \nLearn how peak performance cannot be achieved without feeding the body optimum health and addressing imbalances first. \nOnline Course with IHS \nCost: €299 \nCPD 20 Points \nTo Book: https://learn.instituteofhealthsciences.com/course?courseid=personalised-sports-nutrition
URL:https://desfin.networkvillagecafe.com/event/ihs-certificate-in-personalised-sports-nutrition-2021/
LOCATION:Online\, Ireland
CATEGORIES:CPD Events
ATTACH;FMTTYPE=image/jpeg:https://desfin.networkvillagecafe.com/wp-content/uploads/2019/05/IHS-logo-e1611334814169.jpg
END:VEVENT
BEGIN:VEVENT
DTSTART;TZID=Europe/Dublin:20210126T190000
DTEND;TZID=Europe/Dublin:20210126T203000
DTSTAMP:20260423T055338
CREATED:20210122T165007Z
LAST-MODIFIED:20210122T165016Z
UID:11914-1611687600-1611693000@desfin.networkvillagecafe.com
SUMMARY:BioCare: CHILD'S PLAY? THE PUZZLE OF CHILDREN'S HEALTH
DESCRIPTION:WEBINAR: CHILD’S PLAY? THE PUZZLE OF CHILDREN’S HEALTH \nDate: Tuesday 26th January 2021 at 7-8.30pm GMT \nwith Jules Cattell\, Nutritional Therapist (Dip ION) \nChildren certainly don’t find it easy to grow and thrive in the modern environment. There are some key challenges – exposure to microbes\, the social and emotional context\, and the quality of their nutritional intake\, affecting development\, gut health\, learning and immunity. Find out from Jules Cattell how to support children in these key areas nutritionally. 1.5 hours CPD points (BANT\, ANP\, NNA\, NTOI). IF YOU’RE NOT ABLE TO WATCH LIVE\, A RECORDING WILL BE AVAILABLE TO ALL REGISTRANTS 24HRS LATER. \nREGISTER FOR FREE NOW
URL:https://desfin.networkvillagecafe.com/event/biocare-childs-play-the-puzzle-of-childrens-health/
LOCATION:Online\, Ireland
CATEGORIES:CPD Events
ATTACH;FMTTYPE=image/jpeg:https://desfin.networkvillagecafe.com/wp-content/uploads/2021/01/BioCare-Image.jpg
END:VEVENT
BEGIN:VEVENT
DTSTART;TZID=Europe/Dublin:20210127T103000
DTEND;TZID=Europe/Dublin:20210127T113000
DTSTAMP:20260423T055338
CREATED:20210115T154651Z
LAST-MODIFIED:20210115T154658Z
UID:11904-1611743400-1611747000@desfin.networkvillagecafe.com
SUMMARY:Oxidative Stress- its impact on the body and how to reduce it
DESCRIPTION:Oxidative Stress- its impact on the body and how to reduce  \n \n\nThe body’s cells produce free radicals during normal metabolic processes. In general\, the body is able to keep the free radicals in check with the help of antioxidants supplied by food or produced by the body itself. But sometimes disease\, pollution\, an unhealthy diet or simply too much stress can upset this delicate balance. The body enters a state of Oxidative Stress. Uncontrolled Oxidative Stress can accelerate the aging process and may contribute to the development of a number of conditions. \nJoin Pharma Nord’s Training Co-Ordinator and Nutritional Therapist Michelle Kelly (BSc\, MSc)\, where we will discuss how Oxidative Stress impacts us\, how antioxidants can help reduce Oxidative Stress\, and what to look out for when choosing a supplement that is right for you and your clients. \n \n\nDuration: 1 hour \nDate and time: \n\nWednesday 27th January\, 10.30am\n\nCost: Free  \nTo secure your place\, please register here or email ireland@pharmanord.com. After registering\, you will receive a confirmation email containing information about joining the webinar.
URL:https://desfin.networkvillagecafe.com/event/oxidative-stress-its-impact-on-the-body-and-how-to-reduce-it/
LOCATION:Online\, Ireland
CATEGORIES:CPD Events
ATTACH;FMTTYPE=image/png:https://desfin.networkvillagecafe.com/wp-content/uploads/2019/05/Pharma-nord-cpd.png
END:VEVENT
BEGIN:VEVENT
DTSTART;TZID=Europe/Dublin:20210129T090000
DTEND;TZID=Europe/Dublin:20210130T170000
DTSTAMP:20260423T055338
CREATED:20201029T163034Z
LAST-MODIFIED:20201029T163046Z
UID:11796-1611910800-1612026000@desfin.networkvillagecafe.com
SUMMARY:CBT & Motivational Interviewing for Weight Management
DESCRIPTION:CBT & Motivational Interviewing for Weight Management\n\n\nIn this popular workshop\, you will learn interventions to help your clients make changes to their behaviour and their cognition around developing a healthy lifestyle.\n\n\nIn addition\, you’ll get the tools to help your clients overcome dysfunctional beliefs related to deprivation\, and thoughts that sabotage their motivation and sense of self-efficacy.\n\n\nYou will also be able to apply Motivational Interviewing techniques to help your clients overcome ambivalence\, help them stay motivated to make positive lifestyle changes.\n\n\nThis workshop will be delivered online. You can expect lots of interaction\, demonstration of interventions\, and sharing of experiences from participants.\n\n\n2 day Workshop Online \nDates: Jan 29th & 30th 2021 \n12 CPD points \nEarly bird ticket €190 until the 15th November \nFull Price €250 \nTo Book: https://susilodolacounselling.com/cbt_mi_professional_training/
URL:https://desfin.networkvillagecafe.com/event/cbt-motivational-interviewing-for-weight-management/
LOCATION:Online\, Ireland
CATEGORIES:CPD Events
ATTACH;FMTTYPE=image/jpeg:https://desfin.networkvillagecafe.com/wp-content/uploads/2019/12/NTOI-Susie-CPD.jpeg
END:VEVENT
END:VCALENDAR