BEGIN:VCALENDAR
VERSION:2.0
PRODID:-//NTOI - ECPv6.2.9//NONSGML v1.0//EN
CALSCALE:GREGORIAN
METHOD:PUBLISH
X-WR-CALNAME:NTOI
X-ORIGINAL-URL:https://desfin.networkvillagecafe.com
X-WR-CALDESC:Events for NTOI
REFRESH-INTERVAL;VALUE=DURATION:PT1H
X-Robots-Tag:noindex
X-PUBLISHED-TTL:PT1H
BEGIN:VTIMEZONE
TZID:Europe/Dublin
BEGIN:STANDARD
TZOFFSETFROM:+0000
TZOFFSETTO:+0100
TZNAME:IST
DTSTART:20210328T010000
END:STANDARD
BEGIN:DAYLIGHT
TZOFFSETFROM:+0100
TZOFFSETTO:+0000
TZNAME:GMT
DTSTART:20211031T010000
END:DAYLIGHT
END:VTIMEZONE
BEGIN:VEVENT
DTSTART;TZID=Europe/Dublin:20210122T080000
DTEND;TZID=Europe/Dublin:20211231T170000
DTSTAMP:20260422T233011
CREATED:20210122T170045Z
LAST-MODIFIED:20210406T135401Z
UID:11919-1611302400-1640970000@desfin.networkvillagecafe.com
SUMMARY:IHS: Fundamentals of Plant-Based Nutrition 2021
DESCRIPTION:IHS: Fundamentals of Plant-Based Nutrition 2021 \nThis course offers practical\, research-based information on differ models of plant-based eating and how to apply them. \nOnline course from the Institute of Health Sciences \nCost € 149 \nCPD points 20 \nTo Book: https://learn.instituteofhealthsciences.com/course?courseid=plant-based-nutrition
URL:https://desfin.networkvillagecafe.com/event/ihs-fundamentals-of-plant-based-nutrition-2021/
LOCATION:Online\, Ireland
CATEGORIES:CPD Events
ATTACH;FMTTYPE=image/jpeg:https://desfin.networkvillagecafe.com/wp-content/uploads/2019/05/IHS-logo-e1611334814169.jpg
END:VEVENT
BEGIN:VEVENT
DTSTART;TZID=Europe/Dublin:20210122T080000
DTEND;TZID=Europe/Dublin:20211231T170000
DTSTAMP:20260422T233011
CREATED:20210122T170715Z
LAST-MODIFIED:20210122T170725Z
UID:11925-1611302400-1640970000@desfin.networkvillagecafe.com
SUMMARY:IHS: Coaching Skills for Everyday Life 2021
DESCRIPTION:IHS: Coaching Skills for Everyday Life 2021 \nLearn how to transform your mindset and many areas of your life using key ‘coaching’ skills and techniques. \nOnline course from the Institute of Health Sciences \nCost € 249 \nCPD points 20  \nTo Book: https://learn.instituteofhealthsciences.com/course?courseid=csl
URL:https://desfin.networkvillagecafe.com/event/ihs-coaching-skills-for-everyday-life-2021/
LOCATION:Online\, Ireland
CATEGORIES:CPD Events
ATTACH;FMTTYPE=image/jpeg:https://desfin.networkvillagecafe.com/wp-content/uploads/2019/05/IHS-logo-e1611334814169.jpg
END:VEVENT
BEGIN:VEVENT
DTSTART;TZID=Europe/Dublin:20210122T080000
DTEND;TZID=Europe/Dublin:20211231T170000
DTSTAMP:20260422T233011
CREATED:20210122T171516Z
LAST-MODIFIED:20210406T134236Z
UID:11930-1611302400-1640970000@desfin.networkvillagecafe.com
SUMMARY:IHS: Certificate in Stress Management 2021
DESCRIPTION:IHS: Certificate in Stress Management 2021 \nFor anyone who wants to learn more about what stress really is\, how it affects the mind and body and what can be done to prevent\, manage and control stress. \nOnline Course from the Institute of Health Sciences. \nCost €149 \nCPD points 20 \nTo Book: https://learn.instituteofhealthsciences.com/course?courseid=stress-management
URL:https://desfin.networkvillagecafe.com/event/ihs-certificate-in-stress-management-2021/
LOCATION:Galway
CATEGORIES:CPD Events
ATTACH;FMTTYPE=image/jpeg:https://desfin.networkvillagecafe.com/wp-content/uploads/2019/05/IHS-logo-e1611334814169.jpg
END:VEVENT
BEGIN:VEVENT
DTSTART;TZID=Europe/Dublin:20210122T080000
DTEND;TZID=Europe/Dublin:20211231T170000
DTSTAMP:20260422T233011
CREATED:20210122T172247Z
LAST-MODIFIED:20210406T134136Z
UID:11935-1611302400-1640970000@desfin.networkvillagecafe.com
SUMMARY:IHS: Certificate in Personalised Sports Nutrition 2021
DESCRIPTION:IHS: Certificate in Personalised Sports Nutrition 2021 \nLearn how peak performance cannot be achieved without feeding the body optimum health and addressing imbalances first. \nOnline Course with IHS \nCost: €299 \nCPD 20 Points \nTo Book: https://learn.instituteofhealthsciences.com/course?courseid=personalised-sports-nutrition
URL:https://desfin.networkvillagecafe.com/event/ihs-certificate-in-personalised-sports-nutrition-2021/
LOCATION:Online\, Ireland
CATEGORIES:CPD Events
ATTACH;FMTTYPE=image/jpeg:https://desfin.networkvillagecafe.com/wp-content/uploads/2019/05/IHS-logo-e1611334814169.jpg
END:VEVENT
BEGIN:VEVENT
DTSTART;TZID=Europe/Dublin:20210305T080000
DTEND;TZID=Europe/Dublin:20210603T170000
DTSTAMP:20260422T233011
CREATED:20210305T172227Z
LAST-MODIFIED:20210426T144146Z
UID:11999-1614931200-1622739600@desfin.networkvillagecafe.com
SUMMARY:Susi Lodola: CBT & Motivational Interviewing for Weight Management
DESCRIPTION:Susi Lodola: CBT & Motivational Interviewing for Weight Management \n\n\nIn this popular workshop\, you will learn interventions to help your clients make changes to their behaviour and their cognition around developing a healthy lifestyle.\n\n\nIn addition\, you’ll get the tools to help your clients overcome dysfunctional beliefs related to deprivation\, and thoughts that sabotage their motivation and sense of self-efficacy.\n\n\nYou will also be able to apply Motivational Interviewing techniques to help your clients overcome ambivalence\, help them stay motivated to make positive lifestyle changes.\n\n\nThis workshop will be delivered online. You can expect lots of interaction\, demonstration of interventions\, and sharing of experiences from participants.\n\n\nDates: 4 & 5th June \nCost: €250\, early bird €190 before end of March \nCPD 12 points \nTo Book: https://susilodolacounselling.com/professional-training/
URL:https://desfin.networkvillagecafe.com/event/susi-lodola-cbt-motivational-interviewing-for-weight-management/
LOCATION:Galway
CATEGORIES:CPD Events
ATTACH;FMTTYPE=image/png:https://desfin.networkvillagecafe.com/wp-content/uploads/2020/06/Copy-of-Copy-of-Copy-of-Live-Interactive-Training-Workshop-2.png
ORGANIZER;CN="Susi Lodola Counselling":MAILTO:info@susilodolacounselling.com
END:VEVENT
BEGIN:VEVENT
DTSTART;TZID=Europe/Dublin:20210310T103000
DTEND;TZID=Europe/Dublin:20210310T120000
DTSTAMP:20260422T233011
CREATED:20210226T185223Z
LAST-MODIFIED:20210226T185236Z
UID:11989-1615372200-1615377600@desfin.networkvillagecafe.com
SUMMARY:Pharma Nord: How Nutritional Therapy and supplements benefit people who have a difficult relationship with food
DESCRIPTION:Pharma Nord: How Nutritional Therapy and supplements benefit people who have a difficult relationship with food \nNourish yourself\, boost your immunity and improve your energy!\nYou are invited to a complimentary Pharma Nord educational session where Nutritional Therapist Linn Thorstensson will discuss: \n\n\nIntuitive Eating and triggers of disordered eating. \n\n\nHow food supplements help you meet vitamin and mineral requirements when you are learning to listen to your body again. \n\n\nHow to support clients who struggle with restriction\, emotional eating and binge eating to become more attuned competent eaters. \n\n\nHow Q10 can support clients by boosting antioxidant levels and building up energy again. \n\n\nWEBINAR DETAILS\nDuration: 1\,5 hours \nDate and time:\n\n\nWednesday 10th March\, 10.30am- 12pm                                           \n\n\nCost: Free \nTo secure your place\, please register here or email ireland@pharmanord.com. After registering\, you will receive a confirmation email containing information about joining the webinar. \nSPEAKER \nLinn Thorstensson is a registered Nutritional Therapist\, a Certified Food & Spirit Practitioner (Mind-Body Nutrition) and an MB-EAT practitioner. She serves on the Board of Nutritional Therapists of Ireland (NTOI) and The Centre for Mindful Eating (TCME). \nIn her work with clients Linn uses a multitude of modalities in order to tailor each programme uniquely to each and every person’s individual needs. She draws from the vast tool box gathered from her nutritional therapy training\, further certifications in mind-body nutrition\, mindful eating and the many hours of mentoring and supervision. Linn also leans on her own recovery and self development work that have taught her so much beyond what the textbooks ever could!
URL:https://desfin.networkvillagecafe.com/event/pharma-nord-how-nutritional-therapy-and-supplements-benefit-people-who-have-a-difficult-relationship-with-food-3/
LOCATION:Online\, Ireland
CATEGORIES:CPD Events
ATTACH;FMTTYPE=image/png:https://desfin.networkvillagecafe.com/wp-content/uploads/2019/05/Pharma-nord-cpd.png
END:VEVENT
BEGIN:VEVENT
DTSTART;TZID=Europe/Dublin:20210310T110000
DTEND;TZID=Europe/Dublin:20210310T120000
DTSTAMP:20260422T233011
CREATED:20210312T165255Z
LAST-MODIFIED:20210312T165306Z
UID:12065-1615374000-1615377600@desfin.networkvillagecafe.com
SUMMARY:Nutri Advanced: Natural Solutions for Hypothyroidism
DESCRIPTION:Nutri Advanced: Natural Solutions for Hypothyroidism \nThe effects of poor thyroid function can be widely felt yet proper management of thyroid issues is often missing from a client’s history. A client can often come to see you with all of the symptoms of hypothyroidism but has slipped through the net when it comes to conventional testing for thyroid disorders. Senior Nutritionist\, Sarah Sharpe will explore the signs and symptoms of thyroid problems\, look at what to test and which nutrients are best to support it and why to give you a clear idea of how to approach a client with thyroid symptoms. In this webinar you will learn:– What healthy thyroid metabolism looks like– What factors can interfere with thyroid metabolism– Which markers to test– The best nutrients to support thyroid function \nTime & Date: Wednesday 10th March from 11am-12 noon \nCPD 1 point  \nTo listen back: https://www.nutriadvanced.ie/events.html
URL:https://desfin.networkvillagecafe.com/event/nutri-advanced-natural-solutions-for-hypothyroidism/
LOCATION:Online\, Ireland
CATEGORIES:CPD Events
ATTACH;FMTTYPE=image/jpeg:https://desfin.networkvillagecafe.com/wp-content/uploads/2019/12/Nutri-Advanced.jpg
END:VEVENT
BEGIN:VEVENT
DTSTART;TZID=Europe/Dublin:20210316T110000
DTEND;TZID=Europe/Dublin:20210316T120000
DTSTAMP:20260422T233011
CREATED:20210312T170219Z
LAST-MODIFIED:20210312T170223Z
UID:12069-1615892400-1615896000@desfin.networkvillagecafe.com
SUMMARY:Nutri Advanced: Marketing in Clinical Practice
DESCRIPTION:Nutri Advanced: Marketing in Clinical Practice \nDate & Time: 16th March 11-1 pm \nCPD: 2 Points  \nTo book email: Sandra.OConnell@nutriadvanced.co.uk
URL:https://desfin.networkvillagecafe.com/event/nutri-advanced-marketing-in-clinical-practice/
LOCATION:Galway
CATEGORIES:CPD Events
ATTACH;FMTTYPE=image/jpeg:https://desfin.networkvillagecafe.com/wp-content/uploads/2019/12/Nutri-Advanced.jpg
END:VEVENT
BEGIN:VEVENT
DTSTART;TZID=Europe/Dublin:20210316T190000
DTEND;TZID=Europe/Dublin:20210316T203000
DTSTAMP:20260422T233011
CREATED:20210226T185611Z
LAST-MODIFIED:20210226T185624Z
UID:11993-1615921200-1615926600@desfin.networkvillagecafe.com
SUMMARY:Pharma Nord: How Nutritional Therapy and supplements benefit people who have a difficult relationship with food
DESCRIPTION:Nourish yourself\, boost your immunity and improve your energy!\nYou are invited to a complimentary Pharma Nord educational session where Nutritional Therapist Linn Thorstensson will discuss: \n\n\nIntuitive Eating and triggers of disordered eating. \n\n\nHow food supplements help you meet vitamin and mineral requirements when you are learning to listen to your body again. \n\n\nHow to support clients who struggle with restriction\, emotional eating and binge eating to become more attuned competent eaters. \n\n\nHow Q10 can support clients by boosting antioxidant levels and building up energy again. \n\n\nWEBINAR DETAILS\nDuration: 1\,5 hours \nDate and time:                 \n\n\nTuesday 16th March\, 7- 8.30pm                         \n\n\nCost: Free \nTo secure your place\, please register here or email ireland@pharmanord.com. After registering\, you will receive a confirmation email containing information about joining the webinar. \nSPEAKER \nLinn Thorstensson is a registered Nutritional Therapist\, a Certified Food & Spirit Practitioner (Mind-Body Nutrition) and an MB-EAT practitioner. She serves on the Board of Nutritional Therapists of Ireland (NTOI) and The Centre for Mindful Eating (TCME). \nIn her work with clients Linn uses a multitude of modalities in order to tailor each programme uniquely to each and every person’s individual needs. She draws from the vast tool box gathered from her nutritional therapy training\, further certifications in mind-body nutrition\, mindful eating and the many hours of mentoring and supervision. Linn also leans on her own recovery and self development work that have taught her so much beyond what the textbooks ever could!
URL:https://desfin.networkvillagecafe.com/event/pharma-nord-how-nutritional-therapy-and-supplements-benefit-people-who-have-a-difficult-relationship-with-food-4/
LOCATION:Online\, Ireland
CATEGORIES:CPD Events
ATTACH;FMTTYPE=image/png:https://desfin.networkvillagecafe.com/wp-content/uploads/2019/05/Pharma-nord-cpd.png
END:VEVENT
BEGIN:VEVENT
DTSTART;TZID=Europe/Dublin:20210317T080000
DTEND;TZID=Europe/Dublin:20210317T170000
DTSTAMP:20260422T233011
CREATED:20210312T173026Z
LAST-MODIFIED:20210312T173030Z
UID:12080-1615968000-1616000400@desfin.networkvillagecafe.com
SUMMARY:Activated probiotics: Iron Metabolism\, Inflammation and the role of Probiotics
DESCRIPTION:Iron Metabolism\, Inflammation and the role of Probiotics \nDate 17th March \nTo book: contact karen@activated.co
URL:https://desfin.networkvillagecafe.com/event/activated-probiotics-iron-metabolism-inflammation-and-the-role-of-probiotics/
LOCATION:Online
CATEGORIES:CPD Events
ATTACH;FMTTYPE=image/png:https://desfin.networkvillagecafe.com/wp-content/uploads/2021/03/Screen-Shot-2021-03-12-at-17.29.51.png
END:VEVENT
BEGIN:VEVENT
DTSTART;TZID=Europe/Dublin:20210318T080000
DTEND;TZID=Europe/Dublin:20210318T170000
DTSTAMP:20260422T233011
CREATED:20210312T173341Z
LAST-MODIFIED:20210312T173345Z
UID:12087-1616054400-1616086800@desfin.networkvillagecafe.com
SUMMARY:Activated Probiotics: The Gut immune access and digestive health.
DESCRIPTION:Activated Probiotics: The Gut immune access and digestive health. \n18th March  \nTo book: karen@activated.co
URL:https://desfin.networkvillagecafe.com/event/activated-probiotics-the-gut-immune-access-and-digestive-health/
LOCATION:Online\, Ireland
CATEGORIES:CPD Events
ATTACH;FMTTYPE=image/png:https://desfin.networkvillagecafe.com/wp-content/uploads/2021/03/Screen-Shot-2021-03-12-at-17.29.51.png
END:VEVENT
END:VCALENDAR