BEGIN:VCALENDAR
VERSION:2.0
PRODID:-//NTOI - ECPv6.2.9//NONSGML v1.0//EN
CALSCALE:GREGORIAN
METHOD:PUBLISH
X-ORIGINAL-URL:https://desfin.networkvillagecafe.com
X-WR-CALDESC:Events for NTOI
REFRESH-INTERVAL;VALUE=DURATION:PT1H
X-Robots-Tag:noindex
X-PUBLISHED-TTL:PT1H
BEGIN:VTIMEZONE
TZID:Europe/Dublin
BEGIN:STANDARD
TZOFFSETFROM:+0000
TZOFFSETTO:+0100
TZNAME:IST
DTSTART:20210328T010000
END:STANDARD
BEGIN:DAYLIGHT
TZOFFSETFROM:+0100
TZOFFSETTO:+0000
TZNAME:GMT
DTSTART:20211031T010000
END:DAYLIGHT
END:VTIMEZONE
BEGIN:VEVENT
DTSTART;TZID=Europe/Dublin:20210122T080000
DTEND;TZID=Europe/Dublin:20211231T170000
DTSTAMP:20260422T183808
CREATED:20210122T170045Z
LAST-MODIFIED:20210406T135401Z
UID:11919-1611302400-1640970000@desfin.networkvillagecafe.com
SUMMARY:IHS: Fundamentals of Plant-Based Nutrition 2021
DESCRIPTION:IHS: Fundamentals of Plant-Based Nutrition 2021 \nThis course offers practical\, research-based information on differ models of plant-based eating and how to apply them. \nOnline course from the Institute of Health Sciences \nCost € 149 \nCPD points 20 \nTo Book: https://learn.instituteofhealthsciences.com/course?courseid=plant-based-nutrition
URL:https://desfin.networkvillagecafe.com/event/ihs-fundamentals-of-plant-based-nutrition-2021/
LOCATION:Online\, Ireland
CATEGORIES:CPD Events
ATTACH;FMTTYPE=image/jpeg:https://desfin.networkvillagecafe.com/wp-content/uploads/2019/05/IHS-logo-e1611334814169.jpg
END:VEVENT
BEGIN:VEVENT
DTSTART;TZID=Europe/Dublin:20210122T080000
DTEND;TZID=Europe/Dublin:20211231T170000
DTSTAMP:20260422T183808
CREATED:20210122T170715Z
LAST-MODIFIED:20210122T170725Z
UID:11925-1611302400-1640970000@desfin.networkvillagecafe.com
SUMMARY:IHS: Coaching Skills for Everyday Life 2021
DESCRIPTION:IHS: Coaching Skills for Everyday Life 2021 \nLearn how to transform your mindset and many areas of your life using key ‘coaching’ skills and techniques. \nOnline course from the Institute of Health Sciences \nCost € 249 \nCPD points 20  \nTo Book: https://learn.instituteofhealthsciences.com/course?courseid=csl
URL:https://desfin.networkvillagecafe.com/event/ihs-coaching-skills-for-everyday-life-2021/
LOCATION:Online\, Ireland
CATEGORIES:CPD Events
ATTACH;FMTTYPE=image/jpeg:https://desfin.networkvillagecafe.com/wp-content/uploads/2019/05/IHS-logo-e1611334814169.jpg
END:VEVENT
BEGIN:VEVENT
DTSTART;TZID=Europe/Dublin:20210122T080000
DTEND;TZID=Europe/Dublin:20211231T170000
DTSTAMP:20260422T183808
CREATED:20210122T171516Z
LAST-MODIFIED:20210406T134236Z
UID:11930-1611302400-1640970000@desfin.networkvillagecafe.com
SUMMARY:IHS: Certificate in Stress Management 2021
DESCRIPTION:IHS: Certificate in Stress Management 2021 \nFor anyone who wants to learn more about what stress really is\, how it affects the mind and body and what can be done to prevent\, manage and control stress. \nOnline Course from the Institute of Health Sciences. \nCost €149 \nCPD points 20 \nTo Book: https://learn.instituteofhealthsciences.com/course?courseid=stress-management
URL:https://desfin.networkvillagecafe.com/event/ihs-certificate-in-stress-management-2021/
LOCATION:Galway
CATEGORIES:CPD Events
ATTACH;FMTTYPE=image/jpeg:https://desfin.networkvillagecafe.com/wp-content/uploads/2019/05/IHS-logo-e1611334814169.jpg
END:VEVENT
BEGIN:VEVENT
DTSTART;TZID=Europe/Dublin:20210122T080000
DTEND;TZID=Europe/Dublin:20211231T170000
DTSTAMP:20260422T183808
CREATED:20210122T172247Z
LAST-MODIFIED:20210406T134136Z
UID:11935-1611302400-1640970000@desfin.networkvillagecafe.com
SUMMARY:IHS: Certificate in Personalised Sports Nutrition 2021
DESCRIPTION:IHS: Certificate in Personalised Sports Nutrition 2021 \nLearn how peak performance cannot be achieved without feeding the body optimum health and addressing imbalances first. \nOnline Course with IHS \nCost: €299 \nCPD 20 Points \nTo Book: https://learn.instituteofhealthsciences.com/course?courseid=personalised-sports-nutrition
URL:https://desfin.networkvillagecafe.com/event/ihs-certificate-in-personalised-sports-nutrition-2021/
LOCATION:Online\, Ireland
CATEGORIES:CPD Events
ATTACH;FMTTYPE=image/jpeg:https://desfin.networkvillagecafe.com/wp-content/uploads/2019/05/IHS-logo-e1611334814169.jpg
END:VEVENT
BEGIN:VEVENT
DTSTART;TZID=Europe/Dublin:20210305T080000
DTEND;TZID=Europe/Dublin:20210603T170000
DTSTAMP:20260422T183808
CREATED:20210305T172227Z
LAST-MODIFIED:20210426T144146Z
UID:11999-1614931200-1622739600@desfin.networkvillagecafe.com
SUMMARY:Susi Lodola: CBT & Motivational Interviewing for Weight Management
DESCRIPTION:Susi Lodola: CBT & Motivational Interviewing for Weight Management \n\n\nIn this popular workshop\, you will learn interventions to help your clients make changes to their behaviour and their cognition around developing a healthy lifestyle.\n\n\nIn addition\, you’ll get the tools to help your clients overcome dysfunctional beliefs related to deprivation\, and thoughts that sabotage their motivation and sense of self-efficacy.\n\n\nYou will also be able to apply Motivational Interviewing techniques to help your clients overcome ambivalence\, help them stay motivated to make positive lifestyle changes.\n\n\nThis workshop will be delivered online. You can expect lots of interaction\, demonstration of interventions\, and sharing of experiences from participants.\n\n\nDates: 4 & 5th June \nCost: €250\, early bird €190 before end of March \nCPD 12 points \nTo Book: https://susilodolacounselling.com/professional-training/
URL:https://desfin.networkvillagecafe.com/event/susi-lodola-cbt-motivational-interviewing-for-weight-management/
LOCATION:Galway
CATEGORIES:CPD Events
ATTACH;FMTTYPE=image/png:https://desfin.networkvillagecafe.com/wp-content/uploads/2020/06/Copy-of-Copy-of-Copy-of-Live-Interactive-Training-Workshop-2.png
ORGANIZER;CN="Susi Lodola Counselling":MAILTO:info@susilodolacounselling.com
END:VEVENT
BEGIN:VEVENT
DTSTART;TZID=Europe/Dublin:20210505T103000
DTEND;TZID=Europe/Dublin:20210616T120000
DTSTAMP:20260422T183808
CREATED:20210430T130704Z
LAST-MODIFIED:20210430T130720Z
UID:12170-1620210600-1623844800@desfin.networkvillagecafe.com
SUMMARY:Nutri Advanced Gut Transformation Live Programme
DESCRIPTION:Nutri Advanced: Gut Transformation Live Programme\nWe are thrilled to announce the exclusive pre-sale for the live Gut Transformation Programme is now open. This May you can experience the hugely successful Gut Transformation Programme alongside other practitioners and share your journey and insights through the process with others via a closed Facebook group. \nYou’ll also be able to join our live programme webinars with Jo Gamble BA (Hons) DIP CNM AFMCP Fellow ICT and Sarah Sharpe BSc (Hons) helping to keep you on track and also giving you a wealth of research and information on gut health. \nTo join the live programme\, simply order this gut transformation pack and you will be automatically enrolled on the live programme! \nIf you don’t wish to join the live programme would prefer to just order the programme pack\, please view our Gut Transformation Programme.  \nThe new 6-week Gut Transformation Programme is an intensive gut clearance protocol which aims to support clients with unpleasant\, nagging gut-related issues they may have been suffering with for years.   \nUntil now\, the digestive system has been largely overlooked and neglected by the conventional medical world\, but there does slowly seem to be a changing attitude among health professionals. \nNutri Advanced’s Gut Transformation Programme incorporates the 5R approach to provide a focus for the evaluation of gastrointestinal function\, and utilizes targeted nutritional\, digestive enzyme and probiotic formulas\, which\, in addition to a targeted food plan\, can support the normalisation of healthy gut function. \nGetting to the root cause is what functional medicine is all about and Nutri Advanced’s Gut Transformation Programme allows you to do just that\, providing the perfect platform to turn your client’s gut health around and get their digestive system functioning at its very best. \nThe 6-week Gut Transformation Programme includes all supplements\, instructions\, FAQs\, suggestions\, food lists\, recipes\, menu planner and a workbook to fill in. \nTo book: https://www.nutriadvanced.ie/gut-transformation-live-programme.html \nCPD points: 9  \n 
URL:https://desfin.networkvillagecafe.com/event/nutri-advanced-gut-transformation-live-programme/
LOCATION:Galway
CATEGORIES:CPD Events
ATTACH;FMTTYPE=image/jpeg:https://desfin.networkvillagecafe.com/wp-content/uploads/2019/12/Nutri-Advanced.jpg
END:VEVENT
BEGIN:VEVENT
DTSTART;TZID=Europe/Dublin:20210506T103000
DTEND;TZID=Europe/Dublin:20210506T120000
DTSTAMP:20260422T183808
CREATED:20210430T125628Z
LAST-MODIFIED:20210430T125644Z
UID:12162-1620297000-1620302400@desfin.networkvillagecafe.com
SUMMARY:Pharma Nord: Understanding cognitive functions and what we can do to age well
DESCRIPTION:Understanding cognitive functions and what we can do to age well\nA chemical imbalance in the body\, like a micronutrient deficiency\, a high level of chronic inflammation or toxins resulting from an unhealthy lifestyle can negatively impact our brain functioning\, potentially leading to symptoms of cognitive decline. Women appear to be particularly vulnerable due to the added effect of hormonal imbalances. \nEdelle O’Doherty-Nickels\, Nutritional Therapist and former research chemist\, teaches her clients that nutrition and lifestyle have a central role in the good functioning of the brain. \nJoin Edelle to learn more about how she uses diet and lifestyle interventions and nutritional supplements to help maintain cognitive functions in her clients. \nWEBINAR DETAILS \nDuration: 1.5 hourDate and time: Thursday\, 6th May\, 10.30am- 12noon \n\nCPD points 1.5\nCost: Free \nPlease register on www.pharmanord.ie/pro – choose Events page \n  \n\nSPEAKER\nEdelle O’Doherty-Nickels\, BSc PGDip Reg NT\, is a Certified Ketogenic Nutrition Specialist with the American Nutrition Association and qualified with the Institute of Functional Medicine in Applying Functional Medicine in Clinical Practice\, Cardiometabolic Advanced Practice and Immune System Advanced Practice. \nEdelle’s special area of interest is metabolic health and toxicity and how they influence the development of chronic illnesses\, and especially how they influence the brain and brain function. \nShe has trained with leading neurologist Dr. Dale Bredesen at the Buck Institute for Research on Aging in the Bredesen Protocol for the prevention of Alzheimer’s Disease. She is undertaking ongoing training with the Institute for Functional Medicine and has recently completed ‘Mastering Brain Chemistry’ physician training with Dr. William Walsh and the Walsh Research Institute.
URL:https://desfin.networkvillagecafe.com/event/pharma-nord-understanding-cognitive-functions-and-what-we-can-do-to-age-well/
LOCATION:Online\, Ireland
CATEGORIES:CPD Events
ATTACH;FMTTYPE=image/png:https://desfin.networkvillagecafe.com/wp-content/uploads/2019/05/Pharma-nord-cpd.png
END:VEVENT
BEGIN:VEVENT
DTSTART;TZID=Europe/Dublin:20210510T190000
DTEND;TZID=Europe/Dublin:20210510T203000
DTSTAMP:20260422T183808
CREATED:20210430T130045Z
LAST-MODIFIED:20210430T130100Z
UID:12166-1620673200-1620678600@desfin.networkvillagecafe.com
SUMMARY:Pharma Nord: Understanding cognitive functions and what we can do to age well
DESCRIPTION:Understanding cognitive functions and what we can do to age well\nA chemical imbalance in the body\, like a micronutrient deficiency\, a high level of chronic inflammation or toxins resulting from an unhealthy lifestyle can negatively impact our brain functioning\, potentially leading to symptoms of cognitive decline. Women appear to be particularly vulnerable due to the added effect of hormonal imbalances. \nEdelle O’Doherty-Nickels\, Nutritional Therapist and former research chemist\, teaches her clients that nutrition and lifestyle have a central role in the good functioning of the brain.  \nJoin Edelle to learn more about how she uses diet and lifestyle interventions and nutritional supplements to help maintain cognitive functions in her clients. \nWEBINAR DETAILS \nDuration: 1.5 hourDate and time: Monday\, 10th May\, 7- 8:30pm \nCPD points 1.5  \nCost: Free \nPlease register on www.pharmanord.ie/pro – choose Events page \n\nSPEAKER\nEdelle O’Doherty-Nickels\, BSc PGDip Reg NT\, is a Certified Ketogenic Nutrition Specialist with the American Nutrition Association and qualified with the Institute of Functional Medicine in Applying Functional Medicine in Clinical Practice\, Cardiometabolic Advanced Practice and Immune System Advanced Practice. \nEdelle’s special area of interest is metabolic health and toxicity and how they influence the development of chronic illnesses\, and especially how they influence the brain and brain function. \nShe has trained with leading neurologist Dr. Dale Bredesen at the Buck Institute for Research on Aging in the Bredesen Protocol for the prevention of Alzheimer’s Disease. She is undertaking ongoing training with the Institute for Functional Medicine and has recently completed ‘Mastering Brain Chemistry’ physician training with Dr. William Walsh and the Walsh Research Institute.
URL:https://desfin.networkvillagecafe.com/event/pharma-nord-understanding-cognitive-functions-and-what-we-can-do-to-age-well-2/
LOCATION:Online\, Ireland
CATEGORIES:CPD Events
ATTACH;FMTTYPE=image/png:https://desfin.networkvillagecafe.com/wp-content/uploads/2019/05/Pharma-nord-cpd.png
END:VEVENT
BEGIN:VEVENT
DTSTART;TZID=Europe/Dublin:20210512T190000
DTEND;TZID=Europe/Dublin:20210512T203000
DTSTAMP:20260422T183808
CREATED:20210430T132445Z
LAST-MODIFIED:20210430T132500Z
UID:12174-1620846000-1620851400@desfin.networkvillagecafe.com
SUMMARY:Nouveau Healthcare: The Future of Gut Health
DESCRIPTION:Nouveau Healthcare: The Future of Gut Health\nThis webinar examines and provides an in-depth insight into the current landscape around consumer driven gut health solutions. \nSunny is going to identify how integrating next generation microbiome testing and analysis can provide improved treatment of microbiome related conditions. Delving into the science and how Sun Genomics use next generation technology and bioinformatics to select and tailor the right pre & pro live bacteria strains used to create a personalised microbiome supplement for your gut needs. \nSunny will be showcasing the profiles of clients associated with specific conditions such as SIBO\, Bloating and IBS looking at their gut microbiome data\, and how select strains were identified and the solution provided for their microbiome. \n\n\nWebinar Agenda:\n• Sun Genomics: Origin Story & Founder Background (incl. the team\, scientific advisory board & capabilities) \n• Sharing a customer profile (longitudinal data) \n• The Science: Whole Genome Sequencing\, competitive analysis\, what makes your Floré unique\, nature of the gut microbiome and creation of the personalised supplement \n• Floré: the gut test\, analysis and how Sun Genomics select and tailor the right pre & pro live bacteria strains for your microbiome profile. \n• Q&A \n\n\nSpeaker\nSuneer “Sunny” Jain\, M.S.\, Founder and Chief Executive Officer of Sun Genomics\, Inc. \nDate And Time\n\nWed\, 12 May 2021 \n19:00 – 20:30 IST \n\nCPD points 1.5  \nTo book: https://www.eventbrite.co.uk/e/the-future-of-gut-health-tickets-150515087679
URL:https://desfin.networkvillagecafe.com/event/nouveau-healthcare-the-future-of-gut-health/
LOCATION:Online\, Ireland
CATEGORIES:CPD Events
ATTACH;FMTTYPE=image/png:https://desfin.networkvillagecafe.com/wp-content/uploads/2021/04/Screen-Shot-2021-04-30-at-14.22.39.png
END:VEVENT
BEGIN:VEVENT
DTSTART;TZID=Europe/Dublin:20210519T190000
DTEND;TZID=Europe/Dublin:20210519T200000
DTSTAMP:20260422T183808
CREATED:20210517T153405Z
LAST-MODIFIED:20210517T153418Z
UID:12189-1621450800-1621454400@desfin.networkvillagecafe.com
SUMMARY:Activated Probiotics: Exploring atopic immune imbalance and the gut microbiome
DESCRIPTION:Activated Probiotics: Exploring atopic immune imbalance and the gut microbiome \nAtopic immune balance & the gut microbiome\, plays an important role in Th1/Th2 immune cell balance. We review scientific research that demonstrates how live bacteria plays a part in epithelial barrier integrity and the immunomodulatory effect. \nDate 19th May \nTime 7 – 8 pm \nCPD 1 point  \nTo book: https://calendly.com/activated-probiotics-karen/atopic-immune
URL:https://desfin.networkvillagecafe.com/event/activated-probiotics-exploring-atopic-immune-imbalance-and-the-gut-microbiome/
LOCATION:Galway
CATEGORIES:CPD Events
ATTACH;FMTTYPE=image/png:https://desfin.networkvillagecafe.com/wp-content/uploads/2021/03/Screen-Shot-2021-03-12-at-17.29.51.png
END:VEVENT
BEGIN:VEVENT
DTSTART;TZID=Europe/Dublin:20210522T090000
DTEND;TZID=Europe/Dublin:20210522T180000
DTSTAMP:20260422T183808
CREATED:20210312T171218Z
LAST-MODIFIED:20210312T171222Z
UID:12074-1621674000-1621706400@desfin.networkvillagecafe.com
SUMMARY:Immune Resilience\, Rejuvenation & Recovery: Understanding Modifiable Risk Factors for Viral Illness
DESCRIPTION:Immune Resilience\, Rejuvenation and Recovery: Understanding Modifiable Risk Factors for Viral Illness \nFeaturing leading educators and clinicians who are experts on emergent scientific and clinical evidence in the specialist area of immunological health and the relationships between viral illness\, metabolic health\, nutrition and lifestyle medicine. The focus of the presentations is exploring modifiable biological\, lifestyle-related and environmental risk factors for viral infection and translating them to community health and clinical practice. \nKey immunological health specialties and subspecialty disciplines include functional immunology\, epigenetics\, nutrigenomics\, endocrinology\, neurology\, microbiology\, nutritional medicine\, lifestyle medicine\, integrative medicine and preventive medicine. \nLocation: Online \nDate: 22 May 2021 \nTime: 0900hrs – 1800hrs \nCPD Points: 7  \nEvent Links \nEvent Link – https://www.nmi.health/bant-agm-conference-2021/ \nTicket Bookings – http://www.nmi.health/register \n 
URL:https://desfin.networkvillagecafe.com/event/immune-resilience-rejuvenation-recovery-understanding-modifiable-risk-factors-for-viral-illness/
LOCATION:Online\, Ireland
CATEGORIES:CPD Events
ATTACH;FMTTYPE=image/jpeg:https://desfin.networkvillagecafe.com/wp-content/uploads/2021/03/AGM_event_banner_1500x600M-1.jpg
END:VEVENT
BEGIN:VEVENT
DTSTART;TZID=Europe/Dublin:20210526T190000
DTEND;TZID=Europe/Dublin:20210526T190000
DTSTAMP:20260422T183808
CREATED:20210521T164416Z
LAST-MODIFIED:20210521T164432Z
UID:12208-1622055600-1622055600@desfin.networkvillagecafe.com
SUMMARY:Activated Probiotics: Iron metabolism and the role of bacteria supplements
DESCRIPTION:Activated Probiotics: Iron metabolism and the role of bacteria supplements \nBeneficial microbes are important residents of the gut\, they play an important role in iron metabolism. We review scientific research that demonstrates how live bacteria plays a part in the reduction of iron from FE3+ to FE2+ form and its role in regulating the release of hepcidin from the enterocytes into the bloodstream. \nThis fascinating webinar hosted by Yuwa Aghedo and Karen Harrison\, will be discussing research behind the Lactobacillus plantarum 299v strain\, mechanism of action. Plus some myths and truths about probiotic science. \nDate: 28th May \nTime 7 pm \nTo book: https://calendly.com/activated-probiotics-karen/iron-metabolism-and-the-role-of-bacteria-supple?month=2021-05&date=2021-05-26
URL:https://desfin.networkvillagecafe.com/event/activated-probiotics-iron-metabolism-and-the-role-of-bacteria-supplements/
LOCATION:Online\, Ireland
CATEGORIES:CPD Events
ATTACH;FMTTYPE=image/png:https://desfin.networkvillagecafe.com/wp-content/uploads/2021/03/Screen-Shot-2021-03-12-at-17.29.51.png
END:VEVENT
BEGIN:VEVENT
DTSTART;TZID=Europe/Dublin:20210527T110000
DTEND;TZID=Europe/Dublin:20210527T170000
DTSTAMP:20260422T183808
CREATED:20210521T170203Z
LAST-MODIFIED:20210524T135350Z
UID:12218-1622113200-1622134800@desfin.networkvillagecafe.com
SUMMARY:Functional Nutrition for Optimising Bone Health\, Part 2: Supplements for Bone Structure
DESCRIPTION:Functional Nutrition for Optimising Bone Health\, Part 2: Supplements for Bone Structure \nDate May 27\, 2021 \nTime: 11:00 AM London \nTo book: https://us02web.zoom.us/webinar/register/WN_scCG2oTLTzGrvwYsFi51PQ \n 
URL:https://desfin.networkvillagecafe.com/event/functional-nutrition-for-optimising-bone-health-part-2-supplements-for-bone-structure/
LOCATION:Online\, Ireland
CATEGORIES:CPD Events
ATTACH;FMTTYPE=image/jpeg:https://desfin.networkvillagecafe.com/wp-content/uploads/2020/05/pure-logo_2015_new_tag.jpg
END:VEVENT
END:VCALENDAR