BEGIN:VCALENDAR
VERSION:2.0
PRODID:-//NTOI - ECPv6.2.9//NONSGML v1.0//EN
CALSCALE:GREGORIAN
METHOD:PUBLISH
X-ORIGINAL-URL:https://desfin.networkvillagecafe.com
X-WR-CALDESC:Events for NTOI
REFRESH-INTERVAL;VALUE=DURATION:PT1H
X-Robots-Tag:noindex
X-PUBLISHED-TTL:PT1H
BEGIN:VTIMEZONE
TZID:Europe/Dublin
BEGIN:STANDARD
TZOFFSETFROM:+0000
TZOFFSETTO:+0100
TZNAME:IST
DTSTART:20220327T010000
END:STANDARD
BEGIN:DAYLIGHT
TZOFFSETFROM:+0100
TZOFFSETTO:+0000
TZNAME:GMT
DTSTART:20221030T010000
END:DAYLIGHT
END:VTIMEZONE
BEGIN:VEVENT
DTSTART;TZID=Europe/Dublin:20220107T100000
DTEND;TZID=Europe/Dublin:20220324T170000
DTSTAMP:20260422T001708
CREATED:20211105T142532Z
LAST-MODIFIED:20211109T171030Z
UID:12553-1641549600-1648141200@desfin.networkvillagecafe.com
SUMMARY:Lifecode GX: Nutrigenomics Practitioner Programme
DESCRIPTION:Nutrigenomics Practitioner Programme \nNutrigenomics may be the most important development in personalised nutrition this century. The ability to assess an individual’s nutrient requirements in addition to their nutrient status is a giant leap for practitioners. Practitioners who fully integrate nutrigenomics into their practice find that client engagement improves along with clinical outcomes. \nAre you currently grappling with the use of nutrigenomics or wondering whether to embark on learning more? If so\, the Lifecode Gx® Nutrigenomics Practitioner programme is for you! \nThe 10-week programme will run from January to March 2022\, providing 20 hours of education and guidance in weekly 2-hour sessions. \nStarts Jan 7th 2022 \nCost 350 GBP \nTo Book: https://www.crowdcast.io/e/nutripractitioner22/register
URL:https://desfin.networkvillagecafe.com/event/lifecode-gx-nutrigenomics-practitioner-programme/
LOCATION:Online\, Ireland
CATEGORIES:CPD Events
ATTACH;FMTTYPE=image/png:https://desfin.networkvillagecafe.com/wp-content/uploads/2021/11/Screen-Shot-2021-11-05-at-14.24.59.png
END:VEVENT
BEGIN:VEVENT
DTSTART;TZID=Europe/Dublin:20220301T100000
DTEND;TZID=Europe/Dublin:20220301T160000
DTSTAMP:20260422T001708
CREATED:20220225T165756Z
LAST-MODIFIED:20220225T165803Z
UID:12682-1646128800-1646150400@desfin.networkvillagecafe.com
SUMMARY:Pharma Nord Practitioner Event Cork
DESCRIPTION:Pharma Nord Practitioner Event Cork \nDate March 1st  \nTime 10 am – 4 pm  \nTalks:  \nUnderstanding cognitive functions and what we can do to age well – Edelle O’Doherty \nNavigate smoothly through menopause – Catherine O’Keeffe \nTo book: https://www.pharmanord.ie/academy \n  \n\n\n\n 
URL:https://desfin.networkvillagecafe.com/event/pharma-nord-practitioner-event-cork/
LOCATION:Rochestown Park Hotel\, Rochestown Road\, Douglas\, Cork\, Ireland
CATEGORIES:CPD Events
ATTACH;FMTTYPE=image/png:https://desfin.networkvillagecafe.com/wp-content/uploads/2019/05/Pharma-nord-cpd.png
END:VEVENT
BEGIN:VEVENT
DTSTART;TZID=Europe/Dublin:20220303T190000
DTEND;TZID=Europe/Dublin:20220303T200000
DTSTAMP:20260422T001708
CREATED:20220303T152740Z
LAST-MODIFIED:20220303T152746Z
UID:12708-1646334000-1646337600@desfin.networkvillagecafe.com
SUMMARY:Nutri Advanced Infertility: Why Is It On The Increase And What Can We Do?
DESCRIPTION:Infertility: Why Is It On The Increase And What Can We Do?\nMany women struggle to conceive\, and the numbers appear to be on the rise. The dynamic changes of age on conception are exacerbating an already dropping fertility health in both men and women. In this webinar functional medicine practitioner Jo Gamble will investigate the common factors that impact a couple’s ability to conceive. Topics covered in this webinar will include: \n– Environmental considerations: Oestogens and Xenoestrogens \n– The impact of stress and melatonin – Mitochondrial energy \n– Oxidative stress \n– Inflammation and aging \n– Low thyroid function \n– Methylation factors (MTHFR) \n– Microbiome and fertility \n– Toxic exposure \nTo book: https://register.gotowebinar.com/register/3830720918083308816
URL:https://desfin.networkvillagecafe.com/event/nutri-advanced-infertility-why-is-it-on-the-increase-and-what-can-we-do/
LOCATION:Galway
CATEGORIES:CPD Events
ATTACH;FMTTYPE=image/jpeg:https://desfin.networkvillagecafe.com/wp-content/uploads/2019/12/Nutri-Advanced.jpg
END:VEVENT
BEGIN:VEVENT
DTSTART;TZID=Europe/Dublin:20220305T100000
DTEND;TZID=Europe/Dublin:20220305T160000
DTSTAMP:20260422T001708
CREATED:20220225T170222Z
LAST-MODIFIED:20220225T170228Z
UID:12688-1646474400-1646496000@desfin.networkvillagecafe.com
SUMMARY:Pharma Nord Practitioner Event Dublin
DESCRIPTION:Pharma Nord Practitioner Event Dublin \nDate and Time: 5th march 10 – 4pm \nLocation: Talbot Hotel \nTalks: \nUnderstanding cognitive functions and what we can do to age well – Edelle O’Doherty \nNavigate smoothly through menopause – Catherine O’Keeffe \nTo book: https://www.pharmanord.ie/academy \n\n\n\n \n\n\n\n 
URL:https://desfin.networkvillagecafe.com/event/pharma-nord-practitioner-event-dublin/
LOCATION:The Talbot Hotel\, Stillorgan\, Dublin\, Ireland
CATEGORIES:CPD Events
ATTACH;FMTTYPE=image/png:https://desfin.networkvillagecafe.com/wp-content/uploads/2019/05/Pharma-nord-cpd.png
END:VEVENT
BEGIN:VEVENT
DTSTART;TZID=Europe/Dublin:20220315T100000
DTEND;TZID=Europe/Dublin:20220315T110000
DTSTAMP:20260422T001708
CREATED:20220303T151219Z
LAST-MODIFIED:20220307T152616Z
UID:12703-1647338400-1647342000@desfin.networkvillagecafe.com
SUMMARY:Circle of Light - The Natural Health Revolution
DESCRIPTION:Circle of Light – The Natural Health Revolution \nDate & Time:15th March 2022 @ 10:00am & 7:00pmLink to Register:https://circleoflight.ie/circle-of-light-the-natural-health-revolution/ \nBlurb: \nWith nature and science working together — Circle of Light brings wholesome\, all natural ingredients to help you support your clients on their journey to long-term wellbeing. Everything we do is centred around the principal of Food Integrity. \nWe’ll discuss all things Inulin\, to enable your clients to easily intake this EFSA approved soluble prebiotic fibre in their diet to help relieve constipation & feed beneficial gut bacteria. \nWe’ll talk about unroasted Green Coffee — all the natural benefits of the green coffee fruit to support heart & skin. We will discuss how you can support clients with elevated blood pressure\, cholesterol and inflammation. \nFinally we will touch on a blend to help us all to Relax\, Restore\, Rebalance — a great way to put the day to bed!
URL:https://desfin.networkvillagecafe.com/event/circle-of-light-the-natural-health-revolution/
LOCATION:Online\, Ireland
CATEGORIES:CPD Events
ATTACH;FMTTYPE=image/png:https://desfin.networkvillagecafe.com/wp-content/uploads/2022/03/Circle-of-Light-NHR-Emer-Walsh.png
END:VEVENT
BEGIN:VEVENT
DTSTART;TZID=Europe/Dublin:20220315T190000
DTEND;TZID=Europe/Dublin:20220315T200000
DTSTAMP:20260422T001708
CREATED:20220307T153114Z
LAST-MODIFIED:20220307T153120Z
UID:12719-1647370800-1647374400@desfin.networkvillagecafe.com
SUMMARY:Circle of Light - The Natural Health Revolution
DESCRIPTION:Circle of Light – The Natural Health Revolution \nDate & Time:15th March 2022 @ 10:00am & 7:00pmLink to Register:https://circleoflight.ie/circle-of-light-the-natural-health-revolution/ \nBlurb: \nWith nature and science working together — Circle of Light brings wholesome\, all natural ingredients to help you support your clients on their journey to long-term wellbeing. Everything we do is centred around the principal of Food Integrity. \nWe’ll discuss all things Inulin\, to enable your clients to easily intake this EFSA approved soluble prebiotic fibre in their diet to help relieve constipation & feed beneficial gut bacteria. \nWe’ll talk about unroasted Green Coffee — all the natural benefits of the green coffee fruit to support heart & skin. We will discuss how you can support clients with elevated blood pressure\, cholesterol and inflammation. \nFinally we will touch on a blend to help us all to Relax\, Restore\, Rebalance — a great way to put the day to bed!
URL:https://desfin.networkvillagecafe.com/event/circle-of-light-the-natural-health-revolution-2/
LOCATION:Galway
CATEGORIES:CPD Events
ATTACH;FMTTYPE=image/png:https://desfin.networkvillagecafe.com/wp-content/uploads/2022/03/Circle-of-Light-NHR-Emer-Walsh.png
END:VEVENT
BEGIN:VEVENT
DTSTART;TZID=Europe/Dublin:20220315T190000
DTEND;TZID=Europe/Dublin:20220315T210000
DTSTAMP:20260422T001708
CREATED:20220311T154235Z
LAST-MODIFIED:20220311T154242Z
UID:12734-1647370800-1647378000@desfin.networkvillagecafe.com
SUMMARY:Pharma Nord: How to age well - Key Nutrients
DESCRIPTION:How to age well – key nutrients to be your best at any age – Michelle Kelly\, NT Msc \nThis talk is on twice – please see below. You can use the same link to book!  \n15-03-2022 – Rochestown Park Hotel\, Cork – 7- 9pm \n16-03-2022 – Rochestown Park Hotel\, Cork – 10am- 12noon \nTo book: https://www.pharmanord.ie/academy
URL:https://desfin.networkvillagecafe.com/event/pharma-nord-how-to-age-well-key-nutrients/
LOCATION:Rochestown Park Hotel\, Rochestown Road\, Douglas\, Cork\, Ireland
CATEGORIES:CPD Events
ATTACH;FMTTYPE=image/png:https://desfin.networkvillagecafe.com/wp-content/uploads/2019/05/Pharma-nord-cpd.png
END:VEVENT
BEGIN:VEVENT
DTSTART;TZID=Europe/Dublin:20220316T100000
DTEND;TZID=Europe/Dublin:20220316T120000
DTSTAMP:20260422T001708
CREATED:20220311T154554Z
LAST-MODIFIED:20220311T154600Z
UID:12740-1647424800-1647432000@desfin.networkvillagecafe.com
SUMMARY:Pharma Nord: How to age well - Key Nutrients
DESCRIPTION:Pharma Nord: How to age well – Key Nutrients \n16-03-2022 – Rochestown Park Hotel\, Cork – 10am- 12noon \nto Book: https://www.pharmanord.ie/academy \n 
URL:https://desfin.networkvillagecafe.com/event/pharma-nord-how-to-age-well-key-nutrients-2/
LOCATION:Rochestown Park Hotel\, Rochestown Road\, Douglas\, Cork\, Ireland
CATEGORIES:CPD Events
ATTACH;FMTTYPE=image/png:https://desfin.networkvillagecafe.com/wp-content/uploads/2019/05/Pharma-nord-cpd.png
END:VEVENT
BEGIN:VEVENT
DTSTART;TZID=Europe/Dublin:20220316T110000
DTEND;TZID=Europe/Dublin:20220316T120000
DTSTAMP:20260422T001708
CREATED:20220311T155327Z
LAST-MODIFIED:20220311T155334Z
UID:12745-1647428400-1647432000@desfin.networkvillagecafe.com
SUMMARY:BioNutri: Sciatica
DESCRIPTION:Wednesday 16th March – Sciatica (Sue) \nSciatica refers to common pain that radiates along the path of the sciatic nerve\, which branches from the lower back through the hips down to the feet. \nThis webinar will be discussing the four types of sciatica\, their causes and nutritional interventions that can support this nervous condition. \nTime 11-12pm \nTo Book: https://us02web.zoom.us/meeting/register/tZ0qceCvrT0oGdX3vr8TT26doSKM78MMP63P
URL:https://desfin.networkvillagecafe.com/event/bionutri-sciatica/
LOCATION:Online
CATEGORIES:CPD Events
ATTACH;FMTTYPE=image/png:https://desfin.networkvillagecafe.com/wp-content/uploads/2022/03/Sciatica-SMALL-01-01.png
END:VEVENT
BEGIN:VEVENT
DTSTART;TZID=Europe/Dublin:20220316T190000
DTEND;TZID=Europe/Dublin:20220316T200000
DTSTAMP:20260422T001708
CREATED:20220107T140004Z
LAST-MODIFIED:20220107T140010Z
UID:12621-1647457200-1647460800@desfin.networkvillagecafe.com
SUMMARY:Activated probiotics: Women’s health\, perinatal care & the vaginal microbiome
DESCRIPTION:Title: Women’s health\, perinatal care & the vaginal microbiome\nMarch 16th 2022 – 7pm\n \n\nActivated Probiotics are repeating this webinar which they ran late last year. \n\n \nThe webinar is on the impact of the human microbiome on pregnancy\, in particular the impact of vaginal dysbiosis\, specific strains and species of live bacteria that may support women’s health and their benefits.\n \n\n\nHosted by Activated Probiotics’ European Practitioner Consultant Yuwa Aghedo and Science & Education Support Karen Harrison.\n \nLink to register: https://calendly.com/activated-probiotics-karen/womens-health\n 
URL:https://desfin.networkvillagecafe.com/event/activated-probiotics-womens-health-perinatal-care-the-vaginal-microbiome/
LOCATION:Online\, Ireland
CATEGORIES:CPD Events
ATTACH;FMTTYPE=image/png:https://desfin.networkvillagecafe.com/wp-content/uploads/2021/03/Screen-Shot-2021-03-12-at-17.29.51.png
END:VEVENT
BEGIN:VEVENT
DTSTART;TZID=Europe/Dublin:20220322T100000
DTEND;TZID=Europe/Dublin:20220322T160000
DTSTAMP:20260422T001708
CREATED:20220311T151712Z
LAST-MODIFIED:20220311T151719Z
UID:12730-1647943200-1647964800@desfin.networkvillagecafe.com
SUMMARY:Pharma Nord: Ageing in a Healthy Way
DESCRIPTION:Ageing in a healthy way- We talk Women’s Health – 22-03-2022\, Talbot Hotel Stillorgan\, Dublin \n10am- 12noon\, How to face anxiety in a constructive\, sustainable way – Eileen Hopkins\, Psychotherapist \n2- 4pm\, Navigate smoothly through menopause – Catherine O’Keeffe\, Menopause Coach \nTo book: https://www.pharmanord.ie/academy
URL:https://desfin.networkvillagecafe.com/event/pharma-nord-ageing-in-a-healthy-way/
LOCATION:The Talbot Hotel\, Stillorgan\, Dublin\, Ireland
CATEGORIES:CPD Events
ATTACH;FMTTYPE=image/png:https://desfin.networkvillagecafe.com/wp-content/uploads/2019/05/Pharma-nord-cpd.png
END:VEVENT
BEGIN:VEVENT
DTSTART;TZID=Europe/Dublin:20220322T150000
DTEND;TZID=Europe/Dublin:20220322T163000
DTSTAMP:20260422T001708
CREATED:20220303T145618Z
LAST-MODIFIED:20220303T145626Z
UID:12697-1647961200-1647966600@desfin.networkvillagecafe.com
SUMMARY:Nutricentric Healthcare: IgG Antibody Testing - The Clinical Utility
DESCRIPTION:Nutricentric Healthcare: IgG Antibody Testing – The Clinical Utility \nDate and Time of event: \nTue\, Mar 22\, 2022 3:00 PM – 4:30 PM GMT \n  \nSummary \nTopics to be covered: – Understanding why terminology matters – Addressing the controversy surrounding IgG antibody testing – Reviewing the literature for a variety of challenging health conditions – Understanding cross-reactions – Case studies \nToBook: https://attendee.gotowebinar.com/register/493040126543371276?source=NTOI
URL:https://desfin.networkvillagecafe.com/event/nutricentric-healthcare-igg-antibody-testing-the-clinical-utility/
LOCATION:Galway
CATEGORIES:CPD Events
ATTACH;FMTTYPE=image/jpeg:https://desfin.networkvillagecafe.com/wp-content/uploads/2022/03/Nutricentric.jpeg
END:VEVENT
BEGIN:VEVENT
DTSTART;TZID=Europe/Dublin:20220322T183000
DTEND;TZID=Europe/Dublin:20220322T193000
DTSTAMP:20260422T001708
CREATED:20220225T162203Z
LAST-MODIFIED:20220225T162210Z
UID:12677-1647973800-1647977400@desfin.networkvillagecafe.com
SUMMARY:Optibac: A Practitioner’s Guide to Menopause and How Probiotics May Support
DESCRIPTION:‘A Practitioner’s Guide to Menopause and How Probiotics May Support‘\n\nMenopause is something that 50% of the population will experience and is therefore a concern we might often encounter in clinical practice. The symptoms of menopause can differ from person to person\, but they can affect quality of life. During this webinar\, we will assess the biological changes that occur during menopause and how they impact the microbiome. We will also explore some of the common symptoms of menopause and how probiotics could play a part in a holistic menopause support protocol. \nDate & Time: Tuesday 22nd March at 6.30pm. \nTo BOOK: https://register.gotowebinar.com/register/4429271962592589583
URL:https://desfin.networkvillagecafe.com/event/optibac-a-practitioners-guide-to-menopause-and-how-probiotics-may-support/
LOCATION:Online\, Ireland
CATEGORIES:CPD Events
ATTACH;FMTTYPE=image/jpeg:https://desfin.networkvillagecafe.com/wp-content/uploads/2022/02/image002.jpg
END:VEVENT
BEGIN:VEVENT
DTSTART;TZID=Europe/Dublin:20220323T110000
DTEND;TZID=Europe/Dublin:20220323T120000
DTSTAMP:20260422T001708
CREATED:20220311T155720Z
LAST-MODIFIED:20220311T155816Z
UID:12751-1648033200-1648036800@desfin.networkvillagecafe.com
SUMMARY:BioNutri: Leaky Gut
DESCRIPTION:Wednesday 23rd March  – Leaky Gut (Ed) \nLeaky gut is a broad description that can have far reaching consequences. But gut permeability shouldn’t be as complicated as all that\, after all\, nourishing the body of tissue that all our nutrition passes through\, the epithelium\, should be highly accessible. \nWhat is the best way to nourish epithelial tissue and how can we dampen down the associated symptoms of leaky gut. Join Edward Joy on 23rd March to find out more. \nTime: 11 -12pm \nTo Book: https://us02web.zoom.us/meeting/register/tZ0qceCvrT0oGdX3vr8TT26doSKM78MMP63P
URL:https://desfin.networkvillagecafe.com/event/bionutri-leaky-gut/
LOCATION:Online\, Ireland
CATEGORIES:CPD Events
ATTACH;FMTTYPE=image/png:https://desfin.networkvillagecafe.com/wp-content/uploads/2022/03/Leaky-Gut-SMALL-01.png
END:VEVENT
BEGIN:VEVENT
DTSTART;TZID=Europe/Dublin:20220324T110000
DTEND;TZID=Europe/Dublin:20220324T120000
DTSTAMP:20260422T001708
CREATED:20220318T155309Z
LAST-MODIFIED:20220318T155316Z
UID:12757-1648119600-1648123200@desfin.networkvillagecafe.com
SUMMARY:Nutri Advanced: The Blood Interpretation Series
DESCRIPTION:Nutri Advanced: The Blood Interpretation Series \nAt Nutri Advanced we are often told that your client’s test results from the GP are “normal”. But is this really the case? We asked blood test interpretation expert\, Kate Knowler\, to present a series of lectures on helping you find valuable information in your clients blood test results and make the most of the tests available from the GP. \nGetting confident with selecting\, requesting\, and interpreting blood labs (private and NHS) 17th March 2022 11.00-12.00 \nFocus on thyroid – understanding key markers and identifying patterns in blood labs that may explain your client’s thyroid issues 24th March 2022 11.00-12.00 \nFocus on B12 and iron – understanding key markers and identifying patterns in blood labs that may explain your client’s underlying fatigue issues. 31st March 2022 11.00-12.00 \nAbout your speaker: Registered nutritional therapist and phlebotomist\, lecturer\, and author of Blood Labs – A Guide to Interpreting Blood Test Results for Fatigue\, Kate Knowler is passionate about sharing her knowledge of phlebotomy and blood test interpretation. After a personal experience of receiving “normal” blood test results despite extensive issues with fatigue\, Kate Knowler spent time researching textbooks\, studies\, and online resources to understand the importance of optimal blood test results. She was able to use this knowledge to improve her overall wellbeing\, and now applies it to all of her clients. By registering you will automatically be signed up for all 3 webinars\, and you will receive a copy of the recording after the webinar has ended if you aren’t able to attend any of the sessions live. \nTo book: Registration (gotowebinar.com)
URL:https://desfin.networkvillagecafe.com/event/nutri-advanced-the-blood-interpretation-series/
LOCATION:Galway
CATEGORIES:CPD Events
ATTACH;FMTTYPE=image/jpeg:https://desfin.networkvillagecafe.com/wp-content/uploads/2019/12/Nutri-Advanced.jpg
END:VEVENT
BEGIN:VEVENT
DTSTART;TZID=Europe/Dublin:20220324T190000
DTEND;TZID=Europe/Dublin:20220324T210000
DTSTAMP:20260422T001708
CREATED:20220303T154210Z
LAST-MODIFIED:20220307T154057Z
UID:12712-1648148400-1648155600@desfin.networkvillagecafe.com
SUMMARY:IHS: Build Your Authentic Nutrition Business in 12 weeks
DESCRIPTION:IHS: “Build Your Authentic Nutrition Business in 12 weeks”  \nThis is a unique mentoring course designed by three well established practitioners to help you build your nutrition business and ensure that your passion becomes profitable. \nStarting in March 2022\, during live weekly online classes\, you’ll get clarity as to what needs to be done & how to go about progressing\, step by step\, towards a business set up that works for you. We’ll support you to overcome your fears\, get good at promoting yourself as well as know how to charge to reflect your true worth. \nLet’s make 2022\, the year when you’ll succeed in this competitive industry. Places are limited so sign up now to avoid disappointment :  https://study.instituteofhealthsciences.com/from-passion-to-profit-mentoring-programme/
URL:https://desfin.networkvillagecafe.com/event/ihs-build-your-authentic-nutrition-business-in-12-weeks/
LOCATION:Online\, Ireland
CATEGORIES:CPD Events
ATTACH;FMTTYPE=image/png:https://desfin.networkvillagecafe.com/wp-content/uploads/2022/03/logo.png
END:VEVENT
BEGIN:VEVENT
DTSTART;TZID=Europe/Dublin:20220331T210000
DTEND;TZID=Europe/Dublin:20220331T220000
DTSTAMP:20260422T001708
CREATED:20220401T154812Z
LAST-MODIFIED:20220401T154849Z
UID:12789-1648760400-1648764000@desfin.networkvillagecafe.com
SUMMARY:Pure Encapsulations: Intestinal Permeability\, Part 1
DESCRIPTION:Pure Encapsulations: Intestinal Permeability\, Part 1 \n\n\n\nFoundations of Increased Intestinal Permeability in Clinical Practice and Research\n \n\nDescription \n\nTopics:1) Latest scientific understanding of increased intestinal permeability\,2) Classification and sub-groups of increased intestinal permeability\,3) Risk factors for increased intestinal permeability\,4) Disease and health conditions associated with increased intestinal permeability. \nSynopsis:During this three-part series\, Brad Leech will expand the clinical understanding of increased intestinal permeability\, providing clinicians with the latest evidence on testing and managing an impaired intestinal barrier. In the first webinar\, Brad will delve deep into the current understanding of increased intestinal permeability and provide clinicians with methods to better navigate the literature and apply evidence-based patient care. He will describe the strongest risk factors for increased intestinal permeability\, mentioning the health conditions known to be associated with this intestinal reaction. Brad will educate clinicians on the clinical relevance of these risk factors and disease associations for intestinal permeability management. \nSpeaker:Brad Leech is an internationally recognised Clinical Nutritionist and Ayurvedic Herbalist. After entering the integrative medicine profession in 2008\, Brad has taught and developed subjects at leading academic institutions in Integrative Gastroenterology\, Naturopathic Medicine\, Nutritional and Dietetic Medicine and Public Health Research. As Clinical Science Lead in integrated and functional medicine at Microba\, his expertise in integrative gastrointestinal healthcare enables him to translate the latest science on the gut microbiome into practical clinical application. Brad is in the final stages of completing his PhD at the Australian Research Centre in Complementary and Integrative Medicine\, University of Technology Sydney. His research involves developing the IP Guidelines\, an evidence-based clinical practice guideline for managing increased intestinal permeability.\n\nTime \n\nMar 31\, 2022 09:00 PM in London \n\n\n\nTo Book: https://us02web.zoom.us/webinar/register/WN_PipIvnafTUeiL0OrJvOesQ
URL:https://desfin.networkvillagecafe.com/event/pure-encapsulations-intestinal-permeability-part-1/
LOCATION:Online\, Ireland
CATEGORIES:CPD Events
ATTACH;FMTTYPE=image/jpeg:https://desfin.networkvillagecafe.com/wp-content/uploads/2020/05/pure-logo_2015_new_tag.jpg
END:VEVENT
END:VCALENDAR