BEGIN:VCALENDAR
VERSION:2.0
PRODID:-//NTOI - ECPv6.2.9//NONSGML v1.0//EN
CALSCALE:GREGORIAN
METHOD:PUBLISH
X-ORIGINAL-URL:https://desfin.networkvillagecafe.com
X-WR-CALDESC:Events for NTOI
REFRESH-INTERVAL;VALUE=DURATION:PT1H
X-Robots-Tag:noindex
X-PUBLISHED-TTL:PT1H
BEGIN:VTIMEZONE
TZID:Europe/Dublin
BEGIN:STANDARD
TZOFFSETFROM:+0000
TZOFFSETTO:+0100
TZNAME:IST
DTSTART:20220327T010000
END:STANDARD
BEGIN:DAYLIGHT
TZOFFSETFROM:+0100
TZOFFSETTO:+0000
TZNAME:GMT
DTSTART:20221030T010000
END:DAYLIGHT
END:VTIMEZONE
BEGIN:VEVENT
DTSTART;TZID=Europe/Dublin:20220502T080000
DTEND;TZID=Europe/Dublin:20220502T170000
DTSTAMP:20260421T205921
CREATED:20220519T154517Z
LAST-MODIFIED:20220519T154517Z
UID:12940-1651478400-1651510800@desfin.networkvillagecafe.com
SUMMARY:Vicky Shilling -How To Market Your Wellness Business Without Social Media
DESCRIPTION:This is a four week course combining pre-recorded trainings with live Q&As with wellness business mentor Vicky Shilling that will help you take practical steps to more effectively market your business in a way that feels more aligned\, more sustainable and more you than the relentless churn of social media. \n This course is perfect for: \n\nHealth professionals at any stage of their business\, either totally new or more established\, to learn marketing techniques that don’t rely on social media\nAnyone who is feeling exhausted\, intimidated or just totally out of alignment with using social media to promote what they do and get clients \nFor health experts that do still want to use social media\, but want to add more variety to their enquiries and income streams to make their business more sustainable\n\nCost: €100 for 4 weeks content with life-time access to the resources.
URL:https://desfin.networkvillagecafe.com/event/vicky-shilling-how-to-market-your-wellness-business-without-social-media/
LOCATION:online
CATEGORIES:CPD Events
ATTACH;FMTTYPE=image/png:https://desfin.networkvillagecafe.com/wp-content/uploads/2022/05/MWSM-Facebook-group-banner-1640-x-856-px-3-2.png
END:VEVENT
BEGIN:VEVENT
DTSTART;TZID=Europe/Dublin:20220511T110000
DTEND;TZID=Europe/Dublin:20220511T170000
DTSTAMP:20260421T205921
CREATED:20220429T131255Z
LAST-MODIFIED:20220429T131300Z
UID:12853-1652266800-1652288400@desfin.networkvillagecafe.com
SUMMARY:BioNutri: CoQ10
DESCRIPTION:BioNutri: CoQ10 \nWednesday 11th May \nCoenzymeQ10 is a fat-soluble substance\, found throughout the body in cell membranes\, especially in the mitochondrial membranes\, and is chiefly abundant in the heart\, lungs\, liver\, kidneys\, spleen\, pancreas\, and adrenal glands. \nThis webinar will discuss the significant benefits of CoenzymeQ10 to health and the reasons behind its use in a micellised form within the Bionutri range. \nTo Book: https://us02web.zoom.us/meeting/register/tZwrdemuqT0iGdCHsCF3QNhPn9hd7CB-dD9V
URL:https://desfin.networkvillagecafe.com/event/bionutri-coq10/
LOCATION:Online\, Ireland
CATEGORIES:CPD Events
ATTACH;FMTTYPE=image/png:https://desfin.networkvillagecafe.com/wp-content/uploads/2022/04/CoQ10-SMALL-01-01.png
END:VEVENT
BEGIN:VEVENT
DTSTART;TZID=Europe/Dublin:20220517T100000
DTEND;TZID=Europe/Dublin:20220517T120000
DTSTAMP:20260421T205921
CREATED:20220519T153732Z
LAST-MODIFIED:20220519T153732Z
UID:12938-1652781600-1652788800@desfin.networkvillagecafe.com
SUMMARY:Biocare- Skin Deep: Love the Skin you’re in!
DESCRIPTION:As our vital connecting organ between outside and inside\, our skin intelligently adapts to our exposure to environmental challenges\, including bacteria\, sun and toxins\, but also represents a window to inner health. In this webinar Jules Cattell takes a multi-system approach to skin health\, and tackles key protocols in supporting skin ageing\, eczema\, psoriasis and acne. \nIF YOU’RE NOT ABLE TO WATCH LIVE\, A RECORDING WILL BE AVAILABLE TO ALL REGISTRANTS 24HRS LATER.\nDATE: 17/05/2021\nTime 10.00am-12.00pm BST\nCPD: 2 points
URL:https://desfin.networkvillagecafe.com/event/biocare-skin-deep-love-the-skin-youre-in/
LOCATION:Online
CATEGORIES:CPD Events
ATTACH;FMTTYPE=image/jpeg:https://desfin.networkvillagecafe.com/wp-content/uploads/2019/04/BioCare-logo-for-email-2.jpg
END:VEVENT
BEGIN:VEVENT
DTSTART;TZID=Europe/Dublin:20220518T110000
DTEND;TZID=Europe/Dublin:20220518T120000
DTSTAMP:20260421T205921
CREATED:20220429T131826Z
LAST-MODIFIED:20220429T131833Z
UID:12858-1652871600-1652875200@desfin.networkvillagecafe.com
SUMMARY:BioNutri: A herb for everyone
DESCRIPTION:BioNutri: A herb for everyone \nWednesday 18th May \nLemon Balm is a great digestive\, but not good if you have an underactive thyroid. Passion flower is a calming herb that can encourage sleep and reduce stress\, but not if you’re pregnant. Ginseng is an a powerful tonic herb but not great for high blood pressure. It seems all too often that the herb we need is prohibitive because other health factors. \nWhat if you heard about a herb that soothes the digestive system\, and is fine in pregnancy\, breast feeding\, infants and children. \nA herb that provides sedation without side-effects. \nA herb that acts beneficially on the mucosal surfaces but tastes delicious and smells great. \nOne herb\, that can be used externally to relieve aches and pains and internally to reduce Candida \nReduce inflammation in the respiratory system. \nEase symptoms associated with PMS \nSupports rest in hyperactive children \nThe list goes on. If there is one herb that can provide such a broad spectrum of benefits to such broad groups of people or just everyone then there should definitely be an hour long Webinar on the subject. On the 18th May\, Edward Joy will be uncovering the many gifts of one extraordinary herb. \nTo Book: https://us02web.zoom.us/meeting/register/tZwrdemuqT0iGdCHsCF3QNhPn9hd7CB-dD9V
URL:https://desfin.networkvillagecafe.com/event/bionutri-a-herb-for-everyone/
LOCATION:Online
CATEGORIES:CPD Events
ATTACH;FMTTYPE=image/png:https://desfin.networkvillagecafe.com/wp-content/uploads/2022/04/A-Herb-for-Everyone-SMALL-01.png
END:VEVENT
BEGIN:VEVENT
DTSTART;TZID=Europe/Dublin:20220518T190000
DTEND;TZID=Europe/Dublin:20220518T200000
DTSTAMP:20260421T205921
CREATED:20220506T134251Z
LAST-MODIFIED:20220506T134256Z
UID:12886-1652900400-1652904000@desfin.networkvillagecafe.com
SUMMARY:Activated Probiotics: Gut Brain Axis
DESCRIPTION:Gut Brain Axis: How Microbes Affect Your Mood \n\n\n\n\n\nYuwa will share with you the latest stats around mental health illnesses in the UK. We will introduce the enteric nervous system and the bi-directional communication between the gut and brain. The influences of the gut microbiota and linking to mental health. Yuwa also discusses the impact of live bacteria and research into four specific strains\, including their mechanisms of action. Not to forget the name changes to key strains.  \n\n\n\n\n\n \nBooking link:\n\n\n\n\n\nhttps://activatedprobiotics.com.au/probiotics/uk-webinar-gut-brain-axis/  \n \nMay 18th 2022 at 7pm
URL:https://desfin.networkvillagecafe.com/event/activated-probiotics-gut-brain-axis/
LOCATION:Online\, Ireland
CATEGORIES:CPD Events
ATTACH;FMTTYPE=image/png:https://desfin.networkvillagecafe.com/wp-content/uploads/2021/03/Screen-Shot-2021-03-12-at-17.29.51.png
END:VEVENT
BEGIN:VEVENT
DTSTART;TZID=Europe/Dublin:20220521T083000
DTEND;TZID=Europe/Dublin:20220521T180000
DTSTAMP:20260421T205921
CREATED:20220114T142825Z
LAST-MODIFIED:20220121T162000Z
UID:12631-1653121800-1653156000@desfin.networkvillagecafe.com
SUMMARY:NMI sponsored BANT Conference: Mental Health\, Precision Nutrition\, and Lifestyle Medicine: Translating  Evidence to Clinical Practice
DESCRIPTION:NMI sponsored BANT Conference: Mental Health\, Precision Nutrition\, and Lifestyle Medicine: Translating Evidence to Clinical Practice \nBetter mental health care is a global priority\, and current models of care urgently need to undergo a transformation to a more collaborative approach that incorporates evidence-based dietary\, nutritional\, and lifestyle medicine.1 \nThe conference “Mental Health\, Precision Nutrition\, and Lifestyle Medicine: Translating Evidence to Clinical Practice” features global leaders in mental health research that are shaping this transformation as well as psychiatrists\, doctors\, and nutritionists who will share how they are incorporating nutritional and lifestyle medicine in clinical practice. \nIt is an honour to have Professor Felice Jacka\, OAM provide the opening keynote presentation. Professor Jacka is author of over >200 research publications in the field of nutritional psychiatry\, including the ‘SMILES trial\,’ the first intervention study to assess diet as a treatment strategy for depression.2 \nAnd we are privileged to have Dr Joseph Firth\, PhD provide our closing plenary presentation. Dr Firth is a pioneer of ‘lifestyle psychiatry\,’ investigating how health behaviours such as exercise\, diet\, and sleep\, stress management techniques\, and digital technology use influence mental health.3 \nIn addition\, across the event we have >9 presentations from leading figures in their felids\, from primary research to clinical practice speakers cover topics that include diet therapy\, gluten-intolerance\, nutrient-based dietary supplementation\, and the gut-brain axis. \nBut\, perhaps most importantly\, the major focus is ‘Translating Evidence to Clinical Practice\,’ and our agenda is rich in clinical experience\, practical takeaways\, and visions for the future. \n21st May 2022 \nOnline Event \nCPD points 9.5 for conference \n1.5 for BANT AGM \nBANT AGM & Conference 2022 \n \nBANT AGM & Conference 2022
URL:https://desfin.networkvillagecafe.com/event/nmi-sponsored-bant-conference-mental-health-precision-nutrition-and-lifestyle-medicine-translating-evidence-to-clinical-practice/
LOCATION:Online\, Ireland
CATEGORIES:CPD Events
ATTACH;FMTTYPE=image/png:https://desfin.networkvillagecafe.com/wp-content/uploads/2022/01/Screen-Shot-2022-01-14-at-14.26.59.png
END:VEVENT
BEGIN:VEVENT
DTSTART;TZID=Europe/Dublin:20220525T110000
DTEND;TZID=Europe/Dublin:20220525T120000
DTSTAMP:20260421T205921
CREATED:20220429T132122Z
LAST-MODIFIED:20220429T132127Z
UID:12864-1653476400-1653480000@desfin.networkvillagecafe.com
SUMMARY:BioNutri: All about Fungi
DESCRIPTION:BioNutri: All About Fungi  \n25th May  \nThis webinar will be discussing the various forms of fungi (the mycobiome) and their complex relationship with human health. \nTo Book: https://us02web.zoom.us/meeting/register/tZwrdemuqT0iGdCHsCF3QNhPn9hd7CB-dD9V
URL:https://desfin.networkvillagecafe.com/event/bionutri-all-about-fungi/
LOCATION:Online
CATEGORIES:CPD Events
ATTACH;FMTTYPE=image/png:https://desfin.networkvillagecafe.com/wp-content/uploads/2022/04/All-about-Fungi-SMALL-01.png
END:VEVENT
BEGIN:VEVENT
DTSTART;TZID=Europe/Dublin:20220526T210000
DTEND;TZID=Europe/Dublin:20220526T220000
DTSTAMP:20260421T205921
CREATED:20220401T155445Z
LAST-MODIFIED:20220401T155451Z
UID:12798-1653598800-1653602400@desfin.networkvillagecafe.com
SUMMARY:Pure Encapsulations: Intestinal Permeability\, Part 3
DESCRIPTION:Intestinal Permeability\, Part 3: Clinical Practice Guideline for the Management of Increased Intestinal Permeability: The IP Guideline\n \n\nDescription \n\nTopics:1) IP Guideline development process\,2) Evidence-based recommendations to follow for the management of increased intestinal permeability in clinical practice\,3) Clinical application of the IP Guideline. \nSynopsis:In the last webinar of this series\, Brad will share the results of the Clinical Practice Guideline For The Management Of Increased Intestinal Permeability (IP Guideline). The IP Guideline is the first clinical practice guideline designed to support clinicians managing people with increased intestinal permeability. The developed recommendations provide clinicians with direction for dietary recommendations\, probiotic\, prebiotic and synbiotic supplementations\, plant-based medicines\, and dietary supplements for the management of increased intestinal permeability. Brad will provide clinicians with a total of 38 clinical recommendations they can use in managing intestinal permeability in clinical practice. Collectively\, by the end of this three-part series\, clinicians will leave with an advanced understanding of the management of increased intestinal permeability in clinical practice\, allowing them to provide the best care to their patients. \nSpeaker:Brad Leech is an internationally recognised Clinical Nutritionist and Ayurvedic Herbalist. After entering the integrative medicine profession in 2008\, Brad has taught and developed subjects at leading academic institutions in Integrative Gastroenterology\, Naturopathic Medicine\, Nutritional and Dietetic Medicine and Public Health Research. As Clinical Science Lead in integrated and functional medicine at Microba\, his expertise in integrative gastrointestinal healthcare enables him to translate the latest science on the gut microbiome into practical clinical application. Brad is in the final stages of completing his PhD at the Australian Research Centre in Complementary and Integrative Medicine\, University of Technology Sydney.\n\nTime \n\nMay 26\, 2022 09:00 PM in London \n\n\n\nTo Book: https://us02web.zoom.us/webinar/register/WN_dwAJTAqdSP-Zr9WQL8Fbpg
URL:https://desfin.networkvillagecafe.com/event/pure-encapsulations-intestinal-permeability-part-3/
LOCATION:Online\, Ireland
CATEGORIES:CPD Events
ATTACH;FMTTYPE=image/jpeg:https://desfin.networkvillagecafe.com/wp-content/uploads/2020/05/pure-logo_2015_new_tag.jpg
END:VEVENT
END:VCALENDAR