BEGIN:VCALENDAR
VERSION:2.0
PRODID:-//NTOI - ECPv6.2.9//NONSGML v1.0//EN
CALSCALE:GREGORIAN
METHOD:PUBLISH
X-ORIGINAL-URL:https://desfin.networkvillagecafe.com
X-WR-CALDESC:Events for NTOI
REFRESH-INTERVAL;VALUE=DURATION:PT1H
X-Robots-Tag:noindex
X-PUBLISHED-TTL:PT1H
BEGIN:VTIMEZONE
TZID:Europe/Dublin
BEGIN:STANDARD
TZOFFSETFROM:+0000
TZOFFSETTO:+0100
TZNAME:IST
DTSTART:20220327T010000
END:STANDARD
BEGIN:DAYLIGHT
TZOFFSETFROM:+0100
TZOFFSETTO:+0000
TZNAME:GMT
DTSTART:20221030T010000
END:DAYLIGHT
END:VTIMEZONE
BEGIN:VEVENT
DTSTART;TZID=Europe/Dublin:20220601T110000
DTEND;TZID=Europe/Dublin:20220601T120000
DTSTAMP:20260421T193901
CREATED:20220527T154323Z
LAST-MODIFIED:20220601T182002Z
UID:12947-1654081200-1654084800@desfin.networkvillagecafe.com
SUMMARY:BioNutri: Nutrition and the reproductive system
DESCRIPTION:Wednesday 1st June – Nutrition and the reproductive system (Ed) \nLike all major systems of the body\, the reproductive system has its own concoction of nutrients that drive it at an optimum level. \nBut how does this vary between men and women? We know men in middle age struggle with zinc and women lose iron stores\, but how does this play into our working reproductive system? And how can we best nourish ourselves to face the challenges of modern life. \n1 hour CPD with Edward Joy \nTo Book: https://us02web.zoom.us/meeting/register/tZEqdumgrzooE9NMUpk2ekpESPBNjtuzUgbL
URL:https://desfin.networkvillagecafe.com/event/bionutri-nutrition-and-the-reproductive-system/
LOCATION:Online\, Ireland
CATEGORIES:CPD Events
ATTACH;FMTTYPE=image/png:https://desfin.networkvillagecafe.com/wp-content/uploads/2022/05/Nutrition-and-the-reproductive-sytem-SMALL-01.png
END:VEVENT
BEGIN:VEVENT
DTSTART;TZID=Europe/Dublin:20220608T110000
DTEND;TZID=Europe/Dublin:20220608T120000
DTSTAMP:20260421T193901
CREATED:20220601T182341Z
LAST-MODIFIED:20220601T182346Z
UID:12954-1654686000-1654689600@desfin.networkvillagecafe.com
SUMMARY:BioNutri: Different Forms of Magnesium (The Magnesium's)
DESCRIPTION:Wednesday 8th June – Different forms of Magnesium (The Magnesium’s) (Sue ) \nMagnesium is an important mineral\, playing a role in over 300 enzyme reactions in the human body. Bionutri use different forms of magnesium with organic bonds.This webinar will discuss those forms and their clinical use as well as aspects of absorption. \n1 hour CPD with Sue McGarrigle \nTo book:  \nhttps://us02web.zoom.us/meeting/register/tZEqdumgrzooE9NMUpk2ekpESPBNjtuzUgbL
URL:https://desfin.networkvillagecafe.com/event/bionutri-different-forms-of-magnesium-the-magnesiums/
LOCATION:Online\, Ireland
CATEGORIES:CPD Events
END:VEVENT
BEGIN:VEVENT
DTSTART;TZID=Europe/Dublin:20220610T150000
DTEND;TZID=Europe/Dublin:20220611T173000
DTSTAMP:20260421T193901
CREATED:20220427T144851Z
LAST-MODIFIED:20220427T144856Z
UID:12833-1654873200-1654968600@desfin.networkvillagecafe.com
SUMMARY:NTOI 2022 AGM & Conference
DESCRIPTION: \n\nNTOI AGM & Conference 2022\n10th & 11th June 2022 \nLocation: The Green Isle Hotel\, Dublin Dr. Malcom Kendrick and Dr Tom O’Bryan are both coming on the 11th of June to talk to us about all things Stress related. Dr. Tom O’Bryan is going to speak on “The Stress Response: Crossing the Line of Oral Tolerance and Unexplained Multimorbidity” Dr. Malcolm Kendrick’s talk is on “Psychosocial stress\, the number one cause of heart disease”You have an option to attend the conference online or in person this year. I know many of you will really want to be in person to catch up with friends and colleagues. For this reason\, we do have a meal planned for the Friday night as before\, after the AGM. We also have a number of rooms block booked at a special rate. Do make sure to mention you are with the NTOI if you are staying on the Friday night. The Green Isle Hotel\, Clondalkin.In person is €60\, goes up to €75https://membership.ntoi.ie/product/ntoi-2022-agm-conference-in-person/\nOnline is €50https://membership.ntoi.ie/product/ntoi-2022-agm-conference-online/
URL:https://desfin.networkvillagecafe.com/event/ntoi-2022-agm-conference/
LOCATION:The Green Isle Hotel
CATEGORIES:CPD Events
ATTACH;FMTTYPE=image/jpeg:https://desfin.networkvillagecafe.com/wp-content/uploads/2022/04/AGM-2022-Email-Signature.jpg
END:VEVENT
BEGIN:VEVENT
DTSTART;TZID=Europe/Dublin:20220622T110000
DTEND;TZID=Europe/Dublin:20220622T120000
DTSTAMP:20260421T193901
CREATED:20220601T182704Z
LAST-MODIFIED:20220601T182709Z
UID:12959-1655895600-1655899200@desfin.networkvillagecafe.com
SUMMARY:BioNutri: Sinus Health
DESCRIPTION:Wednesday 22nd June – Sinus Health (Sue) \nThere are four pairs of sinuses\, hollow spaces in the skull which are part of the nose and respiratory system. They connect to the nasal passages in a complex network of air flow and drainage passages.This webinar will discuss clinical aspects and the nutrition needed for their function and health. \n1 hour CPD with Sue McGarrigle \nTo Book: https://us02web.zoom.us/meeting/register/tZEqdumgrzooE9NMUpk2ekpESPBNjtuzUgbL
URL:https://desfin.networkvillagecafe.com/event/bionutri-sinus-health/
LOCATION:Online\, Ireland
CATEGORIES:CPD Events
ATTACH;FMTTYPE=image/png:https://desfin.networkvillagecafe.com/wp-content/uploads/2022/06/Sinus-Health-SMALL-01.png
END:VEVENT
BEGIN:VEVENT
DTSTART;TZID=Europe/Dublin:20220622T150000
DTEND;TZID=Europe/Dublin:20220622T170000
DTSTAMP:20260421T193901
CREATED:20220429T133320Z
LAST-MODIFIED:20220429T133326Z
UID:12870-1655910000-1655917200@desfin.networkvillagecafe.com
SUMMARY:Pure Encapsultaions: Insulin and Neurodegeneration: Exploring the Role of Diabetes and Insulin Resistance in the Development of Neurodegenerative Disorders
DESCRIPTION:Pure Encapsultaions: Insulin and Neurodegeneration: Exploring the Role of Diabetes and Insulin Resistance in the Development of Neurodegenerative Disorders \nRay Griffiths MSc is a Registered Nutritionist and Lecturer and has been researching and practising nutritional therapy for over 20 years. Ray’s MSc dissertation was on the role that mitochondria play in Parkinson’s disease. His lectures and webinars have covered diverse subjects such as: depression\, chronic fatigue\, cardiovascular health\, neurodegeneration\, and ageing. He is the author of three books “Depression: The Mind-Body Diet and Lifestyle Connection”\, “Mitochondria in Health and Disease” and “Parkinson’s Disease: An In-Depth Metabolic Guide”. Ray is a lecturer at The College of Naturopathic Medicine in the UK. \nDate and Time 22nd June 3pm  \nTo book: https://us02web.zoom.us/webinar/register/WN_6RDxvYcyTaOVBbuqP_SSuQ
URL:https://desfin.networkvillagecafe.com/event/pure-encapsultaions-insulin-and-neurodegeneration-exploring-the-role-of-diabetes-and-insulin-resistance-in-the-development-of-neurodegenerative-disorders/
LOCATION:Online\, Ireland
CATEGORIES:CPD Events
ATTACH;FMTTYPE=image/jpeg:https://desfin.networkvillagecafe.com/wp-content/uploads/2020/05/pure-logo_2015_new_tag.jpg
END:VEVENT
BEGIN:VEVENT
DTSTART;TZID=Europe/Dublin:20220629T110000
DTEND;TZID=Europe/Dublin:20220629T120000
DTSTAMP:20260421T193901
CREATED:20220601T183119Z
LAST-MODIFIED:20220601T183126Z
UID:12964-1656500400-1656504000@desfin.networkvillagecafe.com
SUMMARY:BioNutri: Cinnamon Oil and Cinnamon Bark
DESCRIPTION:Wednesday 29th June – Cinnamon Oil and Cinnamon Bark (Sue ) \nCinnamon is a spice that comes from the branches of trees of the Cinnamomum family and Bionutri use both parts in Ecobalance.This webinar will discuss how this ancient spice can contribute to our overall health. \n1 hour CPD with Sue McGarrigle \nTo Book: https://us02web.zoom.us/meeting/register/tZEqdumgrzooE9NMUpk2ekpESPBNjtuzUgbL
URL:https://desfin.networkvillagecafe.com/event/bionutri-cinnamon-oil-and-cinnamon-bark/
LOCATION:Online\, Ireland
CATEGORIES:CPD Events
ATTACH;FMTTYPE=image/png:https://desfin.networkvillagecafe.com/wp-content/uploads/2022/06/Cinnamon-Oil-and-Cinnamon-bark-SMALL-01.png
END:VEVENT
END:VCALENDAR