BEGIN:VCALENDAR
VERSION:2.0
PRODID:-//NTOI - ECPv6.2.9//NONSGML v1.0//EN
CALSCALE:GREGORIAN
METHOD:PUBLISH
X-WR-CALNAME:NTOI
X-ORIGINAL-URL:https://desfin.networkvillagecafe.com
X-WR-CALDESC:Events for NTOI
REFRESH-INTERVAL;VALUE=DURATION:PT1H
X-Robots-Tag:noindex
X-PUBLISHED-TTL:PT1H
BEGIN:VTIMEZONE
TZID:Europe/Dublin
BEGIN:STANDARD
TZOFFSETFROM:+0000
TZOFFSETTO:+0100
TZNAME:IST
DTSTART:20220327T010000
END:STANDARD
BEGIN:DAYLIGHT
TZOFFSETFROM:+0100
TZOFFSETTO:+0000
TZNAME:GMT
DTSTART:20221030T010000
END:DAYLIGHT
END:VTIMEZONE
BEGIN:VEVENT
DTSTART;TZID=Europe/Dublin:20220706T110000
DTEND;TZID=Europe/Dublin:20220706T120000
DTSTAMP:20260421T180610
CREATED:20220701T123001Z
LAST-MODIFIED:20220701T123005Z
UID:12980-1657105200-1657108800@desfin.networkvillagecafe.com
SUMMARY:BioNutri: Foraging walk
DESCRIPTION:Wednesday 6th July – Foraging walk (Ed) \nOver the past 10 years Edward Joy has held foraging walks for many UK Practitioners. Once Covid came along this became impossible\, so he tried an online foraging walk instead. As we received so many requests since to repeat the talk Edward has decided to a present a summer foraging walk on Wednesday 6th July. He’ll be wondering around the lanes and hedgerows near where he works in Stroud – nobody else need get stung by nettles or caught on brambles! Just sign up\, sit and watch. There will be wormwoods\, mallows linden blossoms\, horsetails\, and no doubt a few surprises! \n1 hour CPD with Edward Joy \nTime and Date: 6th July at 11am  \nRegistration link https://us02web.zoom.us/meeting/register/tZcoc-yvqTojGdzHSEGgfIXMLe7FE40uryrD
URL:https://desfin.networkvillagecafe.com/event/bionutri-foraging-walk/
LOCATION:Online\, Ireland
CATEGORIES:CPD Events
ATTACH;FMTTYPE=image/png:https://desfin.networkvillagecafe.com/wp-content/uploads/2022/07/Foraging-walk-SMALL-01.png
END:VEVENT
BEGIN:VEVENT
DTSTART;TZID=Europe/Dublin:20220706T190000
DTEND;TZID=Europe/Dublin:20220706T200000
DTSTAMP:20260421T180610
CREATED:20220603T133455Z
LAST-MODIFIED:20220603T133503Z
UID:12969-1657134000-1657137600@desfin.networkvillagecafe.com
SUMMARY:Activated Probiotics: Female Focus: Enhancing Iron Absorption ​
DESCRIPTION:Activated Probiotics: Female Focus: Enhancing Iron Absorption\n \nSynopsis: Our webinar investigates digestion and absorption of iron. How intestinal health\, inflammation and other factors contribute to the fact that most of the iron that enters the digestive tract is not utilised.\n\n\n\n\nWe explore how to maximise absorption of dietary iron and the interplay our gut microbiome has on iron uptake. \nHosted by Activated Probiotics’ European Practitioner Consultant Yuwa Aghedo and Science & Education Support Karen Harrison.  \n7pm Irish time on 6th July \nhttps://activatedprobiotics.com.au/probiotics/uk-webinar-iron-absorption
URL:https://desfin.networkvillagecafe.com/event/activated-probiotics-female-focus-enhancing-iron-absorption-%e2%80%8b/
LOCATION:Online\, Ireland
CATEGORIES:CPD Events
ATTACH;FMTTYPE=image/png:https://desfin.networkvillagecafe.com/wp-content/uploads/2021/03/Screen-Shot-2021-03-12-at-17.29.51.png
END:VEVENT
BEGIN:VEVENT
DTSTART;TZID=Europe/Dublin:20220708T090000
DTEND;TZID=Europe/Dublin:20220708T170000
DTSTAMP:20260421T180610
CREATED:20220401T152848Z
LAST-MODIFIED:20220401T152854Z
UID:12783-1657270800-1657299600@desfin.networkvillagecafe.com
SUMMARY:Ivywood: MEDICINAL MUSHROOMS AND THEIR USE IN CLINICAL PRACTICE
DESCRIPTION:Ivywood: MEDICINAL MUSHROOMS AND THEIR USE IN CLINICAL PRACTICE\n \nSpeaker:   Martin Powell & Guest speaker Caoimhe McGlinchey\n \n\n\nDate:   FRIDAY 8th July 2022\n \n\n\nSchedule:   9:00am Registration with tea and coffee pasteries. 9:30am – 5:30pm Vegetarian lunch & parking included\n \n\n\nLocation:   Midlands Park Hotel\, Jessop Street\, Portlaoise\, Co. Laois\, R32 KV20\n \n\n\nDescription: \n\nThis is a unique opportunity for health professionals to learn about the growing science of medicinal mushrooms from one of the leading experts in the field\, Martin Powell. \nMushrooms have been widely used and coveted for thousands of years in the East for their broad and impressive effects on health and are now attracting increasing interest among practitioners in the West as well. \nIn addition to their immunological activity and use in cancer support\, mushrooms have been shown to have a wide range of other potentially important therapeutic properties in areas including: cardiovascular disease\, auto-immune conditions\, neurodegenerative disorders\, inflammation\, infectious diseases\, gut health\, respiratory and skin conditions.This seminar will cover therapeutic uses of mushrooms and their properties with emphasis on their application in common clinical conditions. \nIn addition\, our guest speaker Caoimhe Mc Glinchey will be presenting clinical case studies on using medicinal mushrooms for infertility. She will be discussing complicated cases and how to best use mushroom therapeutics alongside conventional fertility treatments and fertility test results. \nBy the end of the seminar attendees will confidently be able to prescribe mushrooms to their clients. The MycoNutri mushroom range will be available to purchase on the day. \nMartin Powell is a Chinese Medicine practitioner and biochemist. As well as writing and lecturing on medicinal mushrooms Martin went on to develop a range of clinically oriented mushroom-based nutritional supplements for his own patients and fellow practitioners which are available as MycoNutri. Having over 20 years’ experience in practice Martin is passionate about educating others about the health benefits of mushrooms. \nTo book: https://www.ivywood.ie/shop/events/martin-powell-medicinal-mushrooms-and-their-use-in-clinical-practice-detail
URL:https://desfin.networkvillagecafe.com/event/ivywood-medicinal-mushrooms-and-their-use-in-clinical-practice/
LOCATION:Midlands Park Hotel\, Jessop Street\, Portlaise\, Laois\, R32KV20\, Ireland
CATEGORIES:CPD Events
ATTACH;FMTTYPE=image/png:https://desfin.networkvillagecafe.com/wp-content/uploads/2022/04/Screen-Shot-2022-04-01-at-16.27.36.png
END:VEVENT
BEGIN:VEVENT
DTSTART;TZID=Europe/Dublin:20220712T180000
DTEND;TZID=Europe/Dublin:20220712T193000
DTSTAMP:20260421T180610
CREATED:20220708T135656Z
LAST-MODIFIED:20220708T135659Z
UID:13003-1657648800-1657654200@desfin.networkvillagecafe.com
SUMMARY:NC: Liposomal Nucleotides: The Key to Immune Optimisation
DESCRIPTION:The Nutrition Collective:  \nLiposomal Nucleotides: The Key toImmune Optimisation with Prof.Mohammed Naljah and Phoebe Liebling \nNucleotides are important for many biological functions\, including theirrole as the building blocks of DNA and RNA. \nThey have been reportedly beneficial\, since they positively influence lipid metabolism\, immunity\, and tissue growth\, development and repair. \nTo date\, there is a substantial amount of animal and human evidence to suggest that nucleotides are essential for achieving optimal immune function and are important for the maintenance of gut health. What are liposomal nucleotides? How do they interact with the immunesystem? \nDate and Time: 12th July\, 6 – 7.30 pm \nJoin our webinar to get all your answers on liposomal nucleotides and their impact on the immune system. \nLiposomal Nucleotides: The Key to Immune Optimisation
URL:https://desfin.networkvillagecafe.com/event/nc-liposomal-nucleotides-the-key-to-immune-optimisation/
LOCATION:Online\, Ireland
CATEGORIES:CPD Events
ATTACH;FMTTYPE=image/png:https://desfin.networkvillagecafe.com/wp-content/uploads/2022/07/The-Nutrition-Collective-12th-July-Banner.png
END:VEVENT
BEGIN:VEVENT
DTSTART;TZID=Europe/Dublin:20220713T110000
DTEND;TZID=Europe/Dublin:20220713T120000
DTSTAMP:20260421T180610
CREATED:20220701T124250Z
LAST-MODIFIED:20220701T124256Z
UID:12985-1657710000-1657713600@desfin.networkvillagecafe.com
SUMMARY:BioNutri: Bone Health
DESCRIPTION:Wednesday 13th July – Bone Health (Sue) \nLosing bone is a normal part of ageing\, but some people lose bone much faster than normal. This can lead to osteoporosis and an increased risk of broken bones. Osteoporosis affects over 3 million people in the UK. \nMore than 500\,000 people receive hospital treatment for fragility fractures (bones that break after falling from standing height or less) every year as a result of osteoporosis. \nThis webinar will discuss the aspects of bone health and loss and the nutritional support needed to support bone and tissue health. \n1 hour CPD with Sue McGarrigle ND \nTime 11 am \nTo book: Registration link https://us02web.zoom.us/meeting/register/tZcoc-yvqTojGdzHSEGgfIXMLe7FE40uryrD
URL:https://desfin.networkvillagecafe.com/event/bionutri-bone-health/
LOCATION:Online\, Ireland
CATEGORIES:CPD Events
ATTACH;FMTTYPE=image/png:https://desfin.networkvillagecafe.com/wp-content/uploads/2022/07/Bone-Health-SMALL-01.png
END:VEVENT
BEGIN:VEVENT
DTSTART;TZID=Europe/Dublin:20220719T180000
DTEND;TZID=Europe/Dublin:20220719T193000
DTSTAMP:20260421T180610
CREATED:20220708T140642Z
LAST-MODIFIED:20220708T140646Z
UID:13008-1658253600-1658259000@desfin.networkvillagecafe.com
SUMMARY:NC: Ask the Expert: Blood Sugar & Menopause
DESCRIPTION:The Nutrition Collective: \nAsk the Expert: Blood Sugar &amp; Menopause with NT Kristen Chick \nAdults aged 45-64 are most likely to be diagnosed with type 2 diabetes –Controlling blood sugar levels is important for all of us at all stages of our lives\, but did you know that it’s particularly important during menopause and perimenopause? \nThis session will look at why blood sugar levels are prone to fluctuations during menopause\, and how it can impact negatively on the symptoms experienced.This session looks at:• The impact of blood sugar levels on mood\, cognitive health and hotflashes• Blood sugar and symptoms of inflammation• Blood sugar\, dysbiosis and hormones• Sunshine\, insulin and ATP• Nutrients for healthy blood sugar balance• Sugar cravings and how to manage them• How to sweeten your diet healthily \nDate and Time: 19th July 6pm  \nJoin our webinar with Kirsten Chick to get all your answers onmanaging blood sugar imbalances successfully duringmenopause. \nAsk the Expert: Blood Sugar & Menopause
URL:https://desfin.networkvillagecafe.com/event/nc-ask-the-expert-blood-sugar-menopause/
LOCATION:Online
CATEGORIES:CPD Events
ATTACH;FMTTYPE=image/png:https://desfin.networkvillagecafe.com/wp-content/uploads/2022/07/The-Nutrition-Collective-19th-July-Banner.png
END:VEVENT
BEGIN:VEVENT
DTSTART;TZID=Europe/Dublin:20220727T110000
DTEND;TZID=Europe/Dublin:20220727T120000
DTSTAMP:20260421T180610
CREATED:20220701T125744Z
LAST-MODIFIED:20220701T125748Z
UID:12996-1658919600-1658923200@desfin.networkvillagecafe.com
SUMMARY:BioNutri: Bladder Health
DESCRIPTION:Wednesday 27th July – Bladder Health (Sue) \nAll parts of the urinary tract\, the kidneys\, ureters\, bladder\, and urethra must work together for normal urination. \nThis webinar will focus on bladder health and nutritional support for the urinary system which affects bladder function. \n1 hour CPD with Sue McGarrigle ND \nTime 11am \nRegistration link https://us02web.zoom.us/meeting/register/tZcoc-yvqTojGdzHSEGgfIXMLe7FE40uryrD
URL:https://desfin.networkvillagecafe.com/event/bionutri-bladder-health/
LOCATION:Online\, Ireland
CATEGORIES:CPD Events
ATTACH;FMTTYPE=image/png:https://desfin.networkvillagecafe.com/wp-content/uploads/2022/07/Bladder-Health-SMALL-01-01.png
END:VEVENT
BEGIN:VEVENT
DTSTART;TZID=Europe/Dublin:20220729T150000
DTEND;TZID=Europe/Dublin:20220729T160000
DTSTAMP:20260421T180610
CREATED:20220429T133931Z
LAST-MODIFIED:20220429T133939Z
UID:12874-1659106800-1659110400@desfin.networkvillagecafe.com
SUMMARY:Pure Encapsultaions: Viral Infection The Role of InfViral Infection The Role of Inflammation\, Redox and Mitochondrial Healthlammation\, Redox and Mitochondrial Health
DESCRIPTION:Viral InfectionThe Role of Inflammation\, Redox andMitochondrial Health \nRay Griffiths MSc is a Registered Nutritionist and Lecturer and has been researching and practising nutritional therapy for over 20 years. Ray’s MSc dissertation was on the role that mitochondria play in Parkinson’s disease. His lectures and webinars have covered diverse subjects such as: depression\, chronic fatigue\, cardiovascular health\, neurodegeneration\, and ageing. He is the author of three books “Depression: The Mind-Body Diet and Lifestyle Connection”\, “Mitochondria in Health and Disease” and “Parkinson’s Disease: An In-Depth Metabolic Guide”. Ray is a lecturer at The College of Naturopathic Medicine in the UK. \nDate and Time: 29th July 3pm \nTo book: https://us02web.zoom.us/webinar/register/WN_JM-qKunfSta_KESo9ZV-wg
URL:https://desfin.networkvillagecafe.com/event/pure-encapsultaions-viral-infection-the-role-of-infviral-infection-the-role-of-inflammation-redox-and-mitochondrial-healthlammation-redox-and-mitochondrial-health/
LOCATION:Online\, Ireland
CATEGORIES:CPD Events
ATTACH;FMTTYPE=image/jpeg:https://desfin.networkvillagecafe.com/wp-content/uploads/2020/05/pure-logo_2015_new_tag.jpg
END:VEVENT
END:VCALENDAR