BEGIN:VCALENDAR
VERSION:2.0
PRODID:-//NTOI - ECPv6.2.9//NONSGML v1.0//EN
CALSCALE:GREGORIAN
METHOD:PUBLISH
X-WR-CALNAME:NTOI
X-ORIGINAL-URL:https://desfin.networkvillagecafe.com
X-WR-CALDESC:Events for NTOI
REFRESH-INTERVAL;VALUE=DURATION:PT1H
X-Robots-Tag:noindex
X-PUBLISHED-TTL:PT1H
BEGIN:VTIMEZONE
TZID:Europe/Dublin
BEGIN:STANDARD
TZOFFSETFROM:+0000
TZOFFSETTO:+0100
TZNAME:IST
DTSTART:20220327T010000
END:STANDARD
BEGIN:DAYLIGHT
TZOFFSETFROM:+0100
TZOFFSETTO:+0000
TZNAME:GMT
DTSTART:20221030T010000
END:DAYLIGHT
END:VTIMEZONE
BEGIN:VEVENT
DTSTART;TZID=Europe/Dublin:20220802T150000
DTEND;TZID=Europe/Dublin:20220802T163000
DTSTAMP:20260421T162222
CREATED:20220722T103500Z
LAST-MODIFIED:20220726T173734Z
UID:13015-1659452400-1659457800@desfin.networkvillagecafe.com
SUMMARY:Nutricentric Healthcare: Omega DX Webinar\, The role of inflammation in Gut Health
DESCRIPTION:Omega DX Webinar \nThe Role of Inflammation in Gut Health \n2nd August 20223:00pm – 4:30pmTopics to be covered \n– How poor digestion\, a dysbiotic bowel flora and increased intestinal permeability can provoke inflammation– How inflammation is modified by diet and how inflammatory markers such as hs-CRP may be used as predictors of disease \n– How a westernised diet high in saturated fats\, sugars and processed foods predisposes towards gut inflammation \n– The importance of the gut microbiota in stimulating and resolving inflammation \n– How a leaky gut exposes partially digested food antigens to the mucosal-associated immune system leading to the production of IgG antibodies \nTo Book: \nhttps://register.gotowebinar.com/register/7917230712485680141?source=Nutricentric
URL:https://desfin.networkvillagecafe.com/event/nutricentric-healthcare-omega-dx-webinar-the-role-of-inflammation-in-gut-health/
LOCATION:Galway
CATEGORIES:CPD Events
ATTACH;FMTTYPE=image/png:https://desfin.networkvillagecafe.com/wp-content/uploads/2022/07/Screen-Shot-2022-07-22-at-11.32.54.png
END:VEVENT
BEGIN:VEVENT
DTSTART;TZID=Europe/Dublin:20220810T173000
DTEND;TZID=Europe/Dublin:20220810T190000
DTSTAMP:20260421T162222
CREATED:20220729T180100Z
LAST-MODIFIED:20220729T180105Z
UID:13037-1660152600-1660158000@desfin.networkvillagecafe.com
SUMMARY:Mushrooms for Blood Sugar Balance
DESCRIPTION:Mushrooms for Blood Sugar Balance With Mycotherapist Romina Melwani \nHow can mushrooms help with blood sugar management? \nMany studies have shown the benefits of mushrooms for blood sugarregulation. A recent study found that consuming edible mushrooms fibrescan modify the gut microbiome leading to improved glycemic control which has implications for metabolic diseases\, potentially reducing risk for diabetes. \nMushrooms are believed to contain more than 150 active compounds\,which include polysaccharides\, dietary fibre\, prebiotics\, active enzymes\,B vitamins\, vitamin C\, vitamin D and minerals zinc\, selenium and manyother nutrients.Beta-glucans a compound in mushrooms are a soluble dietary fibre thathas been shown to aid blood sugar modulation which is beneficial forpeople with diabetes.Discover the power of mushrooms for blood sugar balancingJoin us for a unique masterclass on blood sugar management using medicinal mushrooms with Mycotherapist RominaMelwani \n10th August 2022 \n5:30pm UK time – 7 pm UK time \nCost £10 \nMushrooms for Blood Sugar Balance
URL:https://desfin.networkvillagecafe.com/event/mushrooms-for-blood-sugar-balance/
LOCATION:Online\, Ireland
CATEGORIES:CPD Events
ATTACH;FMTTYPE=image/png:https://desfin.networkvillagecafe.com/wp-content/uploads/2022/07/10th-August.png
END:VEVENT
BEGIN:VEVENT
DTSTART;TZID=Europe/Dublin:20220810T190000
DTEND;TZID=Europe/Dublin:20220810T200000
DTSTAMP:20260421T162222
CREATED:20220805T090730Z
LAST-MODIFIED:20220805T090734Z
UID:13058-1660158000-1660161600@desfin.networkvillagecafe.com
SUMMARY:Activated Probiotics: Prenatal Metabolic and Digestive Health
DESCRIPTION:Activated Probiotics: Prenatal Metabolic and Digestive Health \n10th August 2022 7pm UK time.\n\n\n\n\n\nWe investigate the outcomes of the impact of the human microbi- ome on pregnancy outcomes. Bacteria strains and evidence sup- porting links to the microbiome and gestational diabetes. \nYuwa will also discuss research on how the microbiome and foetal immune development is linked.  \nTo Book: https://activatedprobiotics.com.au/probiotics/uk-webinar-prenatal-metabolic/ \n 
URL:https://desfin.networkvillagecafe.com/event/activated-probiotics-prenatal-metabolic-and-digestive-health/
LOCATION:Online\, Ireland
CATEGORIES:CPD Events
ATTACH;FMTTYPE=image/png:https://desfin.networkvillagecafe.com/wp-content/uploads/2021/03/Screen-Shot-2021-03-12-at-17.29.51.png
END:VEVENT
BEGIN:VEVENT
DTSTART;TZID=Europe/Dublin:20220826T150000
DTEND;TZID=Europe/Dublin:20220826T160000
DTSTAMP:20260421T162222
CREATED:20220429T134511Z
LAST-MODIFIED:20220812T103634Z
UID:12880-1661526000-1661529600@desfin.networkvillagecafe.com
SUMMARY:Pure Encapsulations:Methylation: An In-Depth Analysis of this Ubiquitous Biochemical Process and its Impact on Many Health Issues
DESCRIPTION:Pure Encapsulations:Methylation: An In-Depth Analysis of this Ubiquitous Biochemical Process and its Impact on Many Health Issues \nRay Griffiths MSc is a Registered Nutritionist and Lecturer and has been researching and practising nutritional therapy for over 20 years. Ray’s MSc dissertation was on the role that mitochondria play in Parkinson’s disease. His lectures and webinars have covered diverse subjects such as: depression\, chronic fatigue\, cardiovascular health\, neurodegeneration\, and ageing. He is the author of three books “Depression: The Mind-Body Diet and Lifestyle Connection”\, “Mitochondria in Health and Disease” and “Parkinson’s Disease: An In-Depth Metabolic Guide”. Ray is a lecturer at The College of Naturopathic Medicine in the UK. \nDate and Time: 26th August 3pm \nTo Book: https://us02web.zoom.us/webinar/register/WN_gfmCX6EfSy-0Rd_oYJYRTg
URL:https://desfin.networkvillagecafe.com/event/pure-encapsulationsmethylation-an-in-depth-analysis-of-this-ubiquitous-biochemical-process-and-its-impact-on-many-health-issues/
LOCATION:Online\, Ireland
CATEGORIES:CPD Events,Pure Encapsulations Methylation
ATTACH;FMTTYPE=image/jpeg:https://desfin.networkvillagecafe.com/wp-content/uploads/2020/05/pure-logo_2015_new_tag.jpg
END:VEVENT
END:VCALENDAR