BEGIN:VCALENDAR
VERSION:2.0
PRODID:-//NTOI - ECPv6.2.9//NONSGML v1.0//EN
CALSCALE:GREGORIAN
METHOD:PUBLISH
X-ORIGINAL-URL:https://desfin.networkvillagecafe.com
X-WR-CALDESC:Events for NTOI
REFRESH-INTERVAL;VALUE=DURATION:PT1H
X-Robots-Tag:noindex
X-PUBLISHED-TTL:PT1H
BEGIN:VTIMEZONE
TZID:Europe/Dublin
BEGIN:STANDARD
TZOFFSETFROM:+0000
TZOFFSETTO:+0100
TZNAME:IST
DTSTART:20210328T010000
END:STANDARD
BEGIN:DAYLIGHT
TZOFFSETFROM:+0100
TZOFFSETTO:+0000
TZNAME:GMT
DTSTART:20211031T010000
END:DAYLIGHT
END:VTIMEZONE
BEGIN:VEVENT
DTSTART;TZID=Europe/Dublin:20210122T080000
DTEND;TZID=Europe/Dublin:20211231T170000
DTSTAMP:20260422T183944
CREATED:20210122T170045Z
LAST-MODIFIED:20210406T135401Z
UID:11919-1611302400-1640970000@desfin.networkvillagecafe.com
SUMMARY:IHS: Fundamentals of Plant-Based Nutrition 2021
DESCRIPTION:IHS: Fundamentals of Plant-Based Nutrition 2021 \nThis course offers practical\, research-based information on differ models of plant-based eating and how to apply them. \nOnline course from the Institute of Health Sciences \nCost € 149 \nCPD points 20 \nTo Book: https://learn.instituteofhealthsciences.com/course?courseid=plant-based-nutrition
URL:https://desfin.networkvillagecafe.com/event/ihs-fundamentals-of-plant-based-nutrition-2021/
LOCATION:Online\, Ireland
CATEGORIES:CPD Events
ATTACH;FMTTYPE=image/jpeg:https://desfin.networkvillagecafe.com/wp-content/uploads/2019/05/IHS-logo-e1611334814169.jpg
END:VEVENT
BEGIN:VEVENT
DTSTART;TZID=Europe/Dublin:20210122T080000
DTEND;TZID=Europe/Dublin:20211231T170000
DTSTAMP:20260422T183945
CREATED:20210122T170715Z
LAST-MODIFIED:20210122T170725Z
UID:11925-1611302400-1640970000@desfin.networkvillagecafe.com
SUMMARY:IHS: Coaching Skills for Everyday Life 2021
DESCRIPTION:IHS: Coaching Skills for Everyday Life 2021 \nLearn how to transform your mindset and many areas of your life using key ‘coaching’ skills and techniques. \nOnline course from the Institute of Health Sciences \nCost € 249 \nCPD points 20  \nTo Book: https://learn.instituteofhealthsciences.com/course?courseid=csl
URL:https://desfin.networkvillagecafe.com/event/ihs-coaching-skills-for-everyday-life-2021/
LOCATION:Online\, Ireland
CATEGORIES:CPD Events
ATTACH;FMTTYPE=image/jpeg:https://desfin.networkvillagecafe.com/wp-content/uploads/2019/05/IHS-logo-e1611334814169.jpg
END:VEVENT
BEGIN:VEVENT
DTSTART;TZID=Europe/Dublin:20210122T080000
DTEND;TZID=Europe/Dublin:20211231T170000
DTSTAMP:20260422T183945
CREATED:20210122T171516Z
LAST-MODIFIED:20210406T134236Z
UID:11930-1611302400-1640970000@desfin.networkvillagecafe.com
SUMMARY:IHS: Certificate in Stress Management 2021
DESCRIPTION:IHS: Certificate in Stress Management 2021 \nFor anyone who wants to learn more about what stress really is\, how it affects the mind and body and what can be done to prevent\, manage and control stress. \nOnline Course from the Institute of Health Sciences. \nCost €149 \nCPD points 20 \nTo Book: https://learn.instituteofhealthsciences.com/course?courseid=stress-management
URL:https://desfin.networkvillagecafe.com/event/ihs-certificate-in-stress-management-2021/
LOCATION:Galway
CATEGORIES:CPD Events
ATTACH;FMTTYPE=image/jpeg:https://desfin.networkvillagecafe.com/wp-content/uploads/2019/05/IHS-logo-e1611334814169.jpg
END:VEVENT
BEGIN:VEVENT
DTSTART;TZID=Europe/Dublin:20210122T080000
DTEND;TZID=Europe/Dublin:20211231T170000
DTSTAMP:20260422T183945
CREATED:20210122T172247Z
LAST-MODIFIED:20210406T134136Z
UID:11935-1611302400-1640970000@desfin.networkvillagecafe.com
SUMMARY:IHS: Certificate in Personalised Sports Nutrition 2021
DESCRIPTION:IHS: Certificate in Personalised Sports Nutrition 2021 \nLearn how peak performance cannot be achieved without feeding the body optimum health and addressing imbalances first. \nOnline Course with IHS \nCost: €299 \nCPD 20 Points \nTo Book: https://learn.instituteofhealthsciences.com/course?courseid=personalised-sports-nutrition
URL:https://desfin.networkvillagecafe.com/event/ihs-certificate-in-personalised-sports-nutrition-2021/
LOCATION:Online\, Ireland
CATEGORIES:CPD Events
ATTACH;FMTTYPE=image/jpeg:https://desfin.networkvillagecafe.com/wp-content/uploads/2019/05/IHS-logo-e1611334814169.jpg
END:VEVENT
BEGIN:VEVENT
DTSTART;TZID=Europe/Dublin:20210611T080000
DTEND;TZID=Europe/Dublin:20210715T170000
DTSTAMP:20260422T183945
CREATED:20210402T164008Z
LAST-MODIFIED:20210402T164025Z
UID:12097-1623398400-1626368400@desfin.networkvillagecafe.com
SUMMARY:Zest4life Health Coaching Skills for Nutrition Professionals
DESCRIPTION:Zest4life Health Coaching Skills for Nutrition Professionals \nDates: Friday 11th June 1.00pm to Thursday 15th July 1.00pm \nLocation: online via ZoomIndividual sessions:Week 1 June 11th 1.00-2.15pmWeek 2 June 18th 1.00-2.15pmWeek 3 June 25th 1.00-2.15pmWeek 4 July 2nd 1.00-2.15pmWeek 5 July 9th 1.00-2.15pmWeek 6 July 15th 1.00-2.15pm \nPrice: £695 \nCPD 10 points  \nFurther details and to book https://www.zest4lifebusiness.com/health-coach-training \nSpeaker biographyMarchelle Dubruel de BroglioMarcelle is a Nutritional Therapist and Transformational Health Coach who runs a successful practice in London combining nutritional therapy\, groupprogrammes and health retreats. She qualified in Nutritional Therapy at CNM and has further qualifications in Life Coaching (Achievement Specialists)\,Health Coach (Zest4life) and is a certified Heart Math Coach. She is an experienced health coach trainer and mentor with Zest4life and the HealthCoaches Academy and is passionate about supporting nutritional therapists to become experts in behaviour change. She is a member of the BritishAssociation for Nutrition and Lifestyle Medicine (BANT)\, Complementary and Natural Healthcare Council (CNHC) and is a Heart Math certified andlicenced practitioner.
URL:https://desfin.networkvillagecafe.com/event/zest4life-health-coaching-skills-for-nutrition-professionals/
LOCATION:Online\, Ireland
CATEGORIES:CPD Events
ATTACH;FMTTYPE=image/png:https://desfin.networkvillagecafe.com/wp-content/uploads/2021/04/Screen-Shot-2021-04-02-at-17.37.15.png
END:VEVENT
BEGIN:VEVENT
DTSTART;TZID=Europe/Dublin:20210611T080000
DTEND;TZID=Europe/Dublin:20211231T170000
DTSTAMP:20260422T183945
CREATED:20210611T144959Z
LAST-MODIFIED:20210611T145120Z
UID:12254-1623398400-1640970000@desfin.networkvillagecafe.com
SUMMARY:myDNAhealth’s Nutritional Genomics Education Programme
DESCRIPTION:myDNAhealth’s Nutritional Genomics Education Programme \nmyDNAhealth’s Nutritional Genomics Education Programme is a CPD interactive e-learning experience covering the science of how our genome interacts with diet and lifestyle factors. Your digital tutor guides and helps you to develop the confidence to apply nutritional genomics in clinical settings. Start learning today! 25% discount offer.  \nGenetic testing and nutrigenomics are the future of personalised healthcare. Although DNA testing is now readily available for clinical use\, Nutritional Genomics is still a new clinical tool. \nThe Nutritional Genomics Education Programme is a comprehensive CPD accredited e-learning experience covering the science of how our genome interacts with diet and lifestyle factors. You get a digital tutor to guide and help you to develop the confidence to apply nutritional genomics in clinical settings\, whenever you want\, at a speed that suits you. \nTo book: Go to https://mydnahealth.co.uk/product/online-courses/ \nFurther information\, contact practitioner@mydnahealth.co.uk
URL:https://desfin.networkvillagecafe.com/event/mydnahealths-nutritional-genomics-education-programme/
LOCATION:Galway
CATEGORIES:CPD Events
ATTACH;FMTTYPE=image/jpeg:https://desfin.networkvillagecafe.com/wp-content/uploads/2020/01/logo_top_300x300.jpg
END:VEVENT
BEGIN:VEVENT
DTSTART;TZID=Europe/Dublin:20210619T133000
DTEND;TZID=Europe/Dublin:20210619T210000
DTSTAMP:20260422T183945
CREATED:20210602T162519Z
LAST-MODIFIED:20210602T162523Z
UID:12226-1624109400-1624136400@desfin.networkvillagecafe.com
SUMMARY:NTOI 2021 AGM & Conference
DESCRIPTION:NTOI 2021 AGM & Conference \nOnce again this year the AGM & Conference shall be via online platforms.  \nWe have 3 amazing speakers lined up along with some wonderful exhibition stands with some of your favourite brands. We also have some of your most used laboratories talking to us about what tests they have for us. So the bog question is are you going?  \nOur Guest Speakers are:  \n\n\n\n\nDr. Felice Gersh\, who is going to speak to us on\, Women\, Hearts\, and Hormones: An Integrative Approach to Menopausal Cardiometabolic Health\n \nMenopause is a universal event for all women\, so why treat it? This presentation will cover the surprising link between the decline of fertility and the onset of cardiometabolic problems. The complex effects of estrogen on all organ systems\, the health impact of ovarian senescence and hormonal decline\, with a focus on the cardiometabolic system\, will be discussed. An integrative approach\, to enable the optimization of the cardiometabolic health of women going through the menopausal transition and throughout their postmenopausal years\, will be presented.\n \n\n\nDr. Pádraic Dunne PhD\, our own Irish speaker who shall discuss stress\, specifically\, Flourishing in the workplace and beyond – burnout prevention and management \nDr Pádraic Dunne (PhD) is an immunologist\, practicing psychotherapist and meditation teacher\, based at the new Centre for Positive Psychology and Health (CPPH)\, Royal College of Surgeons in Ireland (RCSI) University of Medicine and Health Sciences. As an RCSI Lecturer\, Dr Dunne is interested in the development of Health and Wellbeing programmes for postgraduate healthcare professionals\, corporate work forces\, as well as for patients suffering with chronic disease and the general public.\n\n\nLara Briden shall speak to us about Navigating peri-menopause or second puberty.  \nThe two to ten years before the final period can be a tricky time for women. In this presentation\, experienced naturopathic doctor Lara Briden will outline the physiological changes of perimenopause including the shift to anovulatory cycles and insulin resistance. She’ll explain why perimenopause can be a tipping point for the long-term health of both the brain and the body\, and provide treatment protocols for mood\, night sweats\, weight gain\, and heavy periods. Finally\, Lara will survey modern menopausal hormone therapy\, and explain why body-identical hormones are both gentler and safer.\n\n\n\n \nDates for the events are\nAGM 18th June 7 – 9pm\nConference 19th June 1.30 – 9 pm \n\n\n \nCost €50 early bird / €65 full price. \n \nTo book: https://membership.ntoi.ie/product/ntoi-2021-agm-conference/?purchase=1\n 
URL:https://desfin.networkvillagecafe.com/event/ntoi-2021-agm-conference/
LOCATION:Online\, Ireland
CATEGORIES:CPD Events
ATTACH;FMTTYPE=image/jpeg:https://desfin.networkvillagecafe.com/wp-content/uploads/2021/06/AGM-2021-Email-Signature.jpg
END:VEVENT
END:VCALENDAR