BEGIN:VCALENDAR
VERSION:2.0
PRODID:-//NTOI - ECPv6.2.9//NONSGML v1.0//EN
CALSCALE:GREGORIAN
METHOD:PUBLISH
X-ORIGINAL-URL:https://desfin.networkvillagecafe.com
X-WR-CALDESC:Events for NTOI
REFRESH-INTERVAL;VALUE=DURATION:PT1H
X-Robots-Tag:noindex
X-PUBLISHED-TTL:PT1H
BEGIN:VTIMEZONE
TZID:Europe/Dublin
BEGIN:STANDARD
TZOFFSETFROM:+0000
TZOFFSETTO:+0100
TZNAME:IST
DTSTART:20220327T010000
END:STANDARD
BEGIN:DAYLIGHT
TZOFFSETFROM:+0100
TZOFFSETTO:+0000
TZNAME:GMT
DTSTART:20221030T010000
END:DAYLIGHT
END:VTIMEZONE
BEGIN:VEVENT
DTSTART;TZID=Europe/Dublin:20220107T100000
DTEND;TZID=Europe/Dublin:20220324T170000
DTSTAMP:20260422T033256
CREATED:20211105T142532Z
LAST-MODIFIED:20211109T171030Z
UID:12553-1641549600-1648141200@desfin.networkvillagecafe.com
SUMMARY:Lifecode GX: Nutrigenomics Practitioner Programme
DESCRIPTION:Nutrigenomics Practitioner Programme \nNutrigenomics may be the most important development in personalised nutrition this century. The ability to assess an individual’s nutrient requirements in addition to their nutrient status is a giant leap for practitioners. Practitioners who fully integrate nutrigenomics into their practice find that client engagement improves along with clinical outcomes. \nAre you currently grappling with the use of nutrigenomics or wondering whether to embark on learning more? If so\, the Lifecode Gx® Nutrigenomics Practitioner programme is for you! \nThe 10-week programme will run from January to March 2022\, providing 20 hours of education and guidance in weekly 2-hour sessions. \nStarts Jan 7th 2022 \nCost 350 GBP \nTo Book: https://www.crowdcast.io/e/nutripractitioner22/register
URL:https://desfin.networkvillagecafe.com/event/lifecode-gx-nutrigenomics-practitioner-programme/
LOCATION:Online\, Ireland
CATEGORIES:CPD Events
ATTACH;FMTTYPE=image/png:https://desfin.networkvillagecafe.com/wp-content/uploads/2021/11/Screen-Shot-2021-11-05-at-14.24.59.png
END:VEVENT
BEGIN:VEVENT
DTSTART;TZID=Europe/Dublin:20220202T110000
DTEND;TZID=Europe/Dublin:20220202T120000
DTSTAMP:20260422T033256
CREATED:20220128T164315Z
LAST-MODIFIED:20220128T171535Z
UID:12647-1643799600-1643803200@desfin.networkvillagecafe.com
SUMMARY:BioNutri: Stinging Nettle
DESCRIPTION:Wednesday 2nd February –  Stinging Nettle \nSome of the everyday plants that we see in our gardens and fields which nature has provided as therapeutic foods for centuries are now somewhat forgotten and much overlooked as highly fortifying and nutrient rich foods by current generations. Common Stinging Nettle (Urtica dioica) is one such example\, a superior leafy green plant\, nutrient dense due to its shady growing position in rich soil which is normally given a wide berth. This webinar will discuss Nettle’s constituents and look at its nutritive and therapeutic properties. \nTo Book: https://us02web.zoom.us/meeting/register/tZUrdeiurjMvGdYUFqTzyN7jYBAIsxopJVJv
URL:https://desfin.networkvillagecafe.com/event/bionutri-stinging-nettle/
LOCATION:Online\, Ireland
CATEGORIES:CPD Events
ATTACH;FMTTYPE=image/png:https://desfin.networkvillagecafe.com/wp-content/uploads/2022/01/Stinging-Nettle-Small-01-01.png
END:VEVENT
END:VCALENDAR