BEGIN:VCALENDAR
VERSION:2.0
PRODID:-//NTOI - ECPv6.2.9//NONSGML v1.0//EN
CALSCALE:GREGORIAN
METHOD:PUBLISH
X-ORIGINAL-URL:https://desfin.networkvillagecafe.com
X-WR-CALDESC:Events for NTOI
REFRESH-INTERVAL;VALUE=DURATION:PT1H
X-Robots-Tag:noindex
X-PUBLISHED-TTL:PT1H
BEGIN:VTIMEZONE
TZID:Europe/Dublin
BEGIN:STANDARD
TZOFFSETFROM:+0000
TZOFFSETTO:+0100
TZNAME:IST
DTSTART:20220327T010000
END:STANDARD
BEGIN:DAYLIGHT
TZOFFSETFROM:+0100
TZOFFSETTO:+0000
TZNAME:GMT
DTSTART:20221030T010000
END:DAYLIGHT
END:VTIMEZONE
BEGIN:VEVENT
DTSTART;TZID=Europe/Dublin:20220107T100000
DTEND;TZID=Europe/Dublin:20220324T170000
DTSTAMP:20260422T070816
CREATED:20211105T142532Z
LAST-MODIFIED:20211109T171030Z
UID:12553-1641549600-1648141200@desfin.networkvillagecafe.com
SUMMARY:Lifecode GX: Nutrigenomics Practitioner Programme
DESCRIPTION:Nutrigenomics Practitioner Programme \nNutrigenomics may be the most important development in personalised nutrition this century. The ability to assess an individual’s nutrient requirements in addition to their nutrient status is a giant leap for practitioners. Practitioners who fully integrate nutrigenomics into their practice find that client engagement improves along with clinical outcomes. \nAre you currently grappling with the use of nutrigenomics or wondering whether to embark on learning more? If so\, the Lifecode Gx® Nutrigenomics Practitioner programme is for you! \nThe 10-week programme will run from January to March 2022\, providing 20 hours of education and guidance in weekly 2-hour sessions. \nStarts Jan 7th 2022 \nCost 350 GBP \nTo Book: https://www.crowdcast.io/e/nutripractitioner22/register
URL:https://desfin.networkvillagecafe.com/event/lifecode-gx-nutrigenomics-practitioner-programme/
LOCATION:Online\, Ireland
CATEGORIES:CPD Events
ATTACH;FMTTYPE=image/png:https://desfin.networkvillagecafe.com/wp-content/uploads/2021/11/Screen-Shot-2021-11-05-at-14.24.59.png
END:VEVENT
BEGIN:VEVENT
DTSTART;TZID=Europe/Dublin:20220216T110000
DTEND;TZID=Europe/Dublin:20220216T120000
DTSTAMP:20260422T070817
CREATED:20220128T172006Z
LAST-MODIFIED:20220128T172013Z
UID:12655-1645009200-1645012800@desfin.networkvillagecafe.com
SUMMARY:BioNutri: Dry Eye Syndrome
DESCRIPTION:Wednesday 16th February – Dry Eye Syndrome \nThe prevalence of Dry Eye Syndrome or DES is variable\, with the condition more common in older people\, millions suffer but increasing dependence on iPads\, computers and smartphones plus air conditioning may also leave our younger population with an eye problem. DES can have significant effects on quality of life and common vision-related daily activities\, such as driving and reading. This webinar will discuss the causes of DES and the nutrition needed which is fundamental to supporting the health of the eye. \nTo Book: https://us02web.zoom.us/meeting/register/tZUrdeiurjMvGdYUFqTzyN7jYBAIsxopJVJv
URL:https://desfin.networkvillagecafe.com/event/bionutri-dry-eye-syndrome/
LOCATION:Galway
CATEGORIES:CPD Events
ATTACH;FMTTYPE=image/png:https://desfin.networkvillagecafe.com/wp-content/uploads/2022/01/Dry-Eye-Syndrome-small-01.png
END:VEVENT
BEGIN:VEVENT
DTSTART;TZID=Europe/Dublin:20220216T190000
DTEND;TZID=Europe/Dublin:20220216T190000
DTSTAMP:20260422T070817
CREATED:20220218T151403Z
LAST-MODIFIED:20220218T151409Z
UID:12669-1645038000-1645038000@desfin.networkvillagecafe.com
SUMMARY:Activated Probiotics: Gut Immune Axis: the interplay between the microbiome and the immune system
DESCRIPTION:Digestion Talks: Gut Immune Axis: the interplay between the microbiome and the immune system \n\nThis webinar talks about the importance of the gut barrier integrity\, its metabolites and their interaction with intestinal epithelial cells. How immunomodulatory mechanisms exerted by probiotic bacteria in the gut mucosa support the immune system. The probiotic strains and which have clinical trials to support the action of each strain.\n \n\nHosted by Activated Probiotics’ European Practitioner Consultant Yuwa Aghedo and Science & Education Support Karen Harrison.\n\n\n \nDate 16th Feb 2022\nTime 7 pm \n\n\n 
URL:https://desfin.networkvillagecafe.com/event/activated-probiotics-gut-immune-axis-the-interplay-between-the-microbiome-and-the-immune-system/
LOCATION:Online\, Ireland
CATEGORIES:CPD Events
ATTACH;FMTTYPE=image/png:https://desfin.networkvillagecafe.com/wp-content/uploads/2021/03/Screen-Shot-2021-03-12-at-17.29.51.png
END:VEVENT
END:VCALENDAR