BEGIN:VCALENDAR
VERSION:2.0
PRODID:-//NTOI - ECPv6.2.9//NONSGML v1.0//EN
CALSCALE:GREGORIAN
METHOD:PUBLISH
X-ORIGINAL-URL:https://desfin.networkvillagecafe.com
X-WR-CALDESC:Events for NTOI
REFRESH-INTERVAL;VALUE=DURATION:PT1H
X-Robots-Tag:noindex
X-PUBLISHED-TTL:PT1H
BEGIN:VTIMEZONE
TZID:Europe/Dublin
BEGIN:STANDARD
TZOFFSETFROM:+0000
TZOFFSETTO:+0100
TZNAME:IST
DTSTART:20220327T010000
END:STANDARD
BEGIN:DAYLIGHT
TZOFFSETFROM:+0100
TZOFFSETTO:+0000
TZNAME:GMT
DTSTART:20221030T010000
END:DAYLIGHT
END:VTIMEZONE
BEGIN:VEVENT
DTSTART;TZID=Europe/Dublin:20220107T100000
DTEND;TZID=Europe/Dublin:20220324T170000
DTSTAMP:20260422T051936
CREATED:20211105T142532Z
LAST-MODIFIED:20211109T171030Z
UID:12553-1641549600-1648141200@desfin.networkvillagecafe.com
SUMMARY:Lifecode GX: Nutrigenomics Practitioner Programme
DESCRIPTION:Nutrigenomics Practitioner Programme \nNutrigenomics may be the most important development in personalised nutrition this century. The ability to assess an individual’s nutrient requirements in addition to their nutrient status is a giant leap for practitioners. Practitioners who fully integrate nutrigenomics into their practice find that client engagement improves along with clinical outcomes. \nAre you currently grappling with the use of nutrigenomics or wondering whether to embark on learning more? If so\, the Lifecode Gx® Nutrigenomics Practitioner programme is for you! \nThe 10-week programme will run from January to March 2022\, providing 20 hours of education and guidance in weekly 2-hour sessions. \nStarts Jan 7th 2022 \nCost 350 GBP \nTo Book: https://www.crowdcast.io/e/nutripractitioner22/register
URL:https://desfin.networkvillagecafe.com/event/lifecode-gx-nutrigenomics-practitioner-programme/
LOCATION:Online\, Ireland
CATEGORIES:CPD Events
ATTACH;FMTTYPE=image/png:https://desfin.networkvillagecafe.com/wp-content/uploads/2021/11/Screen-Shot-2021-11-05-at-14.24.59.png
END:VEVENT
BEGIN:VEVENT
DTSTART;TZID=Europe/Dublin:20220225T090000
DTEND;TZID=Europe/Dublin:20220225T103000
DTSTAMP:20260422T051936
CREATED:20220225T171508Z
LAST-MODIFIED:20220225T171514Z
UID:12692-1645779600-1645785000@desfin.networkvillagecafe.com
SUMMARY:Nutri Advanced: Male Andropause: What Is It And What Can We Be Doing?
DESCRIPTION:  \nMale Andropause: What Is It And What Can We Be Doing?\nThe decline of female hormones in women approaching menopause is well documented but the decline in male hormones is often overlooked despite being just as important. In this lecture functional medicine practitioner will delve into the world of male health and the link with health issues at this time of life. In particular this webinar will cover: – The role of testosterone in growth and repair – The decline of testosterone: when\, how and the impact it has – Prostate health – Weight gain – Sexual dysfunction – The link between aromatase and oestrogen the effect it has – Inflammation: cause and effect – Cardiovascular health and male hormones \nTo Book: https://register.gotowebinar.com/register/4839633887242005776
URL:https://desfin.networkvillagecafe.com/event/nutri-advanced-male-andropause-what-is-it-and-what-can-we-be-doing/
LOCATION:Galway
CATEGORIES:CPD Events
ATTACH;FMTTYPE=image/jpeg:https://desfin.networkvillagecafe.com/wp-content/uploads/2019/12/Nutri-Advanced.jpg
END:VEVENT
BEGIN:VEVENT
DTSTART;TZID=Europe/Dublin:20220225T130000
DTEND;TZID=Europe/Dublin:20220225T141500
DTSTAMP:20260422T051936
CREATED:20220114T140837Z
LAST-MODIFIED:20220114T140843Z
UID:12626-1645794000-1645798500@desfin.networkvillagecafe.com
SUMMARY:Zest4Life: Health Coaching Skills for Nutrition Professionals
DESCRIPTION:Health Coaching Skills for Nutrition Professionals \n \nThe Zest4life Health Coaching Skills course has been designed exclusively for those already in the Nutrition Profession who would like to learn how to blend nutrition advice with a health coaching approach\, to support lasting change. \n \nSix-week course starts Friday 25th February 1.00 – 2.15pm\n \nCost: £695\n \nFind out more at https://www.zest4lifebusiness.com/health-coach-training  
URL:https://desfin.networkvillagecafe.com/event/zest4life-health-coaching-skills-for-nutrition-professionals-2/
LOCATION:Online\, Ireland
CATEGORIES:CPD Events
ATTACH;FMTTYPE=image/png:https://desfin.networkvillagecafe.com/wp-content/uploads/2022/01/STARTS-FRIDAY-25TH-FEBRUARY.png
END:VEVENT
END:VCALENDAR