BEGIN:VCALENDAR
VERSION:2.0
PRODID:-//NTOI - ECPv6.2.9//NONSGML v1.0//EN
CALSCALE:GREGORIAN
METHOD:PUBLISH
X-WR-CALNAME:NTOI
X-ORIGINAL-URL:https://desfin.networkvillagecafe.com
X-WR-CALDESC:Events for NTOI
REFRESH-INTERVAL;VALUE=DURATION:PT1H
X-Robots-Tag:noindex
X-PUBLISHED-TTL:PT1H
BEGIN:VTIMEZONE
TZID:Europe/Dublin
BEGIN:STANDARD
TZOFFSETFROM:+0000
TZOFFSETTO:+0100
TZNAME:IST
DTSTART:20220327T010000
END:STANDARD
BEGIN:DAYLIGHT
TZOFFSETFROM:+0100
TZOFFSETTO:+0000
TZNAME:GMT
DTSTART:20221030T010000
END:DAYLIGHT
END:VTIMEZONE
BEGIN:VEVENT
DTSTART;TZID=Europe/Dublin:20220406T110000
DTEND;TZID=Europe/Dublin:20220406T120000
DTSTAMP:20260422T015155
CREATED:20220401T150322Z
LAST-MODIFIED:20220401T150329Z
UID:12762-1649242800-1649246400@desfin.networkvillagecafe.com
SUMMARY:BioNutri: Aching Joints
DESCRIPTION:BioNutri Aching Joints \nAching Joints – The onset of pre-arthritic symptoms. As we get a little older\, the activities we do to stay fit or to unwind have a greater impact upon us. Recovery times get longer and aches and pains can be for many\, something we learn to live with. \nEdward Joy will be exploring the impact we can have on aches\, pains\, niggles and creaks using basic nutrition and subtle lifestyle changes. He’ll explore (as much for his own benefit than anything) how we can stay more flexible for longer and enjoy our leisure time activities without miserable consequences. \nDate and time: 6th April\, 11 am  \nTo Book: https://us02web.zoom.us/meeting/register/tZcld-uvqTspGdDXYuYMK2Char1_P7GPGoVu
URL:https://desfin.networkvillagecafe.com/event/bionutri-aching-joints/
LOCATION:Online
CATEGORIES:CPD Events
ATTACH;FMTTYPE=image/png:https://desfin.networkvillagecafe.com/wp-content/uploads/2022/04/Aching-Joints-SMALL-01-01.png
END:VEVENT
END:VCALENDAR