BEGIN:VCALENDAR
VERSION:2.0
PRODID:-//NTOI - ECPv6.2.9//NONSGML v1.0//EN
CALSCALE:GREGORIAN
METHOD:PUBLISH
X-WR-CALNAME:NTOI
X-ORIGINAL-URL:https://desfin.networkvillagecafe.com
X-WR-CALDESC:Events for NTOI
REFRESH-INTERVAL;VALUE=DURATION:PT1H
X-Robots-Tag:noindex
X-PUBLISHED-TTL:PT1H
BEGIN:VTIMEZONE
TZID:Europe/Dublin
BEGIN:STANDARD
TZOFFSETFROM:+0000
TZOFFSETTO:+0100
TZNAME:IST
DTSTART:20220327T010000
END:STANDARD
BEGIN:DAYLIGHT
TZOFFSETFROM:+0100
TZOFFSETTO:+0000
TZNAME:GMT
DTSTART:20221030T010000
END:DAYLIGHT
END:VTIMEZONE
BEGIN:VEVENT
DTSTART;TZID=Europe/Dublin:20220427T110000
DTEND;TZID=Europe/Dublin:20220427T120000
DTSTAMP:20260421T222943
CREATED:20220401T151643Z
LAST-MODIFIED:20220401T151648Z
UID:12778-1651057200-1651060800@desfin.networkvillagecafe.com
SUMMARY:BioNurti: The Gallbladder
DESCRIPTION:Bionutri – The Gallbladder (Sue) \nThe gallbladder is a small organ located under the liver. It stores and concentrates bile produced in the liver and is connected to other parts of the digestive system through a series of ducts\, or tunnels. The entire system of ducts is called the biliary system. This webinar will discuss the function of the gallbladder\, some common gallbladder problems and their symptoms\, nutritional support and dietary changes that can be used as part of your integrated approach. \nDate and Time: 27th April 11 am  \nTo book; https://us02web.zoom.us/meeting/register/tZcld-uvqTspGdDXYuYMK2Char1_P7GPGoVu \n 
URL:https://desfin.networkvillagecafe.com/event/bionurti-the-gallbladder/
LOCATION:Online\, Ireland
CATEGORIES:CPD Events
ATTACH;FMTTYPE=image/png:https://desfin.networkvillagecafe.com/wp-content/uploads/2022/04/The-Gallbladder-SMALL-01.png
END:VEVENT
BEGIN:VEVENT
DTSTART;TZID=Europe/Dublin:20220427T190000
DTEND;TZID=Europe/Dublin:20220427T200000
DTSTAMP:20260421T222943
CREATED:20220415T132712Z
LAST-MODIFIED:20220415T132718Z
UID:12807-1651086000-1651089600@desfin.networkvillagecafe.com
SUMMARY:Activated Probiotics: Digestion talks: Atopic dermatitis\, Immune & bacteria
DESCRIPTION:Digestion talks: Atopic dermatitis\, Immune & bacteria\nWhat is the link between the microbiome and atopic dermatitis? \nThis webinar will examine the interplay between the gut\, the immune system\, and skin health. We will discuss the significance of the hygiene hypothesis and the importance of the epidermal barrier. \nHosted by Yuwa Aghedo\, Activated Probioitcs’ European Practitioner Consultant; and Karen Harrison\, Scientific and Education Support\, this event will highlight recent research on immune modulation\, intestinal permeability and specific strains of bacteria. \nDate and Time: 27th April 7pm \nTo Book: https://calendly.com/activated-probiotics-karen/the-impact-of-the-gut-microbiome-on-atopic-dermatitis?month=2022-04
URL:https://desfin.networkvillagecafe.com/event/activated-probiotics-digestion-talks-atopic-dermatitis-immune-bacteria/
LOCATION:Online\, Ireland
CATEGORIES:CPD Events
ATTACH;FMTTYPE=image/png:https://desfin.networkvillagecafe.com/wp-content/uploads/2021/03/Screen-Shot-2021-03-12-at-17.29.51.png
END:VEVENT
END:VCALENDAR