BEGIN:VCALENDAR
VERSION:2.0
PRODID:-//NTOI - ECPv6.2.9//NONSGML v1.0//EN
CALSCALE:GREGORIAN
METHOD:PUBLISH
X-WR-CALNAME:NTOI
X-ORIGINAL-URL:https://desfin.networkvillagecafe.com
X-WR-CALDESC:Events for NTOI
REFRESH-INTERVAL;VALUE=DURATION:PT1H
X-Robots-Tag:noindex
X-PUBLISHED-TTL:PT1H
BEGIN:VTIMEZONE
TZID:Europe/Dublin
BEGIN:STANDARD
TZOFFSETFROM:+0000
TZOFFSETTO:+0100
TZNAME:IST
DTSTART:20220327T010000
END:STANDARD
BEGIN:DAYLIGHT
TZOFFSETFROM:+0100
TZOFFSETTO:+0000
TZNAME:GMT
DTSTART:20221030T010000
END:DAYLIGHT
END:VTIMEZONE
BEGIN:VEVENT
DTSTART;TZID=Europe/Dublin:20220502T080000
DTEND;TZID=Europe/Dublin:20220502T170000
DTSTAMP:20260421T222941
CREATED:20220519T154517Z
LAST-MODIFIED:20220519T154517Z
UID:12940-1651478400-1651510800@desfin.networkvillagecafe.com
SUMMARY:Vicky Shilling -How To Market Your Wellness Business Without Social Media
DESCRIPTION:This is a four week course combining pre-recorded trainings with live Q&As with wellness business mentor Vicky Shilling that will help you take practical steps to more effectively market your business in a way that feels more aligned\, more sustainable and more you than the relentless churn of social media. \n This course is perfect for: \n\nHealth professionals at any stage of their business\, either totally new or more established\, to learn marketing techniques that don’t rely on social media\nAnyone who is feeling exhausted\, intimidated or just totally out of alignment with using social media to promote what they do and get clients \nFor health experts that do still want to use social media\, but want to add more variety to their enquiries and income streams to make their business more sustainable\n\nCost: €100 for 4 weeks content with life-time access to the resources.
URL:https://desfin.networkvillagecafe.com/event/vicky-shilling-how-to-market-your-wellness-business-without-social-media/
LOCATION:online
CATEGORIES:CPD Events
ATTACH;FMTTYPE=image/png:https://desfin.networkvillagecafe.com/wp-content/uploads/2022/05/MWSM-Facebook-group-banner-1640-x-856-px-3-2.png
END:VEVENT
END:VCALENDAR