BEGIN:VCALENDAR
VERSION:2.0
PRODID:-//NTOI - ECPv6.2.9//NONSGML v1.0//EN
CALSCALE:GREGORIAN
METHOD:PUBLISH
X-WR-CALNAME:NTOI
X-ORIGINAL-URL:https://desfin.networkvillagecafe.com
X-WR-CALDESC:Events for NTOI
REFRESH-INTERVAL;VALUE=DURATION:PT1H
X-Robots-Tag:noindex
X-PUBLISHED-TTL:PT1H
BEGIN:VTIMEZONE
TZID:Europe/Dublin
BEGIN:STANDARD
TZOFFSETFROM:+0000
TZOFFSETTO:+0100
TZNAME:IST
DTSTART:20220327T010000
END:STANDARD
BEGIN:DAYLIGHT
TZOFFSETFROM:+0100
TZOFFSETTO:+0000
TZNAME:GMT
DTSTART:20221030T010000
END:DAYLIGHT
END:VTIMEZONE
BEGIN:VEVENT
DTSTART;TZID=Europe/Dublin:20220706T110000
DTEND;TZID=Europe/Dublin:20220706T120000
DTSTAMP:20260421T193857
CREATED:20220701T123001Z
LAST-MODIFIED:20220701T123005Z
UID:12980-1657105200-1657108800@desfin.networkvillagecafe.com
SUMMARY:BioNutri: Foraging walk
DESCRIPTION:Wednesday 6th July – Foraging walk (Ed) \nOver the past 10 years Edward Joy has held foraging walks for many UK Practitioners. Once Covid came along this became impossible\, so he tried an online foraging walk instead. As we received so many requests since to repeat the talk Edward has decided to a present a summer foraging walk on Wednesday 6th July. He’ll be wondering around the lanes and hedgerows near where he works in Stroud – nobody else need get stung by nettles or caught on brambles! Just sign up\, sit and watch. There will be wormwoods\, mallows linden blossoms\, horsetails\, and no doubt a few surprises! \n1 hour CPD with Edward Joy \nTime and Date: 6th July at 11am  \nRegistration link https://us02web.zoom.us/meeting/register/tZcoc-yvqTojGdzHSEGgfIXMLe7FE40uryrD
URL:https://desfin.networkvillagecafe.com/event/bionutri-foraging-walk/
LOCATION:Online\, Ireland
CATEGORIES:CPD Events
ATTACH;FMTTYPE=image/png:https://desfin.networkvillagecafe.com/wp-content/uploads/2022/07/Foraging-walk-SMALL-01.png
END:VEVENT
BEGIN:VEVENT
DTSTART;TZID=Europe/Dublin:20220706T190000
DTEND;TZID=Europe/Dublin:20220706T200000
DTSTAMP:20260421T193857
CREATED:20220603T133455Z
LAST-MODIFIED:20220603T133503Z
UID:12969-1657134000-1657137600@desfin.networkvillagecafe.com
SUMMARY:Activated Probiotics: Female Focus: Enhancing Iron Absorption ​
DESCRIPTION:Activated Probiotics: Female Focus: Enhancing Iron Absorption\n \nSynopsis: Our webinar investigates digestion and absorption of iron. How intestinal health\, inflammation and other factors contribute to the fact that most of the iron that enters the digestive tract is not utilised.\n\n\n\n\nWe explore how to maximise absorption of dietary iron and the interplay our gut microbiome has on iron uptake. \nHosted by Activated Probiotics’ European Practitioner Consultant Yuwa Aghedo and Science & Education Support Karen Harrison.  \n7pm Irish time on 6th July \nhttps://activatedprobiotics.com.au/probiotics/uk-webinar-iron-absorption
URL:https://desfin.networkvillagecafe.com/event/activated-probiotics-female-focus-enhancing-iron-absorption-%e2%80%8b/
LOCATION:Online\, Ireland
CATEGORIES:CPD Events
ATTACH;FMTTYPE=image/png:https://desfin.networkvillagecafe.com/wp-content/uploads/2021/03/Screen-Shot-2021-03-12-at-17.29.51.png
END:VEVENT
END:VCALENDAR