BEGIN:VCALENDAR
VERSION:2.0
PRODID:-//NTOI - ECPv6.2.9//NONSGML v1.0//EN
CALSCALE:GREGORIAN
METHOD:PUBLISH
X-ORIGINAL-URL:https://desfin.networkvillagecafe.com
X-WR-CALDESC:Events for NTOI
REFRESH-INTERVAL;VALUE=DURATION:PT1H
X-Robots-Tag:noindex
X-PUBLISHED-TTL:PT1H
BEGIN:VTIMEZONE
TZID:Europe/Dublin
BEGIN:STANDARD
TZOFFSETFROM:+0000
TZOFFSETTO:+0100
TZNAME:IST
DTSTART:20220327T010000
END:STANDARD
BEGIN:DAYLIGHT
TZOFFSETFROM:+0100
TZOFFSETTO:+0000
TZNAME:GMT
DTSTART:20221030T010000
END:DAYLIGHT
END:VTIMEZONE
BEGIN:VEVENT
DTSTART;TZID=Europe/Dublin:20220712T180000
DTEND;TZID=Europe/Dublin:20220712T193000
DTSTAMP:20260421T194106
CREATED:20220708T135656Z
LAST-MODIFIED:20220708T135659Z
UID:13003-1657648800-1657654200@desfin.networkvillagecafe.com
SUMMARY:NC: Liposomal Nucleotides: The Key to Immune Optimisation
DESCRIPTION:The Nutrition Collective:  \nLiposomal Nucleotides: The Key toImmune Optimisation with Prof.Mohammed Naljah and Phoebe Liebling \nNucleotides are important for many biological functions\, including theirrole as the building blocks of DNA and RNA. \nThey have been reportedly beneficial\, since they positively influence lipid metabolism\, immunity\, and tissue growth\, development and repair. \nTo date\, there is a substantial amount of animal and human evidence to suggest that nucleotides are essential for achieving optimal immune function and are important for the maintenance of gut health. What are liposomal nucleotides? How do they interact with the immunesystem? \nDate and Time: 12th July\, 6 – 7.30 pm \nJoin our webinar to get all your answers on liposomal nucleotides and their impact on the immune system. \nLiposomal Nucleotides: The Key to Immune Optimisation
URL:https://desfin.networkvillagecafe.com/event/nc-liposomal-nucleotides-the-key-to-immune-optimisation/
LOCATION:Online\, Ireland
CATEGORIES:CPD Events
ATTACH;FMTTYPE=image/png:https://desfin.networkvillagecafe.com/wp-content/uploads/2022/07/The-Nutrition-Collective-12th-July-Banner.png
END:VEVENT
END:VCALENDAR