BEGIN:VCALENDAR
VERSION:2.0
PRODID:-//NTOI - ECPv6.2.9//NONSGML v1.0//EN
CALSCALE:GREGORIAN
METHOD:PUBLISH
X-WR-CALNAME:NTOI
X-ORIGINAL-URL:https://desfin.networkvillagecafe.com
X-WR-CALDESC:Events for NTOI
REFRESH-INTERVAL;VALUE=DURATION:PT1H
X-Robots-Tag:noindex
X-PUBLISHED-TTL:PT1H
BEGIN:VTIMEZONE
TZID:Europe/Dublin
BEGIN:STANDARD
TZOFFSETFROM:+0000
TZOFFSETTO:+0100
TZNAME:IST
DTSTART:20220327T010000
END:STANDARD
BEGIN:DAYLIGHT
TZOFFSETFROM:+0100
TZOFFSETTO:+0000
TZNAME:GMT
DTSTART:20221030T010000
END:DAYLIGHT
END:VTIMEZONE
BEGIN:VEVENT
DTSTART;TZID=Europe/Dublin:20220901T180000
DTEND;TZID=Europe/Dublin:20220901T193000
DTSTAMP:20260421T163225
CREATED:20220729T175417Z
LAST-MODIFIED:20220729T175424Z
UID:13032-1662055200-1662060600@desfin.networkvillagecafe.com
SUMMARY:NC: Redox: A Breakthrough in Cell Signalling
DESCRIPTION:Redox: A Breakthrough in Cell Signalling \nMillions of people around the world suffer from weak immune systems\, unhealthy inflammatory response\, cardiovascular issues\, digestive complaints\, and hormone imbalance. These challenges may result from age environmental factors such as stress\, diet\, and even the air we breathe. In fact\, current research shows that some lifestyle choices can actually turn off genes\,affecting all systems of the body. \nWhat if there were a simple way to address this cellular breakdown? Not justmask the symptoms\, but actually attack problems at the source— the geneticlevel? \nThere is. \nActive redox signaling molecules\, are powerful cellular messengers canhelp protect\, rejuvenate\, and restore cells. These molecules\, native to the human body\, are created through a groundbreaking\, patented process thatreorganizes molecules of natural salt and purified water into redox. A unique breakthrough technology that has been scientifically tested and shown tosignal the activation of genetic pathways or affect genes that: Improve immune system health Help maintain a healthy inflammatory response Help maintain cardiovascular health and support arterial elasticity Improve gut health and digestive enzyme production Modulate hormone balance to support vitality and wellness \nJoin us for a unique webinar sponsored by Asea Redox\, a cell signallingsupplement company that has science backed information on redoxbalancing and cell signalling. \n1st September 2022 \n6pm UK time – 7:30 pm UK time \nTo Book: https://nutritioncollective.co.uk/event/cell-signalling/
URL:https://desfin.networkvillagecafe.com/event/nc-redox-a-breakthrough-in-cell-signalling/
LOCATION:Online\, Ireland
CATEGORIES:CPD Events
ATTACH;FMTTYPE=image/png:https://desfin.networkvillagecafe.com/wp-content/uploads/2022/07/1st-September.png
END:VEVENT
END:VCALENDAR