BEGIN:VCALENDAR
VERSION:2.0
PRODID:-//NTOI - ECPv6.2.9//NONSGML v1.0//EN
CALSCALE:GREGORIAN
METHOD:PUBLISH
X-ORIGINAL-URL:https://desfin.networkvillagecafe.com
X-WR-CALDESC:Events for NTOI
REFRESH-INTERVAL;VALUE=DURATION:PT1H
X-Robots-Tag:noindex
X-PUBLISHED-TTL:PT1H
BEGIN:VTIMEZONE
TZID:Europe/Dublin
BEGIN:STANDARD
TZOFFSETFROM:+0000
TZOFFSETTO:+0100
TZNAME:IST
DTSTART:20220327T010000
END:STANDARD
BEGIN:DAYLIGHT
TZOFFSETFROM:+0100
TZOFFSETTO:+0000
TZNAME:GMT
DTSTART:20221030T010000
END:DAYLIGHT
END:VTIMEZONE
BEGIN:VEVENT
DTSTART;TZID=Europe/Dublin:20220907T100000
DTEND;TZID=Europe/Dublin:20220907T140000
DTSTAMP:20260421T180956
CREATED:20220826T144025Z
LAST-MODIFIED:20220826T144036Z
UID:13147-1662544800-1662559200@desfin.networkvillagecafe.com
SUMMARY:BioCare: THE MICROBIOME SUMMIT
DESCRIPTION:THE MICROBIOME SUMMIT \nWebinar with Chris Newbold.Wednesday 7th September\, 10am – 2pm BST \nIt’s not just your own biology that influences your health. We’ve evolved to live alongside a complex internalised ecosystem of microorganisms\, and are functionally interconnected. The resulting metabolome produced by all cells is the key to health. But what is the nature of that ecosystem\, how exactly does it influence health and how does it develop? What is the role of probiotics\, prebiotics and even post-biotics? After busting some myths about the microbiome\, we will also look beyond the adult gut\, at the specifics of the infant microbiome and its importance to baby health\, as well as the skin and genitourinary microbiome. 3 hours CPD (BANT\, ANP\, NNA\, NTOI). \nIF YOU’RE NOT ABLE TO WATCH LIVE\, A RECORDING WILL BE AVAILABLE TO ALL REGISTRANTS 24HRS LATER. \nTo book: https://us02web.zoom.us/webinar/register/WN_K19Lr7kvRLKA6znc0s0uvw
URL:https://desfin.networkvillagecafe.com/event/biocare-the-microbiome-summit/
LOCATION:Online\, Ireland
CATEGORIES:CPD Events
ATTACH;FMTTYPE=image/jpeg:https://desfin.networkvillagecafe.com/wp-content/uploads/2022/08/image005.jpg
END:VEVENT
END:VCALENDAR