BEGIN:VCALENDAR
VERSION:2.0
PRODID:-//NTOI - ECPv6.2.9//NONSGML v1.0//EN
CALSCALE:GREGORIAN
METHOD:PUBLISH
X-WR-CALNAME:NTOI
X-ORIGINAL-URL:https://desfin.networkvillagecafe.com
X-WR-CALDESC:Events for NTOI
REFRESH-INTERVAL;VALUE=DURATION:PT1H
X-Robots-Tag:noindex
X-PUBLISHED-TTL:PT1H
BEGIN:VTIMEZONE
TZID:Europe/Dublin
BEGIN:STANDARD
TZOFFSETFROM:+0000
TZOFFSETTO:+0100
TZNAME:IST
DTSTART:20220327T010000
END:STANDARD
BEGIN:DAYLIGHT
TZOFFSETFROM:+0100
TZOFFSETTO:+0000
TZNAME:GMT
DTSTART:20221030T010000
END:DAYLIGHT
END:VTIMEZONE
BEGIN:VEVENT
DTSTART;TZID=Europe/Dublin:20220910T100000
DTEND;TZID=Europe/Dublin:20220910T160000
DTSTAMP:20260421T163223
CREATED:20220819T151100Z
LAST-MODIFIED:20220819T151104Z
UID:13095-1662804000-1662825600@desfin.networkvillagecafe.com
SUMMARY:Healthy thyroid function - an overview
DESCRIPTION:Healthy thyroid function – an overview with Brendan O’Brien \nSaturday 10th September 10-4pm -The Connacht Hotel\, Galway \nTo Book: https://www.pharmanord.ie/academy
URL:https://desfin.networkvillagecafe.com/event/healthy-thyroid-function-an-overview/
LOCATION:The Connacht Hotel\, Old Dublin Road\, Galway\, Galway\, H91 K5DD\, Ireland
CATEGORIES:CPD Events
ATTACH;FMTTYPE=image/png:https://desfin.networkvillagecafe.com/wp-content/uploads/2019/05/Pharma-nord-cpd.png
END:VEVENT
END:VCALENDAR