BEGIN:VCALENDAR
VERSION:2.0
PRODID:-//NTOI - ECPv6.2.9//NONSGML v1.0//EN
CALSCALE:GREGORIAN
METHOD:PUBLISH
X-WR-CALNAME:NTOI
X-ORIGINAL-URL:https://desfin.networkvillagecafe.com
X-WR-CALDESC:Events for NTOI
REFRESH-INTERVAL;VALUE=DURATION:PT1H
X-Robots-Tag:noindex
X-PUBLISHED-TTL:PT1H
BEGIN:VTIMEZONE
TZID:Europe/Dublin
BEGIN:STANDARD
TZOFFSETFROM:+0000
TZOFFSETTO:+0100
TZNAME:IST
DTSTART:20220327T010000
END:STANDARD
BEGIN:DAYLIGHT
TZOFFSETFROM:+0100
TZOFFSETTO:+0000
TZNAME:GMT
DTSTART:20221030T010000
END:DAYLIGHT
END:VTIMEZONE
BEGIN:VEVENT
DTSTART;TZID=Europe/Dublin:20220921T180000
DTEND;TZID=Europe/Dublin:20220921T193000
DTSTAMP:20260421T163225
CREATED:20220729T180619Z
LAST-MODIFIED:20220729T180626Z
UID:13043-1663783200-1663788600@desfin.networkvillagecafe.com
SUMMARY:The 5-Day Diet: Boost Energy\, Immunity and Burn Fat
DESCRIPTION:The 5-Day Diet: Boost Energy\, Immunity and Burn Fat \nWith Best Selling Nutrition Expert Patrick Holford \nWhy do some people have lots of energy\, while others struggle? Why dosome people shrug off infections and others take weeks to recover? \nAccording to nutrition expert Patrick Holford it’s all to do with your body’s operating system\, which can be upgraded with a specific 5 day diet. The clue as to how to upgrade you cellular energy and immunepower comes from studies of starvation diets\, which this is not. \nNormally\, we are designed to run on carbohydrates. They break downinto glucose which both muscles and the brain use for energy. But\, in times of starvation we have a back-up system that breaks down stores of body fat into a different kind of fuel\, ketones\, which both the body and brain can use for energy.It’s not a diet for life\, but a diet to switch your body’s operating system back to health. If you’re healthy Patrick recommends doing it four times ayear. If you’ve got healthy issues you want to resolves he recommends you do it once a month for four months. His book tells you what to eat in between.The Five Day Diet by Patrick Holford. More details from www.fivedaydiet.co.uk. \nJoin our latest masterclass based on with best-selling nutrition expert Patrick Holford’s latest book the 5 day diet. \n21 st September 2022 \n6pm UK time – 7:30 pm UK time \nCost €15 \nTo Book: https://nutritioncollective.co.uk/event/5-day-diet/
URL:https://desfin.networkvillagecafe.com/event/the-5-day-diet-boost-energy-immunity-and-burn-fat/
LOCATION:Online\, Ireland
CATEGORIES:CPD Events
ATTACH;FMTTYPE=image/png:https://desfin.networkvillagecafe.com/wp-content/uploads/2022/07/21st-September.png
END:VEVENT
BEGIN:VEVENT
DTSTART;TZID=Europe/Dublin:20220921T190000
DTEND;TZID=Europe/Dublin:20220921T200000
DTSTAMP:20260421T163225
CREATED:20220822T161911Z
LAST-MODIFIED:20220822T161916Z
UID:13141-1663786800-1663790400@desfin.networkvillagecafe.com
SUMMARY:Activated Probiotics: ‘Children’s Gut Health and the Maturation of the Immune System’
DESCRIPTION:Join us online on the 21st of September for our Activated Probiotics Little Digestion Talks webinar\, ‘Children’s Gut Health and the Maturation of the Immune System’ \nIt is well understood that the microbiome influences the development of the pediatric immune system. In this webinar\, hosted by Yuwa and Karen\, we will review the mechanisms by which specific strains of live bacteria influence children’s immune health and modulate the risk of acute upper respiratory tract infections. \nWe also have the pleasure to introduce the newest addition to the Activated Probiotics range\, Biome Baby a district blend of specific live bacteria strains to support the developing digestive and immune systems  \n\n\n\n\n\n\n\n\n\n\nHosted by Activated Probiotics’ European Practitioner Consultant Yuwa Aghedo and Science & Education Support Karen Harrison.  \n \nWednesday 21st September at 7pm UK time.\n \nLink to sign up:\n\n\n\n\n\nhttps://activatedprobiotics.com.au/probiotics/uk-webinar-childrens-gut-health/\n 
URL:https://desfin.networkvillagecafe.com/event/activated-probiotics-childrens-gut-health-and-the-maturation-of-the-immune-system/
LOCATION:Galway
CATEGORIES:CPD Events
ATTACH;FMTTYPE=image/png:https://desfin.networkvillagecafe.com/wp-content/uploads/2021/03/Screen-Shot-2021-03-12-at-17.29.51.png
END:VEVENT
END:VCALENDAR