BEGIN:VCALENDAR
VERSION:2.0
PRODID:-//NTOI - ECPv6.2.9//NONSGML v1.0//EN
CALSCALE:GREGORIAN
METHOD:PUBLISH
X-ORIGINAL-URL:https://desfin.networkvillagecafe.com
X-WR-CALDESC:Events for NTOI
REFRESH-INTERVAL;VALUE=DURATION:PT1H
X-Robots-Tag:noindex
X-PUBLISHED-TTL:PT1H
BEGIN:VTIMEZONE
TZID:Europe/Dublin
BEGIN:STANDARD
TZOFFSETFROM:+0000
TZOFFSETTO:+0100
TZNAME:IST
DTSTART:20220327T010000
END:STANDARD
BEGIN:DAYLIGHT
TZOFFSETFROM:+0100
TZOFFSETTO:+0000
TZNAME:GMT
DTSTART:20221030T010000
END:DAYLIGHT
END:VTIMEZONE
BEGIN:VEVENT
DTSTART;TZID=Europe/Dublin:20220923T100000
DTEND;TZID=Europe/Dublin:20220924T173000
DTSTAMP:20260421T163521
CREATED:20220729T174321Z
LAST-MODIFIED:20220729T174326Z
UID:13028-1663927200-1664040600@desfin.networkvillagecafe.com
SUMMARY:CBT\, MOTIVATIONAL INTERVIEWING & MINDFULNESS FOR WEIGHT MANAGEMENT
DESCRIPTION:CBT\, MOTIVATIONAL INTERVIEWING & MINDFULNESS FOR WEIGHT MANAGEMENT\n\nDate: 23rd & 24th September 2022 \nTime: 10 am – 5.30 pm \n\n\n\n\nIn this popular workshop\, you will learn interventions to help your clients make changes to their behaviour and their cognition around developing a healthy lifestyle. \nIn addition\, you’ll get the tools to help your clients overcome dysfunctional beliefs related to deprivation\, and thoughts that sabotage their motivation and sense of self-efficacy. \nHelp your clients to establish a positive attitude toward food and exercise\, and achieve a positive body image. \nYou will also be able to apply Motivational Interviewing techniques to help your clients overcome ambivalence\, help them stay motivated to make positive lifestyle changes. \n\n\n\nCost: € 250 \nTo Book: https://susilodolacounselling.com/professional-training-cbt-motivational-interviewing-september/
URL:https://desfin.networkvillagecafe.com/event/cbt-motivational-interviewing-mindfulness-for-weight-management/
LOCATION:Galway
CATEGORIES:CPD Events
ATTACH;FMTTYPE=image/png:https://desfin.networkvillagecafe.com/wp-content/uploads/2021/11/Dr.-Aaron-Beck-Instagram-Story-Poster-Instagram-Post-2.png
ORGANIZER;CN="Susi Lodola Counselling":MAILTO:info@susilodolacounselling.com
END:VEVENT
END:VCALENDAR