BEGIN:VCALENDAR
VERSION:2.0
PRODID:-//NTOI - ECPv6.2.9//NONSGML v1.0//EN
CALSCALE:GREGORIAN
METHOD:PUBLISH
X-WR-CALNAME:NTOI
X-ORIGINAL-URL:https://desfin.networkvillagecafe.com
X-WR-CALDESC:Events for NTOI
REFRESH-INTERVAL;VALUE=DURATION:PT1H
X-Robots-Tag:noindex
X-PUBLISHED-TTL:PT1H
BEGIN:VTIMEZONE
TZID:Europe/Dublin
BEGIN:STANDARD
TZOFFSETFROM:+0000
TZOFFSETTO:+0100
TZNAME:IST
DTSTART:20220327T010000
END:STANDARD
BEGIN:DAYLIGHT
TZOFFSETFROM:+0100
TZOFFSETTO:+0000
TZNAME:GMT
DTSTART:20221030T010000
END:DAYLIGHT
END:VTIMEZONE
BEGIN:VEVENT
DTSTART;TZID=Europe/Dublin:20220929T100000
DTEND;TZID=Europe/Dublin:20220929T160000
DTSTAMP:20260421T144846
CREATED:20220819T155155Z
LAST-MODIFIED:20220819T155222Z
UID:13125-1664445600-1664467200@desfin.networkvillagecafe.com
SUMMARY:Mitigate the Impact of Stress on nutritional status with Eileen Hopkins and Linn Thorstensson
DESCRIPTION:Mitigate the Impact of Stress on nutritional status with Eileen Hopkins and Linn Thorstensson \nThursday 29th September 10-4pm – The Connacht Hotel\, Galway  \nTo Book: https://www.pharmanord.ie/academy
URL:https://desfin.networkvillagecafe.com/event/mitigate-the-impact-of-stress-on-nutritional-status-with-eileen-hopkins-and-linn-thorstensson-3/
LOCATION:The Connacht Hotel\, Old Dublin Road\, Galway\, Galway\, H91 K5DD\, Ireland
CATEGORIES:CPD Events
ATTACH;FMTTYPE=image/png:https://desfin.networkvillagecafe.com/wp-content/uploads/2019/05/Pharma-nord-cpd.png
END:VEVENT
END:VCALENDAR