BEGIN:VCALENDAR
VERSION:2.0
PRODID:-//NTOI - ECPv6.2.9//NONSGML v1.0//EN
CALSCALE:GREGORIAN
METHOD:PUBLISH
X-WR-CALNAME:NTOI
X-ORIGINAL-URL:https://desfin.networkvillagecafe.com
X-WR-CALDESC:Events for NTOI
REFRESH-INTERVAL;VALUE=DURATION:PT1H
X-Robots-Tag:noindex
X-PUBLISHED-TTL:PT1H
BEGIN:VTIMEZONE
TZID:Europe/Dublin
BEGIN:STANDARD
TZOFFSETFROM:+0000
TZOFFSETTO:+0100
TZNAME:IST
DTSTART:20220327T010000
END:STANDARD
BEGIN:DAYLIGHT
TZOFFSETFROM:+0100
TZOFFSETTO:+0000
TZNAME:GMT
DTSTART:20221030T010000
END:DAYLIGHT
END:VTIMEZONE
BEGIN:VEVENT
DTSTART;TZID=Europe/Dublin:20220930T100000
DTEND;TZID=Europe/Dublin:20220930T160000
DTSTAMP:20260421T225728
CREATED:20220819T160147Z
LAST-MODIFIED:20220819T160150Z
UID:13137-1664532000-1664553600@desfin.networkvillagecafe.com
SUMMARY:Vitamin D Bone Loss prevention and treatment\, Edelle O'Doherty Nichols and Michele O'Brien from the Irish Osteoporosis Society
DESCRIPTION:Vitamin D Bone Loss prevention and treatment\, Edelle O’Doherty Nichols and Michele O’Brien from the Irish Osteoporosis Society \nFriday 30th September 10-4pm\, Talbot Hotel\, Stillorgan \nTo Book: https://www.pharmanord.ie/academy
URL:https://desfin.networkvillagecafe.com/event/vitamin-d-bone-loss-prevention-and-treatment-edelle-odoherty-nichols-and-michele-obrien-from-the-irish-osteoporosis-society-3/
LOCATION:The Talbot Hotel\, Stillorgan\, Dublin\, Ireland
CATEGORIES:CPD Events
ATTACH;FMTTYPE=image/png:https://desfin.networkvillagecafe.com/wp-content/uploads/2019/05/Pharma-nord-cpd.png
END:VEVENT
BEGIN:VEVENT
DTSTART;TZID=Europe/Dublin:20221004T100000
DTEND;TZID=Europe/Dublin:20221004T150000
DTSTAMP:20260421T225728
CREATED:20220826T144836Z
LAST-MODIFIED:20220826T144839Z
UID:13152-1664877600-1664895600@desfin.networkvillagecafe.com
SUMMARY:BioCare: Face to Face SEMINAR-  THE GUT\, UNRAVELLED
DESCRIPTION:Face to Face SEMINAR- \nTHE GUT\, UNRAVELLED \nSeminar with Alessandro Ferretti & Chris NewboldVarious locations and dates\, 10am – 3pm BST \nTime to get to the core of all human physiology as we unravel the complex subject of gut health and its multifaceted links with other systems! Gut is our ‘outside inside’\, the metabolic interface where two complex biological and chemical worlds interact in a dynamic\, hybrid ecosystem\, part human\, part other. Its active barrier function enables it to play multiple roles sensing\, defending\, ingesting\, detoxifying\, and creating\, such that gut impacts everything\, and everything can impact the gut. In this seminar we examine the adaptive role of the gut\, taking a holistic ecological perspective\, touching on digestion\, motility\, integrity and microbial balance\, using case study examples\, and equipping you to take an effective whole system approach to improving clients’ health. 4 hours CPD (BANT\, ANP\, NNA\, NTOI). Drinks and snacks provided; lunch available to purchase locally. \nTuesday 4th October 10am-3pm Clayton Hotel Liffey Valley Dublin \nTo Book:  \nhttps://www.eventbrite.ie/e/biocare-live-seminar-dublin-the-gut-unravelled-tickets-391107181107
URL:https://desfin.networkvillagecafe.com/event/biocare-face-to-face-seminar-the-gut-unravelled/
LOCATION:Clayton Hotel\, Liffey Valley
CATEGORIES:CPD Events
ATTACH;FMTTYPE=image/jpeg:https://desfin.networkvillagecafe.com/wp-content/uploads/2022/08/image006.jpg
END:VEVENT
BEGIN:VEVENT
DTSTART;TZID=Europe/Dublin:20221005T100000
DTEND;TZID=Europe/Dublin:20221005T150000
DTSTAMP:20260421T225728
CREATED:20220826T145430Z
LAST-MODIFIED:20220826T145434Z
UID:13158-1664964000-1664982000@desfin.networkvillagecafe.com
SUMMARY:BioCare: Face to Face SEMINAR-  THE GUT\, UNRAVELLED
DESCRIPTION:Face to Face SEMINAR- \nTHE GUT\, UNRAVELLED \nSeminar with Alessandro Ferretti & Chris NewboldVarious locations and dates\, 10am – 3pm BST \nTime to get to the core of all human physiology as we unravel the complex subject of gut health and its multifaceted links with other systems! Gut is our ‘outside inside’\, the metabolic interface where two complex biological and chemical worlds interact in a dynamic\, hybrid ecosystem\, part human\, part other. Its active barrier function enables it to play multiple roles sensing\, defending\, ingesting\, detoxifying\, and creating\, such that gut impacts everything\, and everything can impact the gut. In this seminar we examine the adaptive role of the gut\, taking a holistic ecological perspective\, touching on digestion\, motility\, integrity and microbial balance\, using case study examples\, and equipping you to take an effective whole system approach to improving clients’ health. 4 hours CPD (BANT\, ANP\, NNA\, NTOI). Drinks and snacks provided; lunch available to purchase locally. \nWednesday 5th October 10am-3pm Clayton Hotel Silver Springs Cork \nTo Book: https://www.eventbrite.ie/e/biocare-live-seminar-cork-the-gut-unravelled-tickets-391138745517
URL:https://desfin.networkvillagecafe.com/event/biocare-face-to-face-seminar-the-gut-unravelled-2/
LOCATION:Clayton hotel\, Silver Springs\, Cork
CATEGORIES:CPD Events
ATTACH;FMTTYPE=image/jpeg:https://desfin.networkvillagecafe.com/wp-content/uploads/2022/08/image006.jpg
END:VEVENT
BEGIN:VEVENT
DTSTART;TZID=Europe/Dublin:20221006T100000
DTEND;TZID=Europe/Dublin:20221006T150000
DTSTAMP:20260421T225728
CREATED:20220826T145954Z
LAST-MODIFIED:20220826T145957Z
UID:13163-1665050400-1665068400@desfin.networkvillagecafe.com
SUMMARY:BioCare: Face to Face SEMINAR-  THE GUT\, UNRAVELLED
DESCRIPTION:Face to Face SEMINAR- \nTHE GUT\, UNRAVELLED \nSeminar with Alessandro Ferretti & Chris NewboldVarious locations and dates\, 10am – 3pm BST \nTime to get to the core of all human physiology as we unravel the complex subject of gut health and its multifaceted links with other systems! Gut is our ‘outside inside’\, the metabolic interface where two complex biological and chemical worlds interact in a dynamic\, hybrid ecosystem\, part human\, part other. Its active barrier function enables it to play multiple roles sensing\, defending\, ingesting\, detoxifying\, and creating\, such that gut impacts everything\, and everything can impact the gut. In this seminar we examine the adaptive role of the gut\, taking a holistic ecological perspective\, touching on digestion\, motility\, integrity and microbial balance\, using case study examples\, and equipping you to take an effective whole system approach to improving clients’ health. 4 hours CPD (BANT\, ANP\, NNA\, NTOI). Drinks and snacks provided; lunch available to purchase locally. \nThursday 6th October 10am-3pm The Connacht Hotel Galway \nTo book: https://www.eventbrite.ie/e/biocare-live-seminar-galway-the-gut-unravelled-tickets-391160299987
URL:https://desfin.networkvillagecafe.com/event/biocare-face-to-face-seminar-the-gut-unravelled-3/
LOCATION:The Connacht Hotel\, Old Dublin Road\, Galway\, Galway\, H91 K5DD\, Ireland
CATEGORIES:CPD Events
ATTACH;FMTTYPE=image/jpeg:https://desfin.networkvillagecafe.com/wp-content/uploads/2022/08/image006.jpg
END:VEVENT
BEGIN:VEVENT
DTSTART;TZID=Europe/Dublin:20221007T080000
DTEND;TZID=Europe/Dublin:20221008T170000
DTSTAMP:20260421T225728
CREATED:20220722T111408Z
LAST-MODIFIED:20220722T111413Z
UID:13020-1665129600-1665248400@desfin.networkvillagecafe.com
SUMMARY:NMI: Personalised Nutrition via the Microbiome\, Genome and Biomarkers:  Recent Advances and Clinical Applications.
DESCRIPTION:Personalised Nutrition via the Microbiome\, Genome and Biomarkers: Recent Advances and Clinical Applications. \nNMI Summit 2022 \nFriday 7th October – Saturday 8th October\, 2022.  \nLocation:Millennium Gloucester Hotel4-18 Harrington Gardens South KensingtonLondon SW7 4 LH \nPersonalised nutrition leverages individual information to deliver tailored diets\,nutritional supplements\, and behavioural changes to improve functional statusand optimise health. \nData derived from a person’s microbiome\, genome\, and clinical biomarkers arerapidly advancing the science and practice of personalised nutrition and thedelivery of precision health. \nThis conference provides clinicians with important insights into recent advancesin personalised nutrition from world-leading experts in this area and theirapplicability and relevance to clinical practice. \nTopics will explore the role of biomarkers in the personalisation of therapeuticdiets\, specific foods\, and food components\, as well as nutrient-basedsupplements\, and their integration in whole-person\, patient-centred models ofhealthcare. \nFeaturing world-leading educators who are experts in the specialist areas ofpersonalised nutrition\, nutrigenomics\, the microbiome\, and integrative medicine. \nEarly bird tickets are available until 31st August 2022. \nEvent highlights: Special theme of personalised nutrition\, the microbiome\, and nutrigenomics 12 presentations from world-leading researchers\, scientists\, and clinicians Healthy morning snacks\, break refreshments\, and lunch inclusive Exhibition area featuring leading brands and services Conference tote bag with sponsor samples and giveaways Gala Evening social event included with your ticket Course materials including notes\, supplementary research\, and video recordingsAccredited continuing professional development (CPD) points \nTo Book your tickets  \nhttps://www.nmi.health/summit2022/ \n 
URL:https://desfin.networkvillagecafe.com/event/nmi-personalised-nutrition-via-the-microbiome-genome-and-biomarkers-recent-advances-and-clinical-applications/
LOCATION:Millennium Gloucester Hotel\, London
CATEGORIES:CPD Events
ATTACH;FMTTYPE=image/jpeg:https://desfin.networkvillagecafe.com/wp-content/uploads/2022/07/Event-Partner-Social-Post.jpg
END:VEVENT
END:VCALENDAR