BEGIN:VCALENDAR
VERSION:2.0
PRODID:-//NTOI - ECPv6.2.9//NONSGML v1.0//EN
CALSCALE:GREGORIAN
METHOD:PUBLISH
X-WR-CALNAME:NTOI
X-ORIGINAL-URL:https://desfin.networkvillagecafe.com
X-WR-CALDESC:Events for NTOI
REFRESH-INTERVAL;VALUE=DURATION:PT1H
X-Robots-Tag:noindex
X-PUBLISHED-TTL:PT1H
BEGIN:VTIMEZONE
TZID:Europe/Dublin
BEGIN:STANDARD
TZOFFSETFROM:+0000
TZOFFSETTO:+0100
TZNAME:IST
DTSTART:20190331T010000
END:STANDARD
BEGIN:DAYLIGHT
TZOFFSETFROM:+0100
TZOFFSETTO:+0000
TZNAME:GMT
DTSTART:20191027T010000
END:DAYLIGHT
END:VTIMEZONE
BEGIN:VEVENT
DTSTART;TZID=Europe/Dublin:20190530T090000
DTEND;TZID=Europe/Dublin:20190603T180000
DTSTAMP:20260424T073446
CREATED:20190527T160418Z
LAST-MODIFIED:20190527T160446Z
UID:10026-1559206800-1559584800@desfin.networkvillagecafe.com
SUMMARY:Bloom in the Park 2019
DESCRIPTION:Bloom was launched by Bord Bia in 2007 primarily as a promotional vehicle for horticulture; providing a showcase for garden plants\, garden design\, construction\, horticulture and gardening as a hobby.  Based on similar successful formats such as the RHS Chelsea Flower Shows and RHS Hampton Court Palace shows\, Bloom has numerous highly creative gardens and plant displays which are used to inspire and excite the public about gardening and garden design. The OPW’s support and provision of 70 acres at the heart of the Phoenix Park has assisted Bord Bia in developing a show with a greater diversity of content than traditional garden shows. Bord Bia’s wider remit across food\, drink and horticulture has enabled the development a consumer show that engages the public with artisan and Bord Bia Quality Assured food\, meeting Ireland’s top chefs and cooks and learning more about and experiencing Irish fruit\, vegetables and potato production. Bloom\, which is organised by Bord Bia\, celebrates its 11th anniversary this year \n30th May – 3rd June 2019 \nTicket prices from the 1st March-29th May \nOpening Times: 9am – 6pm Daily \nTicket TypeWeekday – Valid Thursday Or Friday.Weekend – Valid Sat Or Sun Or Bank Holiday Mon.2 Day – Valid ANY two days of the event \nTo purchase tickets over the phone please call: 0818 719 300 \nTo purchase tickets online please click here \nNotes:Concession – Senior (66+ years) / Student. I.D required on admission.Children (16 and under) – Up to 3 per paying adult.Please note that all online bookings are subject to a Ticketmaster customer service charge. \nFor any queries regarding tickets please call:0818 903001 – Republic of Ireland Customers0333 321 9996 – Northern Ireland & UK Customers00 353 818 903001 – International Customers \nFor any group bookings (10+ people) please contact below: \nPhone: +353 (1) 648 6029 Or Email: group.sales@ticketmaster.ie \n*No dogs are permitted onsite with the exception of assistance dogs. Please do not leave dogs unattended in parked cars.*
URL:https://desfin.networkvillagecafe.com/event/bloom-in-the-park-2019/
LOCATION:Phoenix Park\, Dublin\, Dublin\, Ireland
CATEGORIES:Public Events
ATTACH;FMTTYPE=image/jpeg:https://desfin.networkvillagecafe.com/wp-content/uploads/2019/05/bloom.jpg
ORGANIZER;CN="Bord Bia":MAILTO:info@bloominthepark.com
END:VEVENT
BEGIN:VEVENT
DTSTART;TZID=Europe/Dublin:20190609T130000
DTEND;TZID=Europe/Dublin:20190609T163000
DTSTAMP:20260424T073446
CREATED:20190527T152515Z
LAST-MODIFIED:20190527T152522Z
UID:10008-1560085200-1560097800@desfin.networkvillagecafe.com
SUMMARY:Introduction To Wild Fermentation & Gut Health
DESCRIPTION:Fermentation of food & drink is an ancient art and a necessary skill to maintain a healthy\, balanced gut – turning ordinary vegetables\, herbs\, fruit and water into a tasty treat is the ultimate quest for the Food Alchemist. \nJoin April Danann\, a West Cork Food Scientist\, apple cider vinegar producer & kombucha brewer\, for a tutorial in nature\, reconnecting to the finer points of nourishing your body\, mind & spirit with fermented foods of all kinds. \nDuring this workshop you will be introduced to several methods of fermenting foods\, various means of increasing nutritional content and bioavailability of nutrients as well as how to create exquisite tasting sourdough breads. Included in the event are all tastings\, extensive notes and most importantly\, a meal and some great craic! \nWhen: Sunday 9th June 2019Where: Near Skibbereen\, West CorkTime: 1pm to 4.30pmCost: €85
URL:https://desfin.networkvillagecafe.com/event/introduction-to-wild-fermentation-gut-health/
LOCATION:April Danann\, Near Skibbereen\, Co. Cork\, West Cork\, Ireland
CATEGORIES:Public Events
ATTACH;FMTTYPE=image/jpeg:https://desfin.networkvillagecafe.com/wp-content/uploads/2019/05/IMG_1271.jpg
ORGANIZER;CN="aprildanann.com":MAILTO:info@aprildanann.com
END:VEVENT
BEGIN:VEVENT
DTSTART;TZID=Europe/Dublin:20190613T120000
DTEND;TZID=Europe/Dublin:20190616T223000
DTSTAMP:20260424T073446
CREATED:20190528T093621Z
LAST-MODIFIED:20190528T100301Z
UID:10066-1560427200-1560724200@desfin.networkvillagecafe.com
SUMMARY:Taste of Dublin June 2019
DESCRIPTION:Four days of eating\, drinking and entertainment – discover Taste of Dublin \n\n\n\n\n\n \nVive La Révolution!Taste of Dublin 2019 is celebrating Ireland’s eclectic cuisine and the chefs revolutionising the Irish menu. \nTaste of Dublin 2019 is returning to the Iveagh Gardens this June 13th – 16th and is celebrating the revolution of the Irish menu! Championing the chefs that are taking culinary risks\, fusing Irish and international cuisine and creating revolutionary Irish menus offering foodies unique and eclectic dining experiences. This year at Taste of Dublin 2019\, youth meets experience as the masters and the next generation of Irish chefs champion the revolution! \nTaste of Dublin has an afternoon and an evening session\, each lasting between 4-5 hours (depending on the day) giving you time to enjoy your pick of restaurant dishes\, browse the artisan stalls and enjoy some of the many attractions. Tickets are sold for each session and are only valid for the time and date indicated on the ticket. \nThursday June 13th 12:00 – 16:00 & 17:30 – 22:30Friday June 14th 12:00 – 16:00 & 17:30 – 22:30Saturday June 15th 12:00 – 16:00 & 17:30 – 22:30Sunday June 16th 12:00 – 16:00 & 17:30 – 21.30 \nWhat to expect at Taste of Dublin\nDublin’s best restaurantsSample signature small-plate dishes from over 20 of Dublin’s latest\, greatest and most exciting restaurants. \nLeading chefsSee world-class chefs cook up a storm in live demonstrations and in their restaurants at the festival. \nTaste experiencesGet hands-on with interactive masterclasses and demonstrations. Indulge in a range of complimentary activities including cooking masterclasses\, food and wine pairings\, and whiskey and craft beer tastings. \nTaste marketplaceSample boutique food markets where a mouth-watering array of more than 60 food and drink purveyors\, artisan producers and manufacturers offer exclusive and unique products. \nA great day out to remember Get together with loved ones and create lasting memories\, all set against the backdrop of the stunning Iveagh Gardens.
URL:https://desfin.networkvillagecafe.com/event/taste-of-dublin-june-2019/
LOCATION:Iveagh Gardens\, Harcourt Street\, Dublin\, Dublin\, 02\, Ireland
CATEGORIES:Public Events
ATTACH;FMTTYPE=image/jpeg:https://desfin.networkvillagecafe.com/wp-content/uploads/2019/05/2019-05-28-10_33_37-Taste-of-Dublin-Irelands-Premier-Food-and-Drink-Festival.jpg
ORGANIZER;CN="tastefestivals.com":MAILTO:info@tasteofdublin.ie
END:VEVENT
END:VCALENDAR