BEGIN:VCALENDAR
VERSION:2.0
PRODID:-//NTOI - ECPv6.2.9//NONSGML v1.0//EN
CALSCALE:GREGORIAN
METHOD:PUBLISH
X-ORIGINAL-URL:https://desfin.networkvillagecafe.com
X-WR-CALDESC:Events for NTOI
REFRESH-INTERVAL;VALUE=DURATION:PT1H
X-Robots-Tag:noindex
X-PUBLISHED-TTL:PT1H
BEGIN:VTIMEZONE
TZID:Europe/Dublin
BEGIN:STANDARD
TZOFFSETFROM:+0000
TZOFFSETTO:+0100
TZNAME:IST
DTSTART:20190331T010000
END:STANDARD
BEGIN:DAYLIGHT
TZOFFSETFROM:+0100
TZOFFSETTO:+0000
TZNAME:GMT
DTSTART:20191027T010000
END:DAYLIGHT
END:VTIMEZONE
BEGIN:VEVENT
DTSTART;TZID=Europe/Dublin:20190511T090000
DTEND;TZID=Europe/Dublin:20190512T190000
DTSTAMP:20260424T113952
CREATED:20190527T183137Z
LAST-MODIFIED:20190528T091612Z
UID:10051-1557565200-1557687600@desfin.networkvillagecafe.com
SUMMARY:WellFest 2019
DESCRIPTION:It’s finally here\, WellFest weekend has arrived! So\, if you’re wondering what’s on this weekend\, wonder no more\, as WellFest 2019 is returning to Dublin’s Royal Hospital Kilmainham\nWhat’s on in Dublin?\nWellFest 2019 in association with KBC\nGet ready for Europe’s largest outdoor health and wellness festival as WellFest 2019 rolls back into town. From dance cardio to zero-waste cooking\, sleep physiology\, a Q&A between Fearne Cotton & Joe Wicks and much more\, this year’s festival is going to be our biggest and best yet! \nWellFest 2019 in association with KBC will take place in the beautiful grounds on the Royal Hospital Kilmainham\, Dublin 8 on 11 and 12 May. Our biggest lineup yet features over 150 health and wellness experts\, over 15 stages and over 150 of the best health and wellness brands. Find the full line-up here\, details on how to get there here and what you can expect here. \nWhat’s on on Saturday?\n\nFitness and yoga expert Amanda Bisk will guide a full-body ‘sculpt’ workout on the KBC Main Stage and a yoga flow in WellYoga. Later in the afternoon\, Kathryn Thomas will host a Q&A with Amanda in the WellTalk area.\nUK fitness experts and personal trainers Alice Liveing\, Faisal Abdalla and Bradley Simmonds will host workout sessions on the KBC Main Stage and in the WellFit area.\nFormer rugby player turned yogi Richie Norton AKA The Strength Temple will host his signature mobility flows on the KBC Main Stage as well as in KBC WellGood and WellYoga.\nIn the WellFood area in association with SuperValu\, bestselling author and entrepreneur Ella Mills\, founder of Deliciously Ella\, will be part of a Q&A discussing ‘Lessons in food\, life and business’.\nRoz Purcell will take part in a Q&A and Philly McMahon will host a fitness class at the expanded KBC WellGood area.\nJennifer Rock\, also known as The Skin Nerd will host a ‘skin school’ talk in WellTalk.\nAt WellMind\, Gerry Hussey and The Mindfulness Centre have curated a full schedule for the weekend\, featuring sessions on mindful communication\, engaging the flow of creativity\, breaking through self-doubt and the foundations of mindfulness.\n\nWhat’s on on Sunday?\n\nFollowing his workout to thousands of attendees last year\, fitness expert The Body Coach\, Joe Wicks returns with his ‘Lean in 15 HIIT’ workout on the KBC Main Stage.\nMixed Martial Arts Coach John Kavanagh will debut the training method ‘Víkingaþrek’ for the first time ever in Ireland in the WellFit area. Later Cassie Stokes will host a Q&A with John at the WellTalk area where he will be joined on-stage by his social-media star brother\, James Kavanagh.\nThe WellTalk stage will host Kathryn Thomas and British broadcaster Fearne Cotton\, followed by Fearne’s one-to-one conversation with Joe Wicks.\nAmerican dance-fitness instructor and creator of ‘The Sculpt Society’\, Megan Roup\, will guide dance-cardio workouts on the KBC Main stage and in KBC WellGood.\nZero-waste vegan chef and sustainability advocate Max La Manna will give a cooking demo in the WellFood area on the tips\, tricks and hacks to cooking for\, and living\, a more sustainable lifestyle.\nYoga sensation Cat Meffan will host yoga flows in WellYoga and on the KBC Main Stage.\nA dance-cardio rave hosted by FRAME will be the closing act of the festival on the KBC Main Stage.\n\nSaturday and Sunday\, 11 and 12 May. Tickets are priced from €78 and are available here
URL:https://desfin.networkvillagecafe.com/event/wellfest-2019/
LOCATION:Royal Hospital Kilmainham\, Kilmainham\, Dublin\, Co. Dublin\, 08\, Ireland
CATEGORIES:Public Events
ATTACH;FMTTYPE=image/jpeg:https://desfin.networkvillagecafe.com/wp-content/uploads/2019/05/wellfest.jpg
ORGANIZER;CN="wellfest.ie":MAILTO:hello@wellfest.ie
END:VEVENT
END:VCALENDAR