BEGIN:VCALENDAR
VERSION:2.0
PRODID:-//NTOI - ECPv6.2.9//NONSGML v1.0//EN
CALSCALE:GREGORIAN
METHOD:PUBLISH
X-WR-CALNAME:NTOI
X-ORIGINAL-URL:https://desfin.networkvillagecafe.com
X-WR-CALDESC:Events for NTOI
REFRESH-INTERVAL;VALUE=DURATION:PT1H
X-Robots-Tag:noindex
X-PUBLISHED-TTL:PT1H
BEGIN:VTIMEZONE
TZID:Europe/Dublin
BEGIN:STANDARD
TZOFFSETFROM:+0000
TZOFFSETTO:+0100
TZNAME:IST
DTSTART:20190331T010000
END:STANDARD
BEGIN:DAYLIGHT
TZOFFSETFROM:+0100
TZOFFSETTO:+0000
TZNAME:GMT
DTSTART:20191027T010000
END:DAYLIGHT
END:VTIMEZONE
BEGIN:VEVENT
DTSTART;TZID=Europe/Dublin:20190910T201500
DTEND;TZID=Europe/Dublin:20191008T211500
DTSTAMP:20260424T035247
CREATED:20190829T151744Z
LAST-MODIFIED:20190829T151847Z
UID:10850-1568146500-1570569300@desfin.networkvillagecafe.com
SUMMARY:Nutrition & Weight Management 5 Week Course with Elsa Jones
DESCRIPTION:
URL:https://desfin.networkvillagecafe.com/event/nutrition-weight-management-5-week-course-with-elsa-jones/
LOCATION:Nutrition  weight management\, 19 Taney Road\, Dundrum\, Dublin\, 14\, Ireland
CATEGORIES:Public Events
ATTACH;FMTTYPE=image/jpeg:https://desfin.networkvillagecafe.com/wp-content/uploads/2019/08/Autumn-poster-high-res-long-2-Elsa.jpg
END:VEVENT
BEGIN:VEVENT
DTSTART;TZID=Europe/Dublin:20190926T200000
DTEND;TZID=Europe/Dublin:20190926T220000
DTSTAMP:20260424T035247
CREATED:20190527T151139Z
LAST-MODIFIED:20190527T151146Z
UID:10001-1569528000-1569535200@desfin.networkvillagecafe.com
SUMMARY:Fermentation Workshop by Helen Cassidy
DESCRIPTION:Fermentation is on the tip of everyone’s tongue. It’s talked about in whispers\, with knowing nods and affirmative winks. We hear all about the benefits of eating fermented foods; healthy digestion\, better mood\, stronger immunity\, and pay lots of money for small jars of goodness. \nBut the true secret of fermentation is that it’s really simple to do at home. With a few techniques and a couple of new habits\, you could be gaining all that benefit for very little money. Fancy learning how? If so\, come along to my fermentation workshop and hear all about it. \nYou will: \n– Learn how to make sauerkraut. Bring home a jar with you \n– Learn how to make kombucha\, and take a scoby with you to get started straight away \n– Learn how to make and use kefir and how to order your grains \n– Try all of the above at a special tasting \nYou’ll definitely learn something new and will get to try some new flavours. \nThe next scheduled date is Thursday\, 26th September 2019. \nTime: 8.00pm to 10.00pm \nLocation: foodhugs kitchen\, Glenageary\, Co. Dublin \nTo book\, please log onto Eventbrite. \nIf you’d like to treat the one you love to a voucher for a Fermentation Workshop\, please click on the Webstore
URL:https://desfin.networkvillagecafe.com/event/fermentation-workshop-by-helen-cassidy/
LOCATION:Foodhugs Kitchen\, Glenageary\, Dublin\, Co. Dublin\, Ireland
CATEGORIES:Public Events
ATTACH;FMTTYPE=image/jpeg:https://desfin.networkvillagecafe.com/wp-content/uploads/2019/05/Sauerkraut_sm.jpg
ORGANIZER;CN="www.foodhugs.ie":MAILTO:foodhugs@gmail.com
END:VEVENT
END:VCALENDAR