BEGIN:VCALENDAR
VERSION:2.0
PRODID:-//NTOI - ECPv6.2.9//NONSGML v1.0//EN
CALSCALE:GREGORIAN
METHOD:PUBLISH
X-WR-CALNAME:NTOI
X-ORIGINAL-URL:https://desfin.networkvillagecafe.com
X-WR-CALDESC:Events for NTOI
REFRESH-INTERVAL;VALUE=DURATION:PT1H
X-Robots-Tag:noindex
X-PUBLISHED-TTL:PT1H
BEGIN:VTIMEZONE
TZID:Europe/Dublin
BEGIN:STANDARD
TZOFFSETFROM:+0000
TZOFFSETTO:+0100
TZNAME:IST
DTSTART:20190331T010000
END:STANDARD
BEGIN:DAYLIGHT
TZOFFSETFROM:+0100
TZOFFSETTO:+0000
TZNAME:GMT
DTSTART:20191027T010000
END:DAYLIGHT
BEGIN:STANDARD
TZOFFSETFROM:+0000
TZOFFSETTO:+0100
TZNAME:IST
DTSTART:20200329T010000
END:STANDARD
BEGIN:DAYLIGHT
TZOFFSETFROM:+0100
TZOFFSETTO:+0000
TZNAME:GMT
DTSTART:20201025T010000
END:DAYLIGHT
BEGIN:STANDARD
TZOFFSETFROM:+0000
TZOFFSETTO:+0100
TZNAME:IST
DTSTART:20210328T010000
END:STANDARD
BEGIN:DAYLIGHT
TZOFFSETFROM:+0100
TZOFFSETTO:+0000
TZNAME:GMT
DTSTART:20211031T010000
END:DAYLIGHT
END:VTIMEZONE
BEGIN:VEVENT
DTSTART;TZID=Europe/Dublin:20191027T123000
DTEND;TZID=Europe/Dublin:20191027T123000
DTSTAMP:20260424T153022
CREATED:20190926T162406Z
LAST-MODIFIED:20190926T162411Z
UID:10910-1572179400-1572179400@desfin.networkvillagecafe.com
SUMMARY:Savour Kilkenny Food Festival - Wellness Stage
DESCRIPTION:Savour Kilkenny Food Festival \n22nd – 28th October 2019. \nLINDA MURRAY & JENNY WHITEMOOD FOOD|GUT-BRAIN CONNECTION\n Sunday 27th October at 12.30pm on The Wellness Stage Join NTOI members Linda Murray and Jenny White from Beoga Nutrition to discover how diet plays a role in our mental health. Learn how dietary and lifestyle factors contribute to low mood and anxiety and leave with practical tips that you can implement straight away. Discover the latest scientific evidence around the gut-brain connection and how it impacts our hormones\, energy\, weight and much more. \nFREE BUT TICKETED. Please reserve your place by emailing KBC Kilkenny – kilkenny@kbc.ie or telephone (056) 7746980.
URL:https://desfin.networkvillagecafe.com/event/savour-kilkenny-food-festival-wellness-stage/
LOCATION:Dublin
CATEGORIES:Public Events
ATTACH;FMTTYPE=image/jpeg:https://desfin.networkvillagecafe.com/wp-content/uploads/2019/09/Beoga-Nutrition-Photo-2.jpg
END:VEVENT
BEGIN:VEVENT
DTSTART;TZID=Europe/Dublin:20191106T193000
DTEND;TZID=Europe/Dublin:20191127T203000
DTSTAMP:20260424T153022
CREATED:20191011T103618Z
LAST-MODIFIED:20191011T103623Z
UID:10969-1573068600-1574886600@desfin.networkvillagecafe.com
SUMMARY:Winter Wellness Series 2019
DESCRIPTION:Nutritional Therapist\, Ciara Beaugé is running four evening talks over four weeks in November in Newtownmountkennedy\, Co Wicklow. Each week a specific topic is covered including how to improve digestion & energy\, balance female hormones and an informative talk on going low carb. Contact Ciara on info@ciarabeaugenutrition.com to book your place. 
URL:https://desfin.networkvillagecafe.com/event/winter-wellness-series-2019/
LOCATION:Dublin
CATEGORIES:Public Events
ATTACH;FMTTYPE=image/jpeg:https://desfin.networkvillagecafe.com/wp-content/uploads/2019/10/ciara-beaugé-nutrition-2.jpg
END:VEVENT
BEGIN:VEVENT
DTSTART;TZID=Europe/Dublin:20191119T093000
DTEND;TZID=Europe/Dublin:20191119T173000
DTSTAMP:20260424T153022
CREATED:20191115T100254Z
LAST-MODIFIED:20191115T114401Z
UID:11042-1574155800-1574184600@desfin.networkvillagecafe.com
SUMMARY:Environment\, Organic Food & Health Convention
DESCRIPTION:The Organic Institute CLG is an Irish registered charity dedicated to the promotion of sustainable organic nutrition and the understanding of its fundamental role in human health and ecology. \nWhere: The Killeshin Hotel\, Portlaoise\, Co Laois. \nWhen: Tuesday 19th November 2019. \nCost: €33.00 \nCPD points: 6.5 for NTOI members. \nTo Book: Click HERE \nThis year’s convention draws together a number of highly regarded speakers\, both national and international\, each expert in their individual field. The one day event will cover a wide range of compelling topics including: \n> The role of food & nutraceuticals in cancer prevention and treatment \n> Urgent requirements around creating a sustainable ecological approach to food production \n> Primacy of healthy soil & best practice farming in producing healthy crops and healthy populations \n> How and why pharmaceutical based medicine is slowly yielding ground to the functional medicine revolution and the nutritional therapy alternative \n> Low carb & Keto diets and human health: if not for all\, who might be best to consider these and why? \n> Mindful medicine: the science behind the mind-body connection \n> A review of where we stand in terms of nutritional & ecological welfare\, now and next \nCONTRIBUTING SPEAKERS: \nProf. Dana Flavin M.D. is a world renowned scientist\, researcher and medical doctor. She serves as honorary Professor at De Montfort University where she lectures in the pharmacology of food nutrients and off-label drugs in cancer care. She has been Advisor to the Director of the Bureau of Toxicology in the U.S. Food & Drug Administration (F.D.A.). Dr Flavin is a world leading authority on non-drug nutrient based adjunctive therapies in cancer medicine. Dana’s topic is Supplemental Therapy in Cancer\, which enhances standard therapies\, decreases side effects\, increases the immune system\, shortens recovery time and prolongs survival. \nDr. Robert Verkerk PhD is an internationally acclaimed\, multi-disciplinary sustainability scientist with a 30-year background in environmental\, agricultural\, food\, nutritional and health sciences. He has a MSc and doctorate from Imperial College London\, where he also worked as a postdoctoral research fellow\, and he is a Fellow of the American College of Nutrition. Rob is the founder\, executive and scientific director of the Alliance for Natural Health International\, a leading non-profit\, research and education organisation seeking to optimise human potential through the use of natural and sustainable approaches to healthcare. \nConor Saunders is one of Ireland’s best known nutritional therapists running busy practices in both Greystones and Galway. His work marries an eclectic interest in all varieties of natural healing together with a solid grounding in science. He specialises in complex\, chronic health issues from autism through chronic fatigue and Lyme disease to cancer. Conor also founded and runs a number of healthfood businesses. His talk is “Going Back to Our Roots\, How and why nutritional therapy\, drawing on the best of medical science and traditional dietary wisdom is fast becoming the new medicine” \nDavid Wilson is a soil scientist and Manager of the Royal Duchy Organic Farms at Highgrove. Prince Charles chose David to manage the process of converting the very substantial Highgrove estates to sustainable\, organic agriculture. David will speak on mixed sustainable/organic farming and the links between soil\, plant\, animal and human health. \nPatricia Daly is an experienced and Internationally recognised Nutritional Therapist (BAH Hon\, dipNT\, mBANT\,rCHNC). Patricia has published books\, including “The Ketogenic Kitchen” which she co-authored with Irish Chef Domini Kemp\, which quickly became a bestseller around the world. Patricia will be speaking on Low Carb Real Food Lifestyles\, who should consider them and why they should be personalised. \nDr. Anthony Sharkey iqualified in medicine (TCD 1982) and was ordained as Buddhist in 1988. He co-founded the Dublin Meditation Centre in 1991 and subsequently introduced over 4\,000 people to meditation and Yoga. He was the medical advisor and meditation teacher on the first Mindfulness course for patients with a medically diagnosed illness run in Ireland. Anthony will run a mini-workshop introducing you to a four-minute self-care routine designed for busy people which doesn’t involve sweating\, meditating or tying yourself in a Yoga knot. This routine has its roots in TCM\, Yoga theory and Western Neuroscience: it will immediately stimulate your immune system. unscramble your energies\, clear your head\, and synchronize your left and right brain. \nGary Healy\, Founder and President of The Organic Institute CLG. will be speaking about The Connection Between Environmental Destruction and Human Chronic Disease. He will speak about Industrial Farming Practices which use toxic chemicals like glyphosate\,and many other adverse practices in the modern production of our foods \nIt is imperative that the causations of climate disaster\, the degradation of our soils\, the toxicity in our food\, air\, water\, and the plastic and toxic pollutions of our oceans is addressed. Otherwise we are leaving a shocking legacy for both our children and our children’s children\, and the real possibility that they will be the last line of defence for the survival of humanity and the planet.
URL:https://desfin.networkvillagecafe.com/event/environment-organic-food-health-convention/
LOCATION:The Killeshin Hotel\, Portlaoise\, Portlaoise\, Co Laois\, Ireland
CATEGORIES:Public Events
ATTACH;FMTTYPE=image/jpeg:https://desfin.networkvillagecafe.com/wp-content/uploads/2019/11/Organic-Institute-convention-image.jpg
END:VEVENT
BEGIN:VEVENT
DTSTART;TZID=Europe/Dublin:20200126T093000
DTEND;TZID=Europe/Dublin:20200126T170000
DTSTAMP:20260424T153022
CREATED:20191220T171152Z
LAST-MODIFIED:20191220T171158Z
UID:11130-1580031000-1580058000@desfin.networkvillagecafe.com
SUMMARY:A Day of Yoga\, Ayurveda\, Nutrition & Natural Beauty
DESCRIPTION:A Day of Yoga\, Ayurveda\, Nutrition & Natural Beauty\nSunday\, 26th January 9.30am – 5pm\nAccording to Ayurveda\, January is not the time to detox\, nurture is still required so that we are prepared for cleansing in Spring. This day will do just that! \nAfter a welcoming cuppa\, Hazel (www.thesamadhicentre.com) will welcome you with a slow flow Hatha Yoga class. Throughout the day Ciara and Hazel will include nutrition talks and practical tips on how to support digestion\, energy levels & hormonal balance while preparing the body for a spring clean. \nWe will encourage time for quiet and inspiration on the unspoiled lands of Slí na Bandé (only 44km – 35 minutes from Dublin). Following this you can sit back and relax in the cosy coffeehouse where we will serve you a nurturing vegetarian lunch by Nutritionist and Natural Chef\, Nicky Halliday ( https://www.nickyhalliday.com/ )  To wrap up Hazel will lead a yoga nidra class to allow the body and mind to open in a nurturing and relaxing way. Leaving you refreshed\, nourished and inspired to take on the new year. \nCost €120 Early bird €99 if book before Christmas.  \nTo Book: https://www.eventbrite.ie/e/a-day-of-yoga-ayurveda-nutrition-natural-beauty-tickets-86616172303?fbclid=IwAR0qQSHRB-VugSFddgQPsInoba0zg_shftBd1MrqmM493NgSsEWH44P658c
URL:https://desfin.networkvillagecafe.com/event/a-day-of-yoga-ayurveda-nutrition-natural-beauty/
LOCATION:Slí na Bandé\, Kilmurray\, Newtownmountkennedy\, Co. Wicklow\, A63 DD78\, Ireland
CATEGORIES:Public Events
ATTACH;FMTTYPE=image/jpeg:https://desfin.networkvillagecafe.com/wp-content/uploads/2019/12/NTOI-public-event-.jpg
END:VEVENT
BEGIN:VEVENT
DTSTART;TZID=Europe/Dublin:20200225T100000
DTEND;TZID=Europe/Dublin:20200225T130000
DTSTAMP:20260424T153022
CREATED:20200130T185305Z
LAST-MODIFIED:20200219T150550Z
UID:11213-1582624800-1582635600@desfin.networkvillagecafe.com
SUMMARY:Fight Fatigue and Fibromyalgia
DESCRIPTION:Fight Fatigue and Fibromyalgia \nEVENT IS SOLD OUT! \nAbout this Event  \nIn association with the Nutritional Therapists of Ireland (NTOI) an information morning\, offering health strategies to help with pain\, will take place 25th February 2020. \nAt this event you will hear from \nSinead Dundon\, Nutritional Therapist\, \nSheila O’Hanlon\, Systematic Kinesiologist and \nJinny Ross Fascial Stretch Therapy Specialist. \nOur goal is to help clients recover energy and try to reduce pain. Additionally\, to allow people to research health strategies for pain relief \nJoin an ongoing support network on Facebook with regular updates for when and if you are ready to try our services. Less fighting the fire of pain and more igniting a fiery passion for life. \nAbout this Event \nThis event takes place in Maldron Hotel\, Limerick on Tuesday 25th February 2020. \n\nRegistration from 9:30\nFirst talk at 10:00\nEvent ends at 13:00\n\nFor More Information \nPlease visit the Website The Tummy TamerEmail thetummytamer@gmail.com orCall +353 879671000. \nhttps://www.youtube.com/watch?v=y_pfu_iMvmwFacebookSheila O Hanlon https://www.facebook.com/sheila.o.hanlon.5Facebook GroupFight Fatigue and Fibromyalgia Facebook Group
URL:https://desfin.networkvillagecafe.com/event/fight-fatigue-and-fibromyalgia/
LOCATION:Maldron Hotel\, Roxboro Road\, Limerick\, Ireland
CATEGORIES:Public Events
ATTACH;FMTTYPE=image/jpeg:https://desfin.networkvillagecafe.com/wp-content/uploads/2020/01/Tummy-Tamer.jpeg
ORGANIZER;CN="The Tummy Tamer":MAILTO:thetummytamer@gmail.com
END:VEVENT
BEGIN:VEVENT
DTSTART;TZID=Europe/Dublin:20200226T190000
DTEND;TZID=Europe/Dublin:20200226T210000
DTSTAMP:20260424T153022
CREATED:20200213T171628Z
LAST-MODIFIED:20200213T171633Z
UID:11257-1582743600-1582750800@desfin.networkvillagecafe.com
SUMMARY:Mood Food & the Gut Brain Connection
DESCRIPTION:Mood Food & the Gut Brain Connection \nJoin Linda Murray & Jenny White from Beoga Nutrition to discover how diet plays a role in our mental health. Learn how dietary and lifestyle factors contribute to low mood and anxiety and leave with practical tips that you can implement straight away. Discover the latest scientific evidence around the gut-brain connection and how it impacts our hormones\, energy\, weight and much more.\n\n\n\nRoisin Cahill\, founder of Roca Healthcare and pharmacist will discuss the different pharmacological interventions available\, including common antidepressants\, how they work and side effects delving into the importance of good gut health and lifestyle with any medicines. \nButler House 26th February 2020 \nTime: 19.00 – 21.00 \nCost: €15  \nAs a part Nutritional Therapy Week \n\nTo Book: https://www.rocahealthcare.com/event-details/mood-food-the-gut
URL:https://desfin.networkvillagecafe.com/event/mood-food-the-gut-brain-connection/
LOCATION:Butler House & Gardens\, 16 Patrick St.\, Kilkenny\, Ireland
CATEGORIES:Public Events
ATTACH;FMTTYPE=image/jpeg:https://desfin.networkvillagecafe.com/wp-content/uploads/2019/09/Beoga-Nutrition-Photo-2.jpg
END:VEVENT
BEGIN:VEVENT
DTSTART;TZID=Europe/Dublin:20200301T100000
DTEND;TZID=Europe/Dublin:20200301T150000
DTSTAMP:20260424T153022
CREATED:20200213T175421Z
LAST-MODIFIED:20200213T175424Z
UID:11269-1583056800-1583074800@desfin.networkvillagecafe.com
SUMMARY:NTOI Healthfest Cork
DESCRIPTION:NTOI Healthfest Cork \nCome and join us for an inspiring and nourishing day with a diverse focus on nutrition talks and topics by Cork’s leading Nutritional Therapists and browse our exhibitor stands. \n10 am – Opening Welcome by Kara Reilly \n10.10 – 10.40 – Selfcare; Learn to understand what happens to the body when it is stressed all the time and what nutrients would help support you. Learn some tools on how to self regulate the body\, keeping it in balance. By Jennifer O’Callaghan\, BSc\, Dip NT\, Health and Wellness Coach. \n10.50 – 11.20 – Introduction to Mindful Eating; A practical approach to enjoying food and eating and to stop the war with your body. By Linn Thorstensson Dip NT\, Mindful Eating & Body Image Coach. \n11.30 – 12.00 – How To Adopt And Maintain A Healthy\, Balanced Vegan Diet For All Life Stages; By Sharon O’Dwyer\, Nutritional Therapist\, Dip NT\, mNTOI \n12.10 – 12.50 – Heart Health – Heart Health is about much more than managing cholesterol. I’ll discuss the latest research on diet and lifestyle & will give easy tips on how to keep your heart happy. By Anneliese Dressel \,Nutritional Therapist MSc. Nutrition\, mNTOI. \n13.00 – 13.30 – The key to the brain is in the gut. Heal your gut to optimise your brain function and mood. By Anne Darcy ND. \n13.40 – 14.10 – ‘How to keep our joints healthy through Nutrition choices\, Supplements and Lifestyle behaviours’ The talk will briefly cover some foods to include for more supple joints and which foods to avoid that may be inflaming your joints. What types of exercises and activities are good for knee health and my top supplements that I recommend for improving joint repair and movement. By Ali Dorgan Nutritional Therapist\, Dip NT\, mNTOI & Neuromuscular therapist. \n14.20 – 14.50 – ‘Stopping the tsunami of diabetes/obesity.’ As a nation we are we getting fatter\, type 2 diabetes is soaring along with chronic illnesses. Learn how understanding the underlying causes can prevent these conditions\, & what dietary changes can put them in to remission. By Erina McSweeney Nutritional Therapist\, Dip NT\, mNTOI. \n14.50 – 15.00 – Closing \nInformation: \n\nDate: Sun\, March 1\, 2020 \nTime: 10:00 AM – 3:00 PM GMT \nLocation: Maryborough Hotel & Spa \n\n \nCost: €10.85\n \nTo Book: https://www.eventbrite.com/e/ntoi-healthfest-cork-tickets-90585113513
URL:https://desfin.networkvillagecafe.com/event/ntoi-healthfest-cork/
LOCATION:Maryborough Hotel\, Cork\, Ireland
CATEGORIES:Public Events
ATTACH;FMTTYPE=image/jpeg:https://desfin.networkvillagecafe.com/wp-content/uploads/2020/02/Eventbrite-Cork-Image-2020.jpg
END:VEVENT
BEGIN:VEVENT
DTSTART;TZID=Europe/Dublin:20200301T130000
DTEND;TZID=Europe/Dublin:20200301T170000
DTSTAMP:20260424T153022
CREATED:20200219T143441Z
LAST-MODIFIED:20200219T143445Z
UID:11284-1583067600-1583082000@desfin.networkvillagecafe.com
SUMMARY:HEALTHFEST 2020 - Nutrition & Wellness Event Sligo
DESCRIPTION:HEALTHFEST 2020 – Nutrition & Wellness Event Sligo\nCome along and spend Sunday afternoon listening\, learning & tasting some lovely healthy treats with 3 of Sligo’s experts in Nutritional Therapy\, \nSiobhan O’Farrell \, Dip NT NTOI\, based in Sligo town\, has a passionate interest in gut health\, hormonal balance and healthy eating for a healthy weight. She will be talking about how to eat well to enhance digestion\, your mental health and general wellness.  \nDoris Rabe Dip NT NTOI \,who specialises in Thyroid and gut issues as well as autoimmune disease\, will be speaking about hormonal balance and it’s effect on our energy and sleep patterns. She will be showing us ways we can address these with diet and lifestye changes and will be doing a cooking demo. \nFinola Curran Dip NT NTOI\, will be discussing healthy ways to lose weight and manage a healthy weight with good food.\nVenue – The Glasshouse Hotel\, Sligo\nDate 1st March\nTime – 1pm – 5pm\nCost €12\n \nTo Book: https://www.eventbrite.ie/e/healthfest-2020-nutrition-wellness-event-tickets-95243356443?aff=efbeventtix
URL:https://desfin.networkvillagecafe.com/event/healthfest-2020-nutrition-wellness-event-sligo/
LOCATION:The Glasshouse Hotel\, Sligo\, Ireland
CATEGORIES:Public Events
ATTACH;FMTTYPE=image/jpeg:https://desfin.networkvillagecafe.com/wp-content/uploads/2020/02/Eventbrite-Image-2020-V1-2.jpg
END:VEVENT
BEGIN:VEVENT
DTSTART;TZID=Europe/Dublin:20200316T190000
DTEND;TZID=Europe/Dublin:20200316T203000
DTSTAMP:20260424T153022
CREATED:20200221T171255Z
LAST-MODIFIED:20200221T171259Z
UID:11313-1584385200-1584390600@desfin.networkvillagecafe.com
SUMMARY:Free Introductory Talk to My 6 week Brain Health Program.
DESCRIPTION:Free Introductory Talk to My 6 week Brain Health Program.\n \nLearn about the 6 Pillars of Health to Optimise Brain Function\n \nWhere: Remedy Pilates and Physiotherapy\, Suite 16 Parklands Office Park\, Southern Cross Road Bray\, Ireland\nWhen: Monday\, 16th March 7pm-8.30pm\n \nTo Book: Ciara Beaugé 087 7731373 / info@ciarabeaugenutrition.com 
URL:https://desfin.networkvillagecafe.com/event/free-introductory-talk-to-my-6-week-brain-health-program/
LOCATION:Dublin
CATEGORIES:Public Events
ATTACH;FMTTYPE=image/jpeg:https://desfin.networkvillagecafe.com/wp-content/uploads/2020/02/A5_TBHP_advert_latest_FREE.jpg
END:VEVENT
BEGIN:VEVENT
DTSTART;TZID=Europe/Dublin:20210917T080000
DTEND;TZID=Europe/Dublin:20211015T170000
DTSTAMP:20260424T153022
CREATED:20210809T113107Z
LAST-MODIFIED:20210809T113116Z
UID:12391-1631865600-1634317200@desfin.networkvillagecafe.com
SUMMARY:Moving Forward\, Living With Courage and Compassion After Cancer
DESCRIPTION:Moving Forward\, Living With Courage and Compassion After Cancer \nThe experience of Illness can leave one feeling disempowered\, out of control and disconnected. This course offers space and the tools to feel empowered again through the practices of yoga\, nutrition and mindfulness\, meditation and self-compassion.  \nIf you are currently recovering from Cancer we would love for your to join.  \nAileen Slien (Yoga Teacher) \nLiz Gale (Nutritional Therapist)  \nKirsetin DeLeo (Meditation Teacher) \nThis 5 week programme scheduled 17th September – 15th October 2021  \n€350 including all courses and content\, lunches and refreshments.  \nTo book:  \nAlieen Slein \naileenslein@gmail.com \n086 0399 358
URL:https://desfin.networkvillagecafe.com/event/moving-forward-living-with-courage-and-compassion-after-cancer/
LOCATION:Dublin
CATEGORIES:Public Events
ATTACH;FMTTYPE=image/jpeg:https://desfin.networkvillagecafe.com/wp-content/uploads/2021/08/Wellness-Programme-Leaflet-JPG2-scaled.jpg
END:VEVENT
END:VCALENDAR