BEGIN:VCALENDAR
VERSION:2.0
PRODID:-//NTOI - ECPv6.2.9//NONSGML v1.0//EN
CALSCALE:GREGORIAN
METHOD:PUBLISH
X-WR-CALNAME:NTOI
X-ORIGINAL-URL:https://desfin.networkvillagecafe.com
X-WR-CALDESC:Events for NTOI
REFRESH-INTERVAL;VALUE=DURATION:PT1H
X-Robots-Tag:noindex
X-PUBLISHED-TTL:PT1H
BEGIN:VTIMEZONE
TZID:Europe/Dublin
BEGIN:STANDARD
TZOFFSETFROM:+0000
TZOFFSETTO:+0100
TZNAME:IST
DTSTART:20190331T010000
END:STANDARD
BEGIN:DAYLIGHT
TZOFFSETFROM:+0100
TZOFFSETTO:+0000
TZNAME:GMT
DTSTART:20191027T010000
END:DAYLIGHT
END:VTIMEZONE
BEGIN:VEVENT
DTSTART;TZID=Europe/Dublin:20190403T180000
DTEND;TZID=Europe/Dublin:20190403T193000
DTSTAMP:20260425T001854
CREATED:20190401T051229Z
LAST-MODIFIED:20190430T001040Z
UID:9401-1554314400-1554319800@desfin.networkvillagecafe.com
SUMMARY:BioCare: The Methylation Connection - Methylation Explained
DESCRIPTION:The Methylation Connection\nMethylation Explained… Free BioCareWebinar\nDate: Weds 3rd April 2019.  \nTime:   6-7.30pm BST (GMT+1) \nMethylation is the body’s ‘biochemical’ language\, underpinning multiple functions. \nJust how important is it\, and when is it essential to consider in relation to other systems such as gut health\, immunity and the nervous system? \nFind out why MTHFR polymorphisms are just one aspect to be concerned about. \nWe look at specific clinical examples of support using our Adaptive Health approach. \n1.5 Hour CPD Pending (BANT\, NNA\, NTOI). \nClick to Book and Register now
URL:https://desfin.networkvillagecafe.com/event/biocare-the-methylation-connection-methylation-explained/
LOCATION:BioCare Online\, United Kingdom
CATEGORIES:CPD Events
ATTACH;FMTTYPE=image/jpeg:https://desfin.networkvillagecafe.com/wp-content/uploads/2019/04/BioCare-logo-for-email-2.jpg
END:VEVENT
END:VCALENDAR